Workbook

Sheet Boys U19
D1: League 1 | E1: League 2 | F1: League 3 | G1: Bonus | H1: Bonus | I1: Bonus | J1: Total
A2: No | B2: Club | C2: Name | G2: Points 1 | H2: Points 2 | I2: Points 2 | J2: Points
A3: 741 | B3: =VLOOKUP(A3,'data 1'!$A$2:$C$1430,2,FALSE) -> #N/A | C3: =VLOOKUP(A3,'data 1'!$A$2:$C$1430,3,FALSE) -> #N/A | D3: 21 | G3: 10 | J3: =SUM(D3:I3) -> 31
A4: 1877 | B4: =VLOOKUP(A4,'data 1'!$A$2:$C$1430,2,FALSE) -> Rathfarnham | C4: =VLOOKUP(A4,'data 1'!$A$2:$C$1430,3,FALSE) -> Daire Sullivan | D4: 19 | G4: 10 | J4: =SUM(D4:I4) -> 29
A5: 577 | B5: =VLOOKUP(A5,'data 1'!$A$2:$C$1430,2,FALSE) -> Celtic | C5: =VLOOKUP(A5,'data 1'!$A$2:$C$1430,3,FALSE) -> Christopher mc Loughlin | D5: 18 | G5: 10 | J5: =SUM(D5:I5) -> 28
A6: 846 | B6: =VLOOKUP(A6,'data 1'!$A$2:$C$1430,2,FALSE) -> DSD | C6: =VLOOKUP(A6,'data 1'!$A$2:$C$1430,3,FALSE) -> Javae St. Lewis | D6: 17 | G6: 10 | J6: =SUM(D6:I6) -> 27
J65: =SUM(D65:I65) -> 0
J66: =SUM(D66:I66) -> 0
J67: =SUM(D67:I67) -> 0
J68: =SUM(D68:I68) -> 0
J69: =SUM(D69:I69) -> 0
J70: =SUM(D70:I70) -> 0
J71: =SUM(D71:I71) -> 0
J72: =SUM(D72:I72) -> 0
J73: =SUM(D73:I73) -> 0
J74: =SUM(D74:I74) -> 0
J75: =SUM(D75:I75) -> 0
J76: =SUM(D76:I76) -> 0
... J86: =SUM(D86:I86) -> 0

Sheet Boys U18
D1: League 1 | E1: League 2 | F1: League 3 | G1: Bonus | H1: Bonus | I1: Bonus | J1: Total
A2: No | B2: Name | C2: Club | G2: Points 1 | H2: Points 2 | I2: Points 2 | J2: Points
A3: 1999/7 | B3: =VLOOKUP(A3,'data 1'!$A$2:$C$1430,2,FALSE) -> Skerries | C3: =VLOOKUP(A3,'data 1'!$A$2:$C$1430,3,FALSE) -> Liam Forbes Halpin | D3: 21 | G3: 10 | J3: =SUM(D3:I3) -> 31
A4: 1601 | B4: =VLOOKUP(A4,'data 1'!$A$2:$C$1430,2,FALSE) -> Portmarnock | C4: =VLOOKUP(A4,'data 1'!$A$2:$C$1430,3,FALSE) -> Callum Marshall | D4: 19 | G4: 10 | J4: =SUM(D4:I4) -> 29
A5: 2010 | B5: =VLOOKUP(A5,'data 1'!$A$2:$C$1430,2,FALSE) -> Tallaght | C5: =VLOOKUP(A5,'data 1'!$A$2:$C$1430,3,FALSE) -> Moss Grace | D5: 18 | G5: 10 | J5: =SUM(D5:I5) -> 28
J25: =SUM(D25:I25) -> 0
J26: =SUM(D26:I26) -> 0
J27: =SUM(D27:I27) -> 0
J28: =SUM(D28:I28) -> 0
J29: =SUM(D29:I29) -> 0
J30: =SUM(D30:I30) -> 0
J31: =SUM(D31:I31) -> 0
J32: =SUM(D32:I32) -> 0
J33: =SUM(D33:I33) -> 0
J34: =SUM(D34:I34) -> 0
J35: =SUM(D35:I35) -> 0
J36: =SUM(D36:I36) -> 0
... J86: =SUM(D86:I86) -> 0

Sheet Boys U17
D1: League 1 | E1: League 2 | F1: League 3 | G1: Bonus | H1: Bonus | I1: Bonus | J1: Total
A2: No | B2: Name | C2: Club | G2: Points 1 | H2: Points 2 | I2: Points 2 | J2: Points
A3: 739 | B3: Thomas Bolton | C3: Donore Harriers | D3: 21 | G3: 10 | J3: =SUM(D3:I3) -> 31
A4: 1299/30 | B4: =VLOOKUP(A4,'data 1'!$A$2:$C$1430,2,FALSE) -> Lucan | C4: =VLOOKUP(A4,'data 1'!$A$2:$C$1430,3,FALSE) -> Murphy Cillian | D4: 19 | G4: 10 | J4: =SUM(D4:I4) -> 29
A5: 2321 | B5: =VLOOKUP(A5,'data 1'!$A$2:$C$1430,2,FALSE) -> Crusaders | C5: =VLOOKUP(A5,'data 1'!$A$2:$C$1430,3,FALSE) -> Oscar Sherry | D5: 18 | G5: 10 | J5: =SUM(D5:I5) -> 28
A6: 738 | B6: Thomas Bolton | C6: Donore Harriers | D6: 17 | G6: 10 | J6: =SUM(D6:I6) -> 27
A7: 1529 | B7: =VLOOKUP(A7,'data 1'!$A$2:$C$1430,2,FALSE) -> Mid Sutton | C7: =VLOOKUP(A7,'data 1'!$A$2:$C$1430,3,FALSE) -> David Smith | D7: 16 | G7: 10 | J7: =SUM(D7:I7) -> 26
J48: =SUM(D48:I48) -> 0
J49: =SUM(D49:I49) -> 0
J50: =SUM(D50:I50) -> 0
J51: =SUM(D51:I51) -> 0
J52: =SUM(D52:I52) -> 0
J53: =SUM(D53:I53) -> 0
J54: =SUM(D54:I54) -> 0
J55: =SUM(D55:I55) -> 0
J56: =SUM(D56:I56) -> 0
J57: =SUM(D57:I57) -> 0
J58: =SUM(D58:I58) -> 0
J59: =SUM(D59:I59) -> 0
... J86: =SUM(D86:I86) -> 0

Sheet Boys U16
D1: League 1 | E1: League 2 | F1: League 3 | G1: Bonus | H1: Bonus | I1: Bonus | J1: Total
A2: No | B2: Name | C2: Club | G2: Points 1 | H2: Points 2 | I2: Points 2 | J2: Points
A3: 836 | B3: =VLOOKUP(A3,'data 1'!$A$2:$C$1430,2,FALSE) -> DSD | C3: =VLOOKUP(A3,'data 1'!$A$2:$C$1430,3,FALSE) -> Sean Healy | D3: 21 | G3: 10 | J3: =SUM(D3:I3) -> 31
A4: 732 | B4: Charlie White | C4: Donore Harriers | D4: 19 | G4: 10 | J4: =SUM(D4:I4) -> 29
A5: 1491 | B5: =VLOOKUP(A5,'data 1'!$A$2:$C$1430,2,FALSE) -> MSB | C5: =VLOOKUP(A5,'data 1'!$A$2:$C$1430,3,FALSE) -> Sean O'Meara | D5: 18 | G5: 10 | J5: =SUM(D5:I5) -> 28
A6: 4095 | B6: =VLOOKUP(A6,'data 1'!$A$2:$C$1430,2,FALSE) -> Cabinteely | C6: =VLOOKUP(A6,'data 1'!$A$2:$C$1430,3,FALSE) -> Jake Keegan | D6: 17 | G6: 10 | J6: =SUM(D6:I6) -> 27
A7: 733 | B7: Lucas Collender | C7: Donore Harriers | D7: 16 | G7: 10 | J7: =SUM(D7:I7) -> 26
A8: 1299/25 | B8: =VLOOKUP(A8,'data 1'!$A$2:$C$1430,2,FALSE) -> Lucan | C8: =VLOOKUP(A8,'data 1'!$A$2:$C$1430,3,FALSE) -> Collins Diarmuid | D8: 15 | G8: 10 | J8: =SUM(D8:I8) -> 25
A9: 294 | B9: =VLOOKUP(A9,'data 1'!$A$2:$C$1430,2,FALSE) -> Blackrock | C9: =VLOOKUP(A9,'data 1'!$A$2:$C$1430,3,FALSE) -> Cillian O Mir | D9: 14 | G9: 10 | J9: =SUM(D9:I9) -> 24
A10: 1492 | B10: =VLOOKUP(A10,'data 1'!$A$2:$C$1430,2,FALSE) -> MSB | C10: =VLOOKUP(A10,'data 1'!$A$2:$C$1430,3,FALSE) -> Daire Macken | D10: 13 | G10: 10 | J10: =SUM(D10:I10) -> 23
A11: 1940 | B11: =VLOOKUP(A11,'data 1'!$A$2:$C$1430,2,FALSE) -> Skerries | C11: =VLOOKUP(A11,'data 1'!$A$2:$C$1430,3,FALSE) -> Conor Gordon | D11: 12 | G11: 10 | J11: =SUM(D11:I11) -> 22
A12: 1741 | B12: =VLOOKUP(A12,'data 1'!$A$2:$C$1430,2,FALSE) -> Raheny | C12: =VLOOKUP(A12,'data 1'!$A$2:$C$1430,3,FALSE) -> Seppii Baumeister | D12: 11 | G12: 10 | J12: =SUM(D12:I12) -> 21
J34: =SUM(D34:I34) -> 0
J35: =SUM(D35:I35) -> 0
J36: =SUM(D36:I36) -> 0
J37: =SUM(D37:I37) -> 0
J38: =SUM(D38:I38) -> 0
J39: =SUM(D39:I39) -> 0
J40: =SUM(D40:I40) -> 0
J41: =SUM(D41:I41) -> 0
J42: =SUM(D42:I42) -> 0
J43: =SUM(D43:I43) -> 0
J44: =SUM(D44:I44) -> 0
J45: =SUM(D45:I45) -> 0
... J86: =SUM(D86:I86) -> 0

Sheet Boys U15
D1: League 1 | E1: League 2 | F1: League 3 | G1: Bonus | H1: Bonus | I1: Bonus | J1: Total
A2: No | B2: Club | C2: Name | G2: Points 1 | H2: Points 2 | I2: Points 2 | J2: Points
A3: 731 | B3: Donore Harriers | C3: Liam Morris | D3: 21 | G3: 10 | J3: =SUM(D3:I3) -> 31
A4: 1340 | B4: =VLOOKUP(A4,'data 1'!$A$2:$C$1430,2,FALSE) -> Lusk | C4: =VLOOKUP(A4,'data 1'!$A$2:$C$1430,3,FALSE) -> Conor McGuirk | D4: 19 | G4: 10 | J4: =SUM(D4:I4) -> 29
A5: 1299/10 | B5: =VLOOKUP(A5,'data 1'!$A$2:$C$1430,2,FALSE) -> Lucan | C5: =VLOOKUP(A5,'data 1'!$A$2:$C$1430,3,FALSE) -> Ciomek Jacob | D5: 18 | G5: 10 | J5: =SUM(D5:I5) -> 28
A6: 1299/16 | B6: =VLOOKUP(A6,'data 1'!$A$2:$C$1430,2,FALSE) -> Lucan | C6: =VLOOKUP(A6,'data 1'!$A$2:$C$1430,3,FALSE) -> McDonagh Ferdia | D6: 17 | G6: 10 | J6: =SUM(D6:I6) -> 27
A7: 291 | B7: =VLOOKUP(A7,'data 1'!$A$2:$C$1430,2,FALSE) -> Blackrock | C7: =VLOOKUP(A7,'data 1'!$A$2:$C$1430,3,FALSE) -> Harry Moran | D7: 16 | G7: 10 | J7: =SUM(D7:I7) -> 26
A8: 1800 | B8: =VLOOKUP(A8,'data 1'!$A$2:$C$1430,2,FALSE) -> Rathfarnham | C8: =VLOOKUP(A8,'data 1'!$A$2:$C$1430,3,FALSE) -> Aidan O' Connor | D8: 15 | G8: 10 | J8: =SUM(D8:I8) -> 25
A9: 2320 | B9: =VLOOKUP(A9,'data 1'!$A$2:$C$1430,2,FALSE) -> Crusaders | C9: =VLOOKUP(A9,'data 1'!$A$2:$C$1430,3,FALSE) -> Lucas Ryan | D9: 14 | G9: 10 | J9: =SUM(D9:I9) -> 24
A10: 1299/13 | B10: =VLOOKUP(A10,'data 1'!$A$2:$C$1430,2,FALSE) -> Lucan | C10: =VLOOKUP(A10,'data 1'!$A$2:$C$1430,3,FALSE) -> Hughes Charlie | D10: 13 | G10: 10 | J10: =SUM(D10:I10) -> 23
A11: 1400/21 | B11: =VLOOKUP(A11,'data 1'!$A$2:$C$1430,2,FALSE) -> MSB | C11: =VLOOKUP(A11,'data 1'!$A$2:$C$1430,3,FALSE) -> Adam Kelly | D11: 12 | G11: 10 | J11: =SUM(D11:I11) -> 22
A12: 1299/18 | B12: =VLOOKUP(A12,'data 1'!$A$2:$C$1430,2,FALSE) -> Lucan | C12: =VLOOKUP(A12,'data 1'!$A$2:$C$1430,3,FALSE) -> Quinn Davis | D12: 11 | G12: 10 | J12: =SUM(D12:I12) -> 21
A13: 2109 | B13: =VLOOKUP(A13,'data 1'!$A$2:$C$1430,2,FALSE) -> Templeogue | C13: =VLOOKUP(A13,'data 1'!$A$2:$C$1430,3,FALSE) -> Shane Farrelly | D13: 10 | G13: 10 | J13: =SUM(D13:I13) -> 20
A14: 1400/19 | B14: =VLOOKUP(A14,'data 1'!$A$2:$C$1430,2,FALSE) -> MSB | C14: =VLOOKUP(A14,'data 1'!$A$2:$C$1430,3,FALSE) -> Daniel Leoca | D14: 9 | G14: 10 | J14: =SUM(D14:I14) -> 19
A15: 1299/14 | B15: =VLOOKUP(A15,'data 1'!$A$2:$C$1430,2,FALSE) -> Lucan | C15: =VLOOKUP(A15,'data 1'!$A$2:$C$1430,3,FALSE) -> MacFiaich Donncha | D15: 8 | G15: 10 | J15: =SUM(D15:I15) -> 18
A16: 726 | B16: Donore Harriers | C16: Daniel Hughes | D16: 7 | G16: 10 | J16: =SUM(D16:I16) -> 17
A17: 1862 | B17: =VLOOKUP(A17,'data 1'!$A$2:$C$1430,2,FALSE) -> Rathfarnham | C17: =VLOOKUP(A17,'data 1'!$A$2:$C$1430,3,FALSE) -> Mark Quinlan | D17: 6 | G17: 10 | J17: =SUM(D17:I17) -> 16
A18: 1330 | B18: =VLOOKUP(A18,'data 1'!$A$2:$C$1430,2,FALSE) -> Lusk | C18: =VLOOKUP(A18,'data 1'!$A$2:$C$1430,3,FALSE) -> Sean Ferguson | D18: 5 | G18: 10 | J18: =SUM(D18:I18) -> 15
A19: 730 | B19: Donore Harriers | C19: Aryell Sheedy | D19: 4 | G19: 10 | J19: =SUM(D19:I19) -> 14
A20: 1299/15 | B20: =VLOOKUP(A20,'data 1'!$A$2:$C$1430,2,FALSE) -> Lucan | C20: =VLOOKUP(A20,'data 1'!$A$2:$C$1430,3,FALSE) -> Maye Eoghan | D20: 3 | G20: 10 | J20: =SUM(D20:I20) -> 13
A21: 1987 | B21: =VLOOKUP(A21,'data 1'!$A$2:$C$1430,2,FALSE) -> Skerries | C21: =VLOOKUP(A21,'data 1'!$A$2:$C$1430,3,FALSE) -> James Walls | D21: 2 | G21: 10 | J21: =SUM(D21:I21) -> 12
A22: 600/24 | B22: =VLOOKUP(A22,'data 1'!$A$2:$C$1430,2,FALSE) -> Clonliffe | C22: =VLOOKUP(A22,'data 1'!$A$2:$C$1430,3,FALSE) -> Aaron Mc Kenna | D22: 1 | G22: 10 | J22: =SUM(D22:I22) -> 11
A23: 1299/12 | B23: =VLOOKUP(A23,'data 1'!$A$2:$C$1430,2,FALSE) -> Lucan | C23: =VLOOKUP(A23,'data 1'!$A$2:$C$1430,3,FALSE) -> Fais Davide | G23: 10 | J23: =SUM(D23:I23) -> 10
A24: 1400/20 | B24: =VLOOKUP(A24,'data 1'!$A$2:$C$1430,2,FALSE) -> MSB | C24: =VLOOKUP(A24,'data 1'!$A$2:$C$1430,3,FALSE) -> Peter Brennan | G24: 10 | J24: =SUM(D24:I24) -> 10
A25: 2603 | B25: =VLOOKUP(A25,'data 1'!$A$2:$C$1430,2,FALSE) -> Rathcoole | C25: =VLOOKUP(A25,'data 1'!$A$2:$C$1430,3,FALSE) -> Ryan O’Callaghan | G25: 10 | J25: =SUM(D25:I25) -> 10
A26: 727 | B26: Donore Harriers | C26: Donore Harriers | G26: 10 | J26: =SUM(D26:I26) -> 10
A27: 600/30 | B27: =VLOOKUP(A27,'data 1'!$A$2:$C$1430,2,FALSE) -> Clonliffe | C27: =VLOOKUP(A27,'data 1'!$A$2:$C$1430,3,FALSE) -> Liam Arthur | G27: 10 | J27: =SUM(D27:I27) -> 10
A28: 1528 | B28: =VLOOKUP(A28,'data 1'!$A$2:$C$1430,2,FALSE) -> Mid Sutton | C28: =VLOOKUP(A28,'data 1'!$A$2:$C$1430,3,FALSE) -> Conor Smith | G28: 10 | J28: =SUM(D28:I28) -> 10
A29: 2908 | B29: Clongriffin | C29: Zac Dullaghan | G29: 10 | J29: =SUM(D29:I29) -> 10
A30: 1299/19 | B30: =VLOOKUP(A30,'data 1'!$A$2:$C$1430,2,FALSE) -> Lucan | C30: =VLOOKUP(A30,'data 1'!$A$2:$C$1430,3,FALSE) -> Scallan Darragh | G30: 10 | J30: =SUM(D30:I30) -> 10
A31: 600/31 | B31: =VLOOKUP(A31,'data 1'!$A$2:$C$1430,2,FALSE) -> Clonliffe | C31: =VLOOKUP(A31,'data 1'!$A$2:$C$1430,3,FALSE) -> Tadhg Cowley | G31: 10 | J31: =SUM(D31:I31) -> 10
A32: 728 | B32: Donore Harriers | C32: Aaron Callanan | G32: 10 | J32: =SUM(D32:I32) -> 10
A33: 1999/49 | B33: =VLOOKUP(A33,'data 1'!$A$2:$C$1430,2,FALSE) -> Skerries | C33: =VLOOKUP(A33,'data 1'!$A$2:$C$1430,3,FALSE) -> Rory Walsh | G33: 10 | J33: =SUM(D33:I33) -> 10
J46: =SUM(D46:I46) -> 0
J47: =SUM(D47:I47) -> 0
J48: =SUM(D48:I48) -> 0
J49: =SUM(D49:I49) -> 0
J50: =SUM(D50:I50) -> 0
J51: =SUM(D51:I51) -> 0
J52: =SUM(D52:I52) -> 0
J53: =SUM(D53:I53) -> 0
J54: =SUM(D54:I54) -> 0
J55: =SUM(D55:I55) -> 0
J56: =SUM(D56:I56) -> 0
J57: =SUM(D57:I57) -> 0
... J86: =SUM(D86:I86) -> 0

Sheet Boys U14
D1: League 1 | E1: League 2 | F1: League 3 | G1: Bonus | H1: Bonus | I1: Bonus | J1: Total
A2: No | B2: Club | C2: Name | G2: Points 1 | H2: Points 2 | I2: Points 2 | J2: Points
A3: 1524 | B3: =VLOOKUP(A3,'data 1'!$A$2:$C$1430,2,FALSE) -> Mid Sutton | C3: =VLOOKUP(A3,'data 1'!$A$2:$C$1430,3,FALSE) -> Charlie O'Neill | D3: 21 | G3: 10 | J3: =SUM(D3:I3) -> 31
A4: 285 | B4: =VLOOKUP(A4,'data 1'!$A$2:$C$1430,2,FALSE) -> Blackrock | C4: =VLOOKUP(A4,'data 1'!$A$2:$C$1430,3,FALSE) -> Matthew O’Donnell | D4: 19 | G4: 10 | J4: =SUM(D4:I4) -> 29
A5: 1858 | B5: =VLOOKUP(A5,'data 1'!$A$2:$C$1430,2,FALSE) -> Rathfarnham | C5: =VLOOKUP(A5,'data 1'!$A$2:$C$1430,3,FALSE) -> Soren Doyle | D5: 18 | G5: 10 | J5: =SUM(D5:I5) -> 28
A6: 1299/3 | B6: =VLOOKUP(A6,'data 1'!$A$2:$C$1430,2,FALSE) -> Lucan | C6: =VLOOKUP(A6,'data 1'!$A$2:$C$1430,3,FALSE) -> Bracken Joe | D6: 17 | G6: 10 | J6: =SUM(D6:I6) -> 27
A7: 720 | B7: Donore Harriers | C7: Eoin Mooney | D7: 16 | G7: 10 | J7: =SUM(D7:I7) -> 26
A8: 1833 | B8: =VLOOKUP(A8,'data 1'!$A$2:$C$1430,2,FALSE) -> Rathfarnham | C8: =VLOOKUP(A8,'data 1'!$A$2:$C$1430,3,FALSE) -> Rachael Lawlor | D8: 15 | G8: 10 | J8: =SUM(D8:I8) -> 25
A9: 1859 | B9: =VLOOKUP(A9,'data 1'!$A$2:$C$1430,2,FALSE) -> Rathfarnham | C9: =VLOOKUP(A9,'data 1'!$A$2:$C$1430,3,FALSE) -> Cohen Doyle | D9: 14 | G9: 10 | J9: =SUM(D9:I9) -> 24
A10: 600/8 | B10: =VLOOKUP(A10,'data 1'!$A$2:$C$1430,2,FALSE) -> Clonliffe | C10: =VLOOKUP(A10,'data 1'!$A$2:$C$1430,3,FALSE) -> Sean Sinopluoglu | D10: 13 | G10: 10 | J10: =SUM(D10:I10) -> 23
A11: 1400/13 | B11: =VLOOKUP(A11,'data 1'!$A$2:$C$1430,2,FALSE) -> MSB | C11: =VLOOKUP(A11,'data 1'!$A$2:$C$1430,3,FALSE) -> Cillian Flood | D11: 12 | G11: 10 | J11: =SUM(D11:I11) -> 22
A12: 1525 | B12: =VLOOKUP(A12,'data 1'!$A$2:$C$1430,2,FALSE) -> Mid Sutton | C12: =VLOOKUP(A12,'data 1'!$A$2:$C$1430,3,FALSE) -> Elliott McMahon | D12: 11 | G12: 10 | J12: =SUM(D12:I12) -> 21
A13: 1299/5 | B13: =VLOOKUP(A13,'data 1'!$A$2:$C$1430,2,FALSE) -> Lucan | C13: =VLOOKUP(A13,'data 1'!$A$2:$C$1430,3,FALSE) -> O'Flaherty Sean | D13: 10 | G13: 10 | J13: =SUM(D13:I13) -> 20
A14: 1400/15 | B14: =VLOOKUP(A14,'data 1'!$A$2:$C$1430,2,FALSE) -> MSB | C14: =VLOOKUP(A14,'data 1'!$A$2:$C$1430,3,FALSE) -> Luke Costello | D14: 9 | G14: 10 | J14: =SUM(D14:I14) -> 19
A15: 1730 | B15: =VLOOKUP(A15,'data 1'!$A$2:$C$1430,2,FALSE) -> Raheny | C15: =VLOOKUP(A15,'data 1'!$A$2:$C$1430,3,FALSE) -> Joseph kirwin | D15: 8 | G15: 10 | J15: =SUM(D15:I15) -> 18
A16: 1400/14 | B16: =VLOOKUP(A16,'data 1'!$A$2:$C$1430,2,FALSE) -> MSB | C16: =VLOOKUP(A16,'data 1'!$A$2:$C$1430,3,FALSE) -> Dara Costello | D16: 7 | G16: 10 | J16: =SUM(D16:I16) -> 17
A17: 283 | B17: =VLOOKUP(A17,'data 1'!$A$2:$C$1430,2,FALSE) -> Blackrock | C17: =VLOOKUP(A17,'data 1'!$A$2:$C$1430,3,FALSE) -> Conor Barker | D17: 6 | G17: 10 | J17: =SUM(D17:I17) -> 16
A18: 4164 | B18: Cabinteely | D18: 5 | G18: 10 | J18: =SUM(D18:I18) -> 15
A19: 2303 | B19: =VLOOKUP(A19,'data 1'!$A$2:$C$1430,2,FALSE) -> Crusaders | C19: =VLOOKUP(A19,'data 1'!$A$2:$C$1430,3,FALSE) -> Peter Woods | D19: 4 | G19: 10 | J19: =SUM(D19:I19) -> 14
A20: 1729 | B20: =VLOOKUP(A20,'data 1'!$A$2:$C$1430,2,FALSE) -> Raheny | C20: =VLOOKUP(A20,'data 1'!$A$2:$C$1430,3,FALSE) -> Cillian cooney | D20: 3 | G20: 10 | J20: =SUM(D20:I20) -> 13
A21: 551 | B21: =VLOOKUP(A21,'data 1'!$A$2:$C$1430,2,FALSE) -> Celtic | C21: =VLOOKUP(A21,'data 1'!$A$2:$C$1430,3,FALSE) -> Hugh O Connor | D21: 2 | G21: 10 | J21: =SUM(D21:I21) -> 12
A22: 2317 | B22: =VLOOKUP(A22,'data 1'!$A$2:$C$1430,2,FALSE) -> Crusaders | C22: =VLOOKUP(A22,'data 1'!$A$2:$C$1430,3,FALSE) -> Harry Alexander | D22: 1 | G22: 10 | J22: =SUM(D22:I22) -> 11
A23: 600/7 | B23: =VLOOKUP(A23,'data 1'!$A$2:$C$1430,2,FALSE) -> Clonliffe | C23: =VLOOKUP(A23,'data 1'!$A$2:$C$1430,3,FALSE) -> Sean Henry | G23: 10 | J23: =SUM(D23:I23) -> 10
A24: 698 | B24: =VLOOKUP(A24,'data 1'!$A$2:$C$1430,2,FALSE) -> Clonliffe | C24: =VLOOKUP(A24,'data 1'!$A$2:$C$1430,3,FALSE) -> Conor Phelan | G24: 10 | J24: =SUM(D24:I24) -> 10
A25: 722 | B25: Donore Harriers | C25: Conor O'Neill | G25: 10 | J25: =SUM(D25:I25) -> 10
A26: 600/1 | B26: =VLOOKUP(A26,'data 1'!$A$2:$C$1430,2,FALSE) -> Clonliffe | C26: =VLOOKUP(A26,'data 1'!$A$2:$C$1430,3,FALSE) -> Fiachra O Donovan | G26: 10 | J26: =SUM(D26:I26) -> 10
A27: 300/24 | B27: =VLOOKUP(A27,'data 1'!$A$2:$C$1430,2,FALSE) -> Bros Pearse | C27: =VLOOKUP(A27,'data 1'!$A$2:$C$1430,3,FALSE) -> Dian Dunne | G27: 10 | J27: =SUM(D27:I27) -> 10
A28: 723 | B28: Donore Harriers | C28: Declan Creedon | G28: 10 | J28: =SUM(D28:I28) -> 10
A29: 1882 | B29: =VLOOKUP(A29,'data 1'!$A$2:$C$1430,2,FALSE) -> Rathfarnham | C29: =VLOOKUP(A29,'data 1'!$A$2:$C$1430,3,FALSE) -> Alexander Dunne Martin | G29: 10 | J29: =SUM(D29:I29) -> 10
A30: 1150 | B30: =VLOOKUP(A30,'data 1'!$A$2:$C$1430,2,FALSE) -> LSA | C30: =VLOOKUP(A30,'data 1'!$A$2:$C$1430,3,FALSE) -> Reuben Capocci | G30: 10 | J30: =SUM(D30:I30) -> 10
A31: 286 | B31: =VLOOKUP(A31,'data 1'!$A$2:$C$1430,2,FALSE) -> Blackrock | C31: =VLOOKUP(A31,'data 1'!$A$2:$C$1430,3,FALSE) -> Rachel Dunphy | G31: 10 | J31: =SUM(D31:I31) -> 10
A32: 284 | B32: =VLOOKUP(A32,'data 1'!$A$2:$C$1430,2,FALSE) -> Blackrock | C32: =VLOOKUP(A32,'data 1'!$A$2:$C$1430,3,FALSE) -> James Keaney | G32: 10 | J32: =SUM(D32:I32) -> 10
A33: 282 | B33: =VLOOKUP(A33,'data 1'!$A$2:$C$1430,2,FALSE) -> Blackrock | C33: =VLOOKUP(A33,'data 1'!$A$2:$C$1430,3,FALSE) -> Charlie Lyons | G33: 10 | J33: =SUM(D33:I33) -> 10
A34: 1335 | B34: =VLOOKUP(A34,'data 1'!$A$2:$C$1430,2,FALSE) -> Lusk | C34: =VLOOKUP(A34,'data 1'!$A$2:$C$1430,3,FALSE) -> Niall Lenahan | G34: 10 | J34: =SUM(D34:I34) -> 10
A35: 2318 | B35: =VLOOKUP(A35,'data 1'!$A$2:$C$1430,2,FALSE) -> Crusaders | C35: =VLOOKUP(A35,'data 1'!$A$2:$C$1430,3,FALSE) -> Luke Aslin | G35: 10 | J35: =SUM(D35:I35) -> 10
A36: 1151 | B36: =VLOOKUP(A36,'data 1'!$A$2:$C$1430,2,FALSE) -> LSA | C36: =VLOOKUP(A36,'data 1'!$A$2:$C$1430,3,FALSE) -> Liam Handley | G36: 10 | J36: =SUM(D36:I36) -> 10
J81: =SUM(D81:I81) -> 0
J82: =SUM(D82:I82) -> 0
J83: =SUM(D83:I83) -> 0
J84: =SUM(D84:I84) -> 0
J85: =SUM(D85:I85) -> 0
J86: =SUM(D86:I86) -> 0

Sheet Boys U13
D1: League 1 | E1: League 2 | F1: League 3 | G1: Bonus | H1: Bonus | I1: Bonus | J1: Total
A2: No | B2: Name | C2: Club | G2: Points 1 | H2: Points 2 | I2: Points 2 | J2: Points
A3: 2108 | B3: =VLOOKUP(A3,'data 1'!$A$2:$C$1430,2,FALSE) -> Templeogue | C3: =VLOOKUP(A3,'data 1'!$A$2:$C$1430,3,FALSE) -> Adam Noone | D3: 21 | G3: 10 | J3: =SUM(D3:I3) -> 31
A4: 2105 | B4: =VLOOKUP(A4,'data 1'!$A$2:$C$1430,2,FALSE) -> Templeogue | C4: =VLOOKUP(A4,'data 1'!$A$2:$C$1430,3,FALSE) -> Sam Deegan | D4: 19 | G4: 10 | J4: =SUM(D4:I4) -> 29
A5: 1289 | B5: =VLOOKUP(A5,'data 1'!$A$2:$C$1430,2,FALSE) -> Lucan | C5: =VLOOKUP(A5,'data 1'!$A$2:$C$1430,3,FALSE) -> Abbott Conor | D5: 18 | G5: 10 | J5: =SUM(D5:I5) -> 28
A6: 1518 | B6: =VLOOKUP(A6,'data 1'!$A$2:$C$1430,2,FALSE) -> Mid Sutton | C6: =VLOOKUP(A6,'data 1'!$A$2:$C$1430,3,FALSE) -> Ben Keating | D6: 17 | G6: 10 | J6: =SUM(D6:I6) -> 27
A7: 2112 | B7: =VLOOKUP(A7,'data 1'!$A$2:$C$1430,2,FALSE) -> Templeogue | C7: =VLOOKUP(A7,'data 1'!$A$2:$C$1430,3,FALSE) -> Eabhan McNicholas | D7: 16 | G7: 10 | J7: =SUM(D7:I7) -> 26
A8: 2113 | B8: =VLOOKUP(A8,'data 1'!$A$2:$C$1430,2,FALSE) -> Templeogue | C8: =VLOOKUP(A8,'data 1'!$A$2:$C$1430,3,FALSE) -> Rodrigo Legas | D8: 15 | G8: 10 | J8: =SUM(D8:I8) -> 25
A9: 4101 | B9: =VLOOKUP(A9,'data 1'!$A$2:$C$1430,2,FALSE) -> Cabinteely | C9: =VLOOKUP(A9,'data 1'!$A$2:$C$1430,3,FALSE) -> Cillian Kelly | D9: 14 | G9: 10 | J9: =SUM(D9:I9) -> 24
A10: 680 | B10: =VLOOKUP(A10,'data 1'!$A$2:$C$1430,2,FALSE) -> Clonliffe | C10: =VLOOKUP(A10,'data 1'!$A$2:$C$1430,3,FALSE) -> Shane Mc Dermott | D10: 13 | G10: 10 | J10: =SUM(D10:I10) -> 23
A11: 398 | B11: =VLOOKUP(A11,'data 1'!$A$2:$C$1430,2,FALSE) -> Bros Pearse | C11: =VLOOKUP(A11,'data 1'!$A$2:$C$1430,3,FALSE) -> Oscar Mc Mahon | D11: 12 | G11: 10 | J11: =SUM(D11:I11) -> 22
A12: 802 | B12: =VLOOKUP(A12,'data 1'!$A$2:$C$1430,2,FALSE) -> DSD | C12: =VLOOKUP(A12,'data 1'!$A$2:$C$1430,3,FALSE) -> Conor Pimlott | D12: 11 | G12: 10 | J12: =SUM(D12:I12) -> 21
A13: 1873 | B13: =VLOOKUP(A13,'data 1'!$A$2:$C$1430,2,FALSE) -> Rathfarnham | C13: =VLOOKUP(A13,'data 1'!$A$2:$C$1430,3,FALSE) -> Sean Cantwell | D13: 10 | G13: 10 | J13: =SUM(D13:I13) -> 20
A14: 1499/4 | B14: =VLOOKUP(A14,'data 1'!$A$2:$C$1430,2,FALSE) -> MSB | C14: =VLOOKUP(A14,'data 1'!$A$2:$C$1430,3,FALSE) -> Louis Hanbury | D14: 9 | G14: 10 | J14: =SUM(D14:I14) -> 19
A15: 2911 | B15: Clongriffin | C15: Keane Wosser | D15: 8 | G15: 10 | J15: =SUM(D15:I15) -> 18
A16: 821 | B16: =VLOOKUP(A16,'data 1'!$A$2:$C$1430,2,FALSE) -> DSD | C16: =VLOOKUP(A16,'data 1'!$A$2:$C$1430,3,FALSE) -> Conn McCluskey | D16: 7 | G16: 10 | J16: =SUM(D16:I16) -> 17
A17: 1516 | B17: =VLOOKUP(A17,'data 1'!$A$2:$C$1430,2,FALSE) -> Mid Sutton | C17: =VLOOKUP(A17,'data 1'!$A$2:$C$1430,3,FALSE) -> Tim Lavin | D17: 6 | G17: 10 | J17: =SUM(D17:I17) -> 16
A18: 1530 | B18: =VLOOKUP(A18,'data 1'!$A$2:$C$1430,2,FALSE) -> Mid Sutton | C18: =VLOOKUP(A18,'data 1'!$A$2:$C$1430,3,FALSE) -> Cole Dillon | D18: 5 | G18: 10 | J18: =SUM(D18:I18) -> 15
A19: 1517 | B19: =VLOOKUP(A19,'data 1'!$A$2:$C$1430,2,FALSE) -> Mid Sutton | C19: =VLOOKUP(A19,'data 1'!$A$2:$C$1430,3,FALSE) -> Airt Doonan | D19: 4 | G19: 10 | J19: =SUM(D19:I19) -> 14
A20: 695 | B20: =VLOOKUP(A20,'data 1'!$A$2:$C$1430,2,FALSE) -> Clonliffe | C20: =VLOOKUP(A20,'data 1'!$A$2:$C$1430,3,FALSE) -> Ryan Fagan | D20: 3 | G20: 10 | J20: =SUM(D20:I20) -> 13
A21: 2314 | B21: =VLOOKUP(A21,'data 1'!$A$2:$C$1430,2,FALSE) -> Crusaders | C21: =VLOOKUP(A21,'data 1'!$A$2:$C$1430,3,FALSE) -> Hassan Hegazy | D21: 2 | G21: 10 | J21: =SUM(D21:I21) -> 12
A22: 1338 | B22: =VLOOKUP(A22,'data 1'!$A$2:$C$1430,2,FALSE) -> Lusk | C22: =VLOOKUP(A22,'data 1'!$A$2:$C$1430,3,FALSE) -> Seanan Brookfield | D22: 1 | G22: 10 | J22: =SUM(D22:I22) -> 11
A23: 665 | B23: =VLOOKUP(A23,'data 1'!$A$2:$C$1430,2,FALSE) -> Clonliffe | C23: =VLOOKUP(A23,'data 1'!$A$2:$C$1430,3,FALSE) -> Cormac Tynan | G23: 10 | J23: =SUM(D23:I23) -> 10
A24: 1801 | B24: =VLOOKUP(A24,'data 1'!$A$2:$C$1430,2,FALSE) -> Rathfarnham | C24: =VLOOKUP(A24,'data 1'!$A$2:$C$1430,3,FALSE) -> Oisin O'Connor | G24: 10 | J24: =SUM(D24:I24) -> 10
A25: 840 | B25: =VLOOKUP(A25,'data 1'!$A$2:$C$1430,2,FALSE) -> DSD | C25: =VLOOKUP(A25,'data 1'!$A$2:$C$1430,3,FALSE) -> Matthew Hickey | G25: 10 | J25: =SUM(D25:I25) -> 10
A26: 2319 | B26: =VLOOKUP(A26,'data 1'!$A$2:$C$1430,2,FALSE) -> Crusaders | C26: =VLOOKUP(A26,'data 1'!$A$2:$C$1430,3,FALSE) -> Marcus Carter | G26: 10 | J26: =SUM(D26:I26) -> 10
A27: 2009 | B27: =VLOOKUP(A27,'data 1'!$A$2:$C$1430,2,FALSE) -> Tallaght | C27: =VLOOKUP(A27,'data 1'!$A$2:$C$1430,3,FALSE) -> Eoghan Byrne | G27: 10 | J27: =SUM(D27:I27) -> 10
A28: 542 | B28: =VLOOKUP(A28,'data 1'!$A$2:$C$1430,2,FALSE) -> Celtic | C28: =VLOOKUP(A28,'data 1'!$A$2:$C$1430,3,FALSE) -> Daire McGeown | G28: 10 | J28: =SUM(D28:I28) -> 10
A29: 1944 | B29: =VLOOKUP(A29,'data 1'!$A$2:$C$1430,2,FALSE) -> Skerries | C29: =VLOOKUP(A29,'data 1'!$A$2:$C$1430,3,FALSE) -> Danny McQuillan | G29: 10 | J29: =SUM(D29:I29) -> 10
A30: 2315 | B30: =VLOOKUP(A30,'data 1'!$A$2:$C$1430,2,FALSE) -> Crusaders | C30: =VLOOKUP(A30,'data 1'!$A$2:$C$1430,3,FALSE) -> John O’Connor | G30: 10 | J30: =SUM(D30:I30) -> 10
A31: 2001 | B31: =VLOOKUP(A31,'data 1'!$A$2:$C$1430,2,FALSE) -> Tallaght | C31: =VLOOKUP(A31,'data 1'!$A$2:$C$1430,3,FALSE) -> Craig Whelehan | G31: 10 | J31: =SUM(D31:I31) -> 10
A32: 1293 | B32: =VLOOKUP(A32,'data 1'!$A$2:$C$1430,2,FALSE) -> Lucan | C32: =VLOOKUP(A32,'data 1'!$A$2:$C$1430,3,FALSE) -> Smyth Graham Corey | G32: 10 | J32: =SUM(D32:I32) -> 10
A33: 546 | B33: =VLOOKUP(A33,'data 1'!$A$2:$C$1430,2,FALSE) -> Celtic | C33: =VLOOKUP(A33,'data 1'!$A$2:$C$1430,3,FALSE) -> Tom Casey | G33: 10 | J33: =SUM(D33:I33) -> 10
A34: 1499/2 | B34: =VLOOKUP(A34,'data 1'!$A$2:$C$1430,2,FALSE) -> MSB | C34: =VLOOKUP(A34,'data 1'!$A$2:$C$1430,3,FALSE) -> James O’Grady | G34: 10 | J34: =SUM(D34:I34) -> 10
A35: 300/12 | B35: =VLOOKUP(A35,'data 1'!$A$2:$C$1430,2,FALSE) -> Bros Pearse | C35: =VLOOKUP(A35,'data 1'!$A$2:$C$1430,3,FALSE) -> Cai Prys Cummins | G35: 10 | J35: =SUM(D35:I35) -> 10
A36: 1983 | B36: =VLOOKUP(A36,'data 1'!$A$2:$C$1430,2,FALSE) -> Skerries | C36: =VLOOKUP(A36,'data 1'!$A$2:$C$1430,3,FALSE) -> Jack Power | G36: 10 | J36: =SUM(D36:I36) -> 10
A37: 2910 | B37: Clongriffin | C37: Ben Lyons | G37: 10 | J37: =SUM(D37:I37) -> 10
A38: 1724 | B38: =VLOOKUP(A38,'data 1'!$A$2:$C$1430,2,FALSE) -> Raheny | C38: =VLOOKUP(A38,'data 1'!$A$2:$C$1430,3,FALSE) -> Leo Synott | G38: 10 | J38: =SUM(D38:I38) -> 10
A39: 1999/52 | B39: =VLOOKUP(A39,'data 1'!$A$2:$C$1430,2,FALSE) -> Skerries | C39: =VLOOKUP(A39,'data 1'!$A$2:$C$1430,3,FALSE) -> Ruaidhri Silke | G39: 10 | J39: =SUM(D39:I39) -> 10
A40: 664 | B40: =VLOOKUP(A40,'data 1'!$A$2:$C$1430,2,FALSE) -> Clonliffe | C40: =VLOOKUP(A40,'data 1'!$A$2:$C$1430,3,FALSE) -> Conall Farrell | G40: 10 | J40: =SUM(D40:I40) -> 10
A41: 1290 | B41: =VLOOKUP(A41,'data 1'!$A$2:$C$1430,2,FALSE) -> Lucan | C41: =VLOOKUP(A41,'data 1'!$A$2:$C$1430,3,FALSE) -> Butcher Donal | G41: 10 | J41: =SUM(D41:I41) -> 10
A42: 274 | B42: =VLOOKUP(A42,'data 1'!$A$2:$C$1430,2,FALSE) -> Blackrock | C42: =VLOOKUP(A42,'data 1'!$A$2:$C$1430,3,FALSE) -> Dylan Maher | G42: 10 | J42: =SUM(D42:I42) -> 10
A43: 815 | B43: =VLOOKUP(A43,'data 1'!$A$2:$C$1430,2,FALSE) -> DSD | C43: =VLOOKUP(A43,'data 1'!$A$2:$C$1430,3,FALSE) -> Marty Davitt | G43: 10 | J43: =SUM(D43:I43) -> 10
A44: 1974 | B44: =VLOOKUP(A44,'data 1'!$A$2:$C$1430,2,FALSE) -> Skerries | C44: =VLOOKUP(A44,'data 1'!$A$2:$C$1430,3,FALSE) -> Haydn Harpur | G44: 10 | J44: =SUM(D44:I44) -> 10
A45: 666 | B45: =VLOOKUP(A45,'data 1'!$A$2:$C$1430,2,FALSE) -> Clonliffe | C45: =VLOOKUP(A45,'data 1'!$A$2:$C$1430,3,FALSE) -> Cuan Higgins | G45: 10 | J45: =SUM(D45:I45) -> 10
A46: 276 | B46: =VLOOKUP(A46,'data 1'!$A$2:$C$1430,2,FALSE) -> Blackrock | C46: =VLOOKUP(A46,'data 1'!$A$2:$C$1430,3,FALSE) -> Aoibhinn Harrison | G46: 10 | J46: =SUM(D46:I46) -> 10
A47: 275 | B47: =VLOOKUP(A47,'data 1'!$A$2:$C$1430,2,FALSE) -> Blackrock | C47: =VLOOKUP(A47,'data 1'!$A$2:$C$1430,3,FALSE) -> Thomas Gavin | G47: 10 | J47: =SUM(D47:I47) -> 10
A48: 1291 | B48: =VLOOKUP(A48,'data 1'!$A$2:$C$1430,2,FALSE) -> Lucan | C48: =VLOOKUP(A48,'data 1'!$A$2:$C$1430,3,FALSE) -> Kodishala Anish | G48: 10 | J48: =SUM(D48:I48) -> 10
A49: 2008 | B49: =VLOOKUP(A49,'data 1'!$A$2:$C$1430,2,FALSE) -> Tallaght | C49: =VLOOKUP(A49,'data 1'!$A$2:$C$1430,3,FALSE) -> Eoghan Byrne | G49: 10 | J49: =SUM(D49:I49) -> 10
A50: 4018 | B50: =VLOOKUP(A50,'data 1'!$A$2:$C$1430,2,FALSE) -> Cabinteely | C50: =VLOOKUP(A50,'data 1'!$A$2:$C$1430,3,FALSE) -> Alex Brennan | G50: 10 | J50: =SUM(D50:I50) -> 10
A51: 1490 | B51: =VLOOKUP(A51,'data 1'!$A$2:$C$1430,2,FALSE) -> MSB | C51: =VLOOKUP(A51,'data 1'!$A$2:$C$1430,3,FALSE) -> Conor McCoy | G51: 10 | J51: =SUM(D51:I51) -> 10
A52: 1328 | B52: =VLOOKUP(A52,'data 1'!$A$2:$C$1430,2,FALSE) -> Lusk | C52: =VLOOKUP(A52,'data 1'!$A$2:$C$1430,3,FALSE) -> Jack Palmer | G52: 10 | J52: =SUM(D52:I52) -> 10
A53: 1499/1 | B53: =VLOOKUP(A53,'data 1'!$A$2:$C$1430,2,FALSE) -> MSB | C53: =VLOOKUP(A53,'data 1'!$A$2:$C$1430,3,FALSE) -> Dara Reilly | G53: 10 | J53: =SUM(D53:I53) -> 10
A54: 834 | B54: =VLOOKUP(A54,'data 1'!$A$2:$C$1430,2,FALSE) -> DSD | C54: =VLOOKUP(A54,'data 1'!$A$2:$C$1430,3,FALSE) -> Shane Allen | G54: 10 | J54: =SUM(D54:I54) -> 10
A55: 1333 | B55: =VLOOKUP(A55,'data 1'!$A$2:$C$1430,2,FALSE) -> Lusk | C55: =VLOOKUP(A55,'data 1'!$A$2:$C$1430,3,FALSE) -> Axl Daly | G55: 10 | J55: =SUM(D55:I55) -> 10
A56: 662 | B56: =VLOOKUP(A56,'data 1'!$A$2:$C$1430,2,FALSE) -> Clonliffe | C56: =VLOOKUP(A56,'data 1'!$A$2:$C$1430,3,FALSE) -> Callum Vaas | G56: 10 | J56: =SUM(D56:I56) -> 10
A57: 1294 | B57: =VLOOKUP(A57,'data 1'!$A$2:$C$1430,2,FALSE) -> Lucan | C57: =VLOOKUP(A57,'data 1'!$A$2:$C$1430,3,FALSE) -> Victor Avgustin | G57: 10 | J57: =SUM(D57:I57) -> 10
A58: 1317 | B58: =VLOOKUP(A58,'data 1'!$A$2:$C$1430,2,FALSE) -> Lusk | C58: =VLOOKUP(A58,'data 1'!$A$2:$C$1430,3,FALSE) -> Max Gilmartin | G58: 10 | J58: =SUM(D58:I58) -> 10
A59: 1140 | B59: =VLOOKUP(A59,'data 1'!$A$2:$C$1430,2,FALSE) -> LSA | C59: =VLOOKUP(A59,'data 1'!$A$2:$C$1430,3,FALSE) -> Daniel Minto | G59: 10 | J59: =SUM(D59:I59) -> 10
A60: 678 | B60: =VLOOKUP(A60,'data 1'!$A$2:$C$1430,2,FALSE) -> Clonliffe | C60: =VLOOKUP(A60,'data 1'!$A$2:$C$1430,3,FALSE) -> Samuel Arthur | G60: 10 | J60: =SUM(D60:I60) -> 10
A61: 600/75 | B61: Clonliffe | C61: Cameron O'Neill | G61: 10 | J61: =SUM(D61:I61) -> 10

Sheet Boys U12
D1: League 1 | E1: League 2 | F1: League 3 | G1: Bonus | H1: Bonus | I1: Bonus | J1: Total
A2: No | B2: Club | C2: Name | G2: Points 1 | H2: Points 2 | I2: Points 2 | J2: Points
A3: 2310 | B3: =VLOOKUP(A3,'data 1'!$A$2:$C$1430,2,FALSE) -> Crusaders | C3: =VLOOKUP(A3,'data 1'!$A$2:$C$1430,3,FALSE) -> Oisin Healy | D3: 21 | G3: 10 | J3: =SUM(D3:I3) -> 31
A4: 1276 | B4: =VLOOKUP(A4,'data 1'!$A$2:$C$1430,2,FALSE) -> Lucan | C4: =VLOOKUP(A4,'data 1'!$A$2:$C$1430,3,FALSE) -> Fitzgerald Conal | D4: 19 | G4: 10 | J4: =SUM(D4:I4) -> 29
A5: 825 | B5: =VLOOKUP(A5,'data 1'!$A$2:$C$1430,2,FALSE) -> DSD | C5: =VLOOKUP(A5,'data 1'!$A$2:$C$1430,3,FALSE) -> Cionnadh Murphy | D5: 18 | G5: 10 | J5: =SUM(D5:I5) -> 28
A6: 642 | B6: =VLOOKUP(A6,'data 1'!$A$2:$C$1430,2,FALSE) -> Clonliffe | C6: =VLOOKUP(A6,'data 1'!$A$2:$C$1430,3,FALSE) -> Braxton O Shea | D6: 17 | G6: 10 | J6: =SUM(D6:I6) -> 27
A7: 4098 | B7: =VLOOKUP(A7,'data 1'!$A$2:$C$1430,2,FALSE) -> Cabinteely | C7: =VLOOKUP(A7,'data 1'!$A$2:$C$1430,3,FALSE) -> Lennox Kelley | D7: 16 | G7: 10 | J7: =SUM(D7:I7) -> 26
A8: 1134 | B8: =VLOOKUP(A8,'data 1'!$A$2:$C$1430,2,FALSE) -> LSA | C8: =VLOOKUP(A8,'data 1'!$A$2:$C$1430,3,FALSE) -> Mark Kelly | D8: 15 | G8: 10 | J8: =SUM(D8:I8) -> 25
A9: 2306 | B9: =VLOOKUP(A9,'data 1'!$A$2:$C$1430,2,FALSE) -> Crusaders | C9: =VLOOKUP(A9,'data 1'!$A$2:$C$1430,3,FALSE) -> Oisin Crehan | D9: 14 | G9: 10 | J9: =SUM(D9:I9) -> 24
A10: 1509 | B10: =VLOOKUP(A10,'data 1'!$A$2:$C$1430,2,FALSE) -> Mid Sutton | C10: =VLOOKUP(A10,'data 1'!$A$2:$C$1430,3,FALSE) -> Harry ONeill | D10: 13 | G10: 10 | J10: =SUM(D10:I10) -> 23
A11: 1270 | B11: =VLOOKUP(A11,'data 1'!$A$2:$C$1430,2,FALSE) -> Lucan | C11: =VLOOKUP(A11,'data 1'!$A$2:$C$1430,3,FALSE) -> Abbott Daniel | D11: 12 | G11: 10 | J11: =SUM(D11:I11) -> 22
A12: 262 | B12: =VLOOKUP(A12,'data 1'!$A$2:$C$1430,2,FALSE) -> Blackrock | C12: =VLOOKUP(A12,'data 1'!$A$2:$C$1430,3,FALSE) -> Ethan Farrell | D12: 11 | G12: 10 | J12: =SUM(D12:I12) -> 21
A13: 1810 | B13: =VLOOKUP(A13,'data 1'!$A$2:$C$1430,2,FALSE) -> Rathfarnham | C13: =VLOOKUP(A13,'data 1'!$A$2:$C$1430,3,FALSE) -> Fionan O' Keefe | D13: 10 | G13: 10 | J13: =SUM(D13:I13) -> 20
A14: 2604 | B14: =VLOOKUP(A14,'data 1'!$A$2:$C$1430,2,FALSE) -> Rathcoole | C14: =VLOOKUP(A14,'data 1'!$A$2:$C$1430,3,FALSE) -> Nicholas Sayers | D14: 9 | G14: 10 | J14: =SUM(D14:I14) -> 19
... A22: 647 | B22: =VLOOKUP(A22,'data 1'!$A$2:$C$1430,2,FALSE) -> Clonliffe | C22: =VLOOKUP(A22,'data 1'!$A$2:$C$1430,3,FALSE) -> Tim Scanlan | D22: 1 | G22: 10 | J22: =SUM(D22:I22) -> 11
A23: 369 | B23: =VLOOKUP(A23,'data 1'!$A$2:$C$1430,2,FALSE) -> Bros Pearse | C23: =VLOOKUP(A23,'data 1'!$A$2:$C$1430,3,FALSE) -> Rian Gallagher | G23: 10 | J23: =SUM(D23:I23) -> 10
A24: 1277 | B24: =VLOOKUP(A24,'data 1'!$A$2:$C$1430,2,FALSE) -> Lucan | C24: =VLOOKUP(A24,'data 1'!$A$2:$C$1430,3,FALSE) -> King Elliot | G24: 10 | J24: =SUM(D24:I24) -> 10
A25: 1273 | B25: =VLOOKUP(A25,'data 1'!$A$2:$C$1430,2,FALSE) -> Lucan | C25: =VLOOKUP(A25,'data 1'!$A$2:$C$1430,3,FALSE) -> Collis Liam | G25: 10 | J25: =SUM(D25:I25) -> 10
A26: 641 | B26: =VLOOKUP(A26,'data 1'!$A$2:$C$1430,2,FALSE) -> Clonliffe | C26: =VLOOKUP(A26,'data 1'!$A$2:$C$1430,3,FALSE) -> Benjamin Grimes | G26: 10 | J26: =SUM(D26:I26) -> 10
A27: 814 | B27: =VLOOKUP(A27,'data 1'!$A$2:$C$1430,2,FALSE) -> DSD | C27: =VLOOKUP(A27,'data 1'!$A$2:$C$1430,3,FALSE) -> Flavio Fortune | G27: 10 | J27: =SUM(D27:I27) -> 10
A28: 1272 | B28: =VLOOKUP(A28,'data 1'!$A$2:$C$1430,2,FALSE) -> Lucan | C28: =VLOOKUP(A28,'data 1'!$A$2:$C$1430,3,FALSE) -> Butcher Sean | G28: 10 | J28: =SUM(D28:I28) -> 10
A29: 387 | B29: =VLOOKUP(A29,'data 1'!$A$2:$C$1430,2,FALSE) -> Bros Pearse | C29: =VLOOKUP(A29,'data 1'!$A$2:$C$1430,3,FALSE) -> Ben Donohue | G29: 10 | J29: =SUM(D29:I29) -> 10
A30: 813 | B30: =VLOOKUP(A30,'data 1'!$A$2:$C$1430,2,FALSE) -> DSD | C30: =VLOOKUP(A30,'data 1'!$A$2:$C$1430,3,FALSE) -> Bodhie Blighe | G30: 10 | J30: =SUM(D30:I30) -> 10
A31: 712 | B31: Donore | C31: Max Henley-Willis | G31: 10 | J31: =SUM(D31:I31) -> 10
A32: 1271 | B32: =VLOOKUP(A32,'data 1'!$A$2:$C$1430,2,FALSE) -> Lucan | C32: =VLOOKUP(A32,'data 1'!$A$2:$C$1430,3,FALSE) -> Bermingham Charlie | G32: 10 | J32: =SUM(D32:I32) -> 10
A33: 1938 | B33: =VLOOKUP(A33,'data 1'!$A$2:$C$1430,2,FALSE) -> Skerries | C33: =VLOOKUP(A33,'data 1'!$A$2:$C$1430,3,FALSE) -> Connor Davis | G33: 10 | J33: =SUM(D33:I33) -> 10
A34: 1311 | B34: =VLOOKUP(A34,'data 1'!$A$2:$C$1430,2,FALSE) -> Lusk | C34: =VLOOKUP(A34,'data 1'!$A$2:$C$1430,3,FALSE) -> Daniel Moore | G34: 10 | J34: =SUM(D34:I34) -> 10
A35: 2912 | B35: Clongriffin | C35: Charlie O'Brien | G35: 10 | J35: =SUM(D35:I35) -> 10
A36: 2606 | B36: =VLOOKUP(A36,'data 1'!$A$2:$C$1430,2,FALSE) -> Rathcoole | C36: =VLOOKUP(A36,'data 1'!$A$2:$C$1430,3,FALSE) -> Luke Moran | G36: 10 | J36: =SUM(D36:I36) -> 10
A37: 1337 | B37: =VLOOKUP(A37,'data 1'!$A$2:$C$1430,2,FALSE) -> Lusk | C37: =VLOOKUP(A37,'data 1'!$A$2:$C$1430,3,FALSE) -> Oscar Nolan | G37: 10 | J37: =SUM(D37:I37) -> 10
A38: 1477 | B38: =VLOOKUP(A38,'data 1'!$A$2:$C$1430,2,FALSE) -> MSB | C38: =VLOOKUP(A38,'data 1'!$A$2:$C$1430,3,FALSE) -> Adrian Leoca | G38: 10 | J38: =SUM(D38:I38) -> 10
A39: 1274 | B39: =VLOOKUP(A39,'data 1'!$A$2:$C$1430,2,FALSE) -> Lucan | C39: =VLOOKUP(A39,'data 1'!$A$2:$C$1430,3,FALSE) -> Dardis Austin | G39: 10 | J39: =SUM(D39:I39) -> 10
A40: 264 | B40: =VLOOKUP(A40,'data 1'!$A$2:$C$1430,2,FALSE) -> Blackrock | C40: =VLOOKUP(A40,'data 1'!$A$2:$C$1430,3,FALSE) -> Tadhg O Mir | G40: 10 | J40: =SUM(D40:I40) -> 10
A41: 529 | B41: =VLOOKUP(A41,'data 1'!$A$2:$C$1430,2,FALSE) -> Celtic | C41: =VLOOKUP(A41,'data 1'!$A$2:$C$1430,3,FALSE) -> Eoin Marron | G41: 10 | J41: =SUM(D41:I41) -> 10
A42: 832 | B42: =VLOOKUP(A42,'data 1'!$A$2:$C$1430,2,FALSE) -> DSD | C42: =VLOOKUP(A42,'data 1'!$A$2:$C$1430,3,FALSE) -> Oisin Colonan | G42: 10 | J42: =SUM(D42:I42) -> 10
A43: 800 | B43: =VLOOKUP(A43,'data 1'!$A$2:$C$1430,2,FALSE) -> DSD | C43: =VLOOKUP(A43,'data 1'!$A$2:$C$1430,3,FALSE) -> Evan Meredith | G43: 10 | J43: =SUM(D43:I43) -> 10
A44: 1278 | B44: =VLOOKUP(A44,'data 1'!$A$2:$C$1430,2,FALSE) -> Lucan | C44: =VLOOKUP(A44,'data 1'!$A$2:$C$1430,3,FALSE) -> Madappa Leon | G44: 10 | J44: =SUM(D44:I44) -> 10
A45: 638 | B45: =VLOOKUP(A45,'data 1'!$A$2:$C$1430,2,FALSE) -> Clonliffe | C45: =VLOOKUP(A45,'data 1'!$A$2:$C$1430,3,FALSE) -> Aaron Mulcahy | G45: 10 | J45: =SUM(D45:I45) -> 10
A46: 644 | B46: =VLOOKUP(A46,'data 1'!$A$2:$C$1430,2,FALSE) -> Clonliffe | C46: =VLOOKUP(A46,'data 1'!$A$2:$C$1430,3,FALSE) -> Joshua King | G46: 10 | J46: =SUM(D46:I46) -> 10
A47: 263 | B47: =VLOOKUP(A47,'data 1'!$A$2:$C$1430,2,FALSE) -> Blackrock | C47: =VLOOKUP(A47,'data 1'!$A$2:$C$1430,3,FALSE) -> Johnny Grehan | G47: 10 | J47: =SUM(D47:I47) -> 10
... A54: 1131 | B54: =VLOOKUP(A54,'data 1'!$A$2:$C$1430,2,FALSE) -> LSA | C54: =VLOOKUP(A54,'data 1'!$A$2:$C$1430,3,FALSE) -> Rhys Corcoran | G54: 10 | J54: =SUM(D54:I54) -> 10
J79: =SUM(D79:I79) -> 0
J80: =SUM(D80:I80) -> 0
J81: =SUM(D81:I81) -> 0
J82: =SUM(D82:I82) -> 0
J83: =SUM(D83:I83) -> 0
J84: =SUM(D84:I84) -> 0
J85: =SUM(D85:I85) -> 0
J86: =SUM(D86:I86) -> 0

Sheet Boys U11
D1: League 1 | E1: League 2 | F1: League 3 | G1: Bonus | H1: Bonus | I1: Bonus | J1: Total
A2: No | B2: Club | C2: Name | G2: Points 1 | H2: Points 2 | I2: Points 2 | J2: Points
A3: 240 | B3: =VLOOKUP(A3,'data 1'!$A$2:$C$1430,2,FALSE) -> Blackrock | C3: =VLOOKUP(A3,'data 1'!$A$2:$C$1430,3,FALSE) -> Josh Hunt | D3: 21 | G3: 10 | J3: =SUM(D3:I3) -> 31
A4: 1409 | B4: =VLOOKUP(A4,'data 1'!$A$2:$C$1430,2,FALSE) -> MSB | C4: =VLOOKUP(A4,'data 1'!$A$2:$C$1430,3,FALSE) -> Senan Kelly | D4: 19 | G4: 10 | J4: =SUM(D4:I4) -> 29
A5: 1001 | B5: =VLOOKUP(A5,'data 1'!$A$2:$C$1430,2,FALSE) -> Fingallions | C5: =VLOOKUP(A5,'data 1'!$A$2:$C$1430,3,FALSE) -> Luke Tracey | D5: 18 | G5: 10 | J5: =SUM(D5:I5) -> 28
A6: 2316 | B6: =VLOOKUP(A6,'data 1'!$A$2:$C$1430,2,FALSE) -> Crusaders | C6: =VLOOKUP(A6,'data 1'!$A$2:$C$1430,3,FALSE) -> Connor Foy-Smyth | D6: 17 | G6: 10 | J6: =SUM(D6:I6) -> 27
A7: 1943 | B7: =VLOOKUP(A7,'data 1'!$A$2:$C$1430,2,FALSE) -> Skerries | C7: =VLOOKUP(A7,'data 1'!$A$2:$C$1430,3,FALSE) -> Daire Power | D7: 16 | G7: 10 | J7: =SUM(D7:I7) -> 26
A8: 353 | B8: =VLOOKUP(A8,'data 1'!$A$2:$C$1430,2,FALSE) -> Bros Pearse | C8: =VLOOKUP(A8,'data 1'!$A$2:$C$1430,3,FALSE) -> Luke Redmond | D8: 15 | G8: 10 | J8: =SUM(D8:I8) -> 25
A9: 1408 | B9: =VLOOKUP(A9,'data 1'!$A$2:$C$1430,2,FALSE) -> MSB | C9: =VLOOKUP(A9,'data 1'!$A$2:$C$1430,3,FALSE) -> Tadhg Doran | D9: 14 | G9: 10 | J9: =SUM(D9:I9) -> 24
A10: 1999/39 | B10: =VLOOKUP(A10,'data 1'!$A$2:$C$1430,2,FALSE) -> Skerries | C10: =VLOOKUP(A10,'data 1'!$A$2:$C$1430,3,FALSE) -> Oscar Mullins | D10: 13 | G10: 10 | J10: =SUM(D10:I10) -> 23
A11: 809 | B11: =VLOOKUP(A11,'data 1'!$A$2:$C$1430,2,FALSE) -> DSD | C11: =VLOOKUP(A11,'data 1'!$A$2:$C$1430,3,FALSE) -> Fionn Hassett | D11: 12 | G11: 10 | J11: =SUM(D11:I11) -> 22
A12: 1309 | B12: =VLOOKUP(A12,'data 1'!$A$2:$C$1430,2,FALSE) -> Lusk | C12: =VLOOKUP(A12,'data 1'!$A$2:$C$1430,3,FALSE) -> Luke Power | D12: 11 | G12: 10 | J12: =SUM(D12:I12) -> 21
A13: 234 | B13: =VLOOKUP(A13,'data 1'!$A$2:$C$1430,2,FALSE) -> Blackrock | C13: =VLOOKUP(A13,'data 1'!$A$2:$C$1430,3,FALSE) -> Des White | D13: 10 | G13: 10 | J13: =SUM(D13:I13) -> 20
A14: 521 | B14: =VLOOKUP(A14,'data 1'!$A$2:$C$1430,2,FALSE) -> Celtic | C14: =VLOOKUP(A14,'data 1'!$A$2:$C$1430,3,FALSE) -> Matthew Raftery | D14: 9 | G14: 10 | J14: =SUM(D14:I14) -> 19
A15: 241 | B15: =VLOOKUP(A15,'data 1'!$A$2:$C$1430,2,FALSE) -> Blackrock | C15: =VLOOKUP(A15,'data 1'!$A$2:$C$1430,3,FALSE) -> Max McDonald | D15: 8 | G15: 10 | J15: =SUM(D15:I15) -> 18
A16: 242 | B16: =VLOOKUP(A16,'data 1'!$A$2:$C$1430,2,FALSE) -> Blackrock | C16: =VLOOKUP(A16,'data 1'!$A$2:$C$1430,3,FALSE) -> Oisin O’Hare | D16: 7 | G16: 10 | J16: =SUM(D16:I16) -> 17
A17: 2104 | B17: =VLOOKUP(A17,'data 1'!$A$2:$C$1430,2,FALSE) -> Templeogue | C17: =VLOOKUP(A17,'data 1'!$A$2:$C$1430,3,FALSE) -> Jason Deegan | D17: 6 | G17: 10 | J17: =SUM(D17:I17) -> 16
A18: 238 | B18: =VLOOKUP(A18,'data 1'!$A$2:$C$1430,2,FALSE) -> Blackrock | C18: =VLOOKUP(A18,'data 1'!$A$2:$C$1430,3,FALSE) -> Jamie Walsh | D18: 5 | G18: 10 | J18: =SUM(D18:I18) -> 15
A19: 600/76 | B19: Clonliffe | C19: Adam Phelan | D19: 4 | G19: 10 | J19: =SUM(D19:I19) -> 14
A20: 1322 | B20: =VLOOKUP(A20,'data 1'!$A$2:$C$1430,2,FALSE) -> Lusk | C20: =VLOOKUP(A20,'data 1'!$A$2:$C$1430,3,FALSE) -> Peter Lambe | D20: 3 | G20: 10 | J20: =SUM(D20:I20) -> 13
A21: 1258 | B21: =VLOOKUP(A21,'data 1'!$A$2:$C$1430,2,FALSE) -> Lucan | C21: =VLOOKUP(A21,'data 1'!$A$2:$C$1430,3,FALSE) -> Trieu Khai | D21: 2 | G21: 10 | J21: =SUM(D21:I21) -> 12
A22: 1413 | B22: =VLOOKUP(A22,'data 1'!$A$2:$C$1430,2,FALSE) -> MSB | C22: =VLOOKUP(A22,'data 1'!$A$2:$C$1430,3,FALSE) -> Matthew O’Leary | D22: 1 | G22: 10 | J22: =SUM(D22:I22) -> 11
A23: 2915 | B23: Clongriffin | C23: Evan Doyle | G23: 10 | J23: =SUM(D23:I23) -> 10
A24: 1252 | B24: =VLOOKUP(A24,'data 1'!$A$2:$C$1430,2,FALSE) -> Lucan | C24: =VLOOKUP(A24,'data 1'!$A$2:$C$1430,3,FALSE) -> Cibiras Mykolas | G24: 10 | J24: =SUM(D24:I24) -> 10
A25: 236 | B25: =VLOOKUP(A25,'data 1'!$A$2:$C$1430,2,FALSE) -> Blackrock | C25: =VLOOKUP(A25,'data 1'!$A$2:$C$1430,3,FALSE) -> Flynn Farrell | G25: 10 | J25: =SUM(D25:I25) -> 10
A26: 1411 | B26: =VLOOKUP(A26,'data 1'!$A$2:$C$1430,2,FALSE) -> MSB | C26: =VLOOKUP(A26,'data 1'!$A$2:$C$1430,3,FALSE) -> Jake Byrne | G26: 10 | J26: =SUM(D26:I26) -> 10
A27: 600/87 | B27: Clonliffe | C27: Andrew Low | G27: 10 | J27: =SUM(D27:I27) -> 10
A28: 1711 | B28: =VLOOKUP(A28,'data 1'!$A$2:$C$1430,2,FALSE) -> Raheny | C28: =VLOOKUP(A28,'data 1'!$A$2:$C$1430,3,FALSE) -> Conor Hanly | G28: 10 | J28: =SUM(D28:I28) -> 10
A29: 1253 | B29: =VLOOKUP(A29,'data 1'!$A$2:$C$1430,2,FALSE) -> Lucan | C29: =VLOOKUP(A29,'data 1'!$A$2:$C$1430,3,FALSE) -> Doyle Adam | G29: 10 | J29: =SUM(D29:I29) -> 10
A30: 817 | B30: =VLOOKUP(A30,'data 1'!$A$2:$C$1430,2,FALSE) -> DSD | C30: =VLOOKUP(A30,'data 1'!$A$2:$C$1430,3,FALSE) -> John Moore | G30: 10 | J30: =SUM(D30:I30) -> 10
A31: 2917 | B31: Clongriffin | C31: Max Lyons | G31: 10 | J31: =SUM(D31:I31) -> 10
A32: 244 | B32: =VLOOKUP(A32,'data 1'!$A$2:$C$1430,2,FALSE) -> Blackrock | C32: =VLOOKUP(A32,'data 1'!$A$2:$C$1430,3,FALSE) -> Sebastian Conway | G32: 10 | J32: =SUM(D32:I32) -> 10
A33: 4073 | B33: =VLOOKUP(A33,'data 1'!$A$2:$C$1430,2,FALSE) -> Cabinteely | C33: =VLOOKUP(A33,'data 1'!$A$2:$C$1430,3,FALSE) -> Hugo Healy | G33: 10 | J33: =SUM(D33:I33) -> 10
A34: 1251 | B34: =VLOOKUP(A34,'data 1'!$A$2:$C$1430,2,FALSE) -> Lucan | C34: =VLOOKUP(A34,'data 1'!$A$2:$C$1430,3,FALSE) -> Burke Fionn | G34: 10 | J34: =SUM(D34:I34) -> 10
A35: 628 | B35: =VLOOKUP(A35,'data 1'!$A$2:$C$1430,2,FALSE) -> Clonliffe | C35: =VLOOKUP(A35,'data 1'!$A$2:$C$1430,3,FALSE) -> Seamus Phelan | G35: 10 | J35: =SUM(D35:I35) -> 10
A36: 709 | B36: Donore Harriers | C36: Alan Maddox | G36: 10 | J36: =SUM(D36:I36) -> 10
A37: 623 | B37: =VLOOKUP(A37,'data 1'!$A$2:$C$1430,2,FALSE) -> Clonliffe | C37: =VLOOKUP(A37,'data 1'!$A$2:$C$1430,3,FALSE) -> Darragh Kidd | G37: 10 | J37: =SUM(D37:I37) -> 10
A38: 1256 | B38: =VLOOKUP(A38,'data 1'!$A$2:$C$1430,2,FALSE) -> Lucan | C38: =VLOOKUP(A38,'data 1'!$A$2:$C$1430,3,FALSE) -> Mueller Anton | G38: 10 | J38: =SUM(D38:I38) -> 10
A39: 816 | B39: =VLOOKUP(A39,'data 1'!$A$2:$C$1430,2,FALSE) -> DSD | C39: =VLOOKUP(A39,'data 1'!$A$2:$C$1430,3,FALSE) -> Adam O'Mahony | G39: 10 | J39: =SUM(D39:I39) -> 10
A40: 2914 | B40: Clongriffin | C40: Oran Dolan | G40: 10 | J40: =SUM(D40:I40) -> 10
A41: 1323 | B41: =VLOOKUP(A41,'data 1'!$A$2:$C$1430,2,FALSE) -> Lusk | C41: =VLOOKUP(A41,'data 1'!$A$2:$C$1430,3,FALSE) -> James Connolly | G41: 10 | J41: =SUM(D41:I41) -> 10
A42: 1121 | B42: =VLOOKUP(A42,'data 1'!$A$2:$C$1430,2,FALSE) -> LSA | C42: =VLOOKUP(A42,'data 1'!$A$2:$C$1430,3,FALSE) -> Ben O'Sullivan | G42: 10 | J42: =SUM(D42:I42) -> 10
A43: 1972 | B43: =VLOOKUP(A43,'data 1'!$A$2:$C$1430,2,FALSE) -> Skerries | C43: =VLOOKUP(A43,'data 1'!$A$2:$C$1430,3,FALSE) -> Harry Murphy | G43: 10 | J43: =SUM(D43:I43) -> 10
A44: 622 | B44: =VLOOKUP(A44,'data 1'!$A$2:$C$1430,2,FALSE) -> Clonliffe | C44: =VLOOKUP(A44,'data 1'!$A$2:$C$1430,3,FALSE) -> Daire Cronin | G44: 10 | J44: =SUM(D44:I44) -> 10
A45: 1254 | B45: =VLOOKUP(A45,'data 1'!$A$2:$C$1430,2,FALSE) -> Lucan | C45: =VLOOKUP(A45,'data 1'!$A$2:$C$1430,3,FALSE) -> Lee Iarlaith | G45: 10 | J45: =SUM(D45:I45) -> 10
A46: 1410 | B46: =VLOOKUP(A46,'data 1'!$A$2:$C$1430,2,FALSE) -> MSB | C46: =VLOOKUP(A46,'data 1'!$A$2:$C$1430,3,FALSE) -> Paddy Kirwan | G46: 10 | J46: =SUM(D46:I46) -> 10
A47: 600/86 | B47: Clonliffe | C47: Jack Herry | G47: 10 | J47: =SUM(D47:I47) -> 10
A48: 516 | B48: =VLOOKUP(A48,'data 1'!$A$2:$C$1430,2,FALSE) -> Celtic | C48: =VLOOKUP(A48,'data 1'!$A$2:$C$1430,3,FALSE) -> Hector O'Brien | G48: 10 | J48: =SUM(D48:I48) -> 10
A49: 1709 | B49: =VLOOKUP(A49,'data 1'!$A$2:$C$1430,2,FALSE) -> Raheny | C49: =VLOOKUP(A49,'data 1'!$A$2:$C$1430,3,FALSE) -> Liam mcAtamney | G49: 10 | J49: =SUM(D49:I49) -> 10
A50: 1412 | B50: =VLOOKUP(A50,'data 1'!$A$2:$C$1430,2,FALSE) -> MSB | C50: =VLOOKUP(A50,'data 1'!$A$2:$C$1430,3,FALSE) -> Gavin McGarry | G50: 10 | J50: =SUM(D50:I50) -> 10
A51: 1319 | B51: =VLOOKUP(A51,'data 1'!$A$2:$C$1430,2,FALSE) -> Lusk | C51: =VLOOKUP(A51,'data 1'!$A$2:$C$1430,3,FALSE) -> Cillian Ryan | G51: 10 | J51: =SUM(D51:I51) -> 10
A52: 235 | B52: =VLOOKUP(A52,'data 1'!$A$2:$C$1430,2,FALSE) -> Blackrock | C52: =VLOOKUP(A52,'data 1'!$A$2:$C$1430,3,FALSE) -> Ethan Hollis | G52: 10 | J52: =SUM(D52:I52) -> 10
A53: 1947 | B53: =VLOOKUP(A53,'data 1'!$A$2:$C$1430,2,FALSE) -> Skerries | C53: =VLOOKUP(A53,'data 1'!$A$2:$C$1430,3,FALSE) -> Dexter O'Byrne | G53: 10 | J53: =SUM(D53:I53) -> 10
A54: 523 | B54: =VLOOKUP(A54,'data 1'!$A$2:$C$1430,2,FALSE) -> Celtic | C54: =VLOOKUP(A54,'data 1'!$A$2:$C$1430,3,FALSE) -> Sean Kearney | G54: 10 | J54: =SUM(D54:I54) -> 10
A55: 239 | B55: =VLOOKUP(A55,'data 1'!$A$2:$C$1430,2,FALSE) -> Blackrock | C55: =VLOOKUP(A55,'data 1'!$A$2:$C$1430,3,FALSE) -> John Doyle | G55: 10 | J55: =SUM(D55:I55) -> 10
A56: 243 | B56: =VLOOKUP(A56,'data 1'!$A$2:$C$1430,2,FALSE) -> Blackrock | C56: =VLOOKUP(A56,'data 1'!$A$2:$C$1430,3,FALSE) -> Robert Keaney | G56: 10 | J56: =SUM(D56:I56) -> 10
A57: 233 | B57: =VLOOKUP(A57,'data 1'!$A$2:$C$1430,2,FALSE) -> Blackrock | C57: =VLOOKUP(A57,'data 1'!$A$2:$C$1430,3,FALSE) -> Danny Murphy | G57: 10 | J57: =SUM(D57:I57) -> 10
A58: 621 | B58: =VLOOKUP(A58,'data 1'!$A$2:$C$1430,2,FALSE) -> Clonliffe | C58: =VLOOKUP(A58,'data 1'!$A$2:$C$1430,3,FALSE) -> Aydin Jonmark | G58: 10 | J58: =SUM(D58:I58) -> 10
A59: 1316 | B59: =VLOOKUP(A59,'data 1'!$A$2:$C$1430,2,FALSE) -> Lusk | C59: =VLOOKUP(A59,'data 1'!$A$2:$C$1430,3,FALSE) -> Conor Cronin | G59: 10 | J59: =SUM(D59:I59) -> 10
A60: 600/81 | B60: Clonliffe | C60: Gavin Hickey | G60: 10 | J60: =SUM(D60:I60) -> 10
A61: 1313 | B61: =VLOOKUP(A61,'data 1'!$A$2:$C$1430,2,FALSE) -> Lusk | C61: =VLOOKUP(A61,'data 1'!$A$2:$C$1430,3,FALSE) -> Josh McDonagh | G61: 10 | J61: =SUM(D61:I61) -> 10
A62: 1120 | B62: =VLOOKUP(A62,'data 1'!$A$2:$C$1430,2,FALSE) -> LSA | C62: =VLOOKUP(A62,'data 1'!$A$2:$C$1430,3,FALSE) -> Conor Cashin | G62: 10 | J62: =SUM(D62:I62) -> 10
A63: 1255 | B63: =VLOOKUP(A63,'data 1'!$A$2:$C$1430,2,FALSE) -> Lucan | C63: =VLOOKUP(A63,'data 1'!$A$2:$C$1430,3,FALSE) -> McDonagh Cillian | G63: 10 | J63: =SUM(D63:I63) -> 10
A64: 1710 | B64: =VLOOKUP(A64,'data 1'!$A$2:$C$1430,2,FALSE) -> Raheny | C64: =VLOOKUP(A64,'data 1'!$A$2:$C$1430,3,FALSE) -> Vasily stapolov | G64: 10 | J64: =SUM(D64:I64) -> 10
A65: 1314 | B65: =VLOOKUP(A65,'data 1'!$A$2:$C$1430,2,FALSE) -> Lusk | C65: =VLOOKUP(A65,'data 1'!$A$2:$C$1430,3,FALSE) -> Max Lennon | G65: 10 | J65: =SUM(D65:I65) -> 10
A66: 1320 | B66: =VLOOKUP(A66,'data 1'!$A$2:$C$1430,2,FALSE) -> Lusk | C66: =VLOOKUP(A66,'data 1'!$A$2:$C$1430,3,FALSE) -> Harry Devlin | G66: 10 | J66: =SUM(D66:I66) -> 10
A67: 1332 | B67: =VLOOKUP(A67,'data 1'!$A$2:$C$1430,2,FALSE) -> Lusk | C67: =VLOOKUP(A67,'data 1'!$A$2:$C$1430,3,FALSE) -> Conor Gleeson | G67: 10 | J67: =SUM(D67:I67) -> 10
A68: 519 | B68: =VLOOKUP(A68,'data 1'!$A$2:$C$1430,2,FALSE) -> Celtic | C68: =VLOOKUP(A68,'data 1'!$A$2:$C$1430,3,FALSE) -> Max Hardistatt | G68: 10 | J68: =SUM(D68:I68) -> 10
A69: 1250 | B69: =VLOOKUP(A69,'data 1'!$A$2:$C$1430,2,FALSE) -> Lucan | C69: =VLOOKUP(A69,'data 1'!$A$2:$C$1430,3,FALSE) -> Balamurugan Mithil | G69: 10 | J69: =SUM(D69:I69) -> 10
A70: 1434 | B70: =VLOOKUP(A70,'data 1'!$A$2:$C$1430,2,FALSE) -> MSB | C70: =VLOOKUP(A70,'data 1'!$A$2:$C$1430,3,FALSE) -> Dara Keely | G70: 10 | J70: =SUM(D70:I70) -> 10
A71: 1257 | B71: =VLOOKUP(A71,'data 1'!$A$2:$C$1430,2,FALSE) -> Lucan | C71: =VLOOKUP(A71,'data 1'!$A$2:$C$1430,3,FALSE) -> Quinn Casey | G71: 10 | J71: =SUM(D71:I71) -> 10

Sheet Boys U10
D1: League 1 | E1: League 2 | F1: League 3 | G1: Bonus | H1: Bonus | I1: Bonus | J1: Total
A2: No | B2: Club | C2: Name | G2: Points 1 | H2: Points 2 | I2: Points 2 | J2: Points
A3: 1414 | B3: =VLOOKUP(A3,'data 1'!$A$2:$C$1430,2,FALSE) -> MSB | C3: =VLOOKUP(A3,'data 1'!$A$2:$C$1430,3,FALSE) -> Isla McKeown | D3: 21 | G3: 10 | J3: =SUM(D3:I3) -> 31
A4: 602 | B4: =VLOOKUP(A4,'data 1'!$A$2:$C$1430,2,FALSE) -> Clonliffe | C4: =VLOOKUP(A4,'data 1'!$A$2:$C$1430,3,FALSE) -> Isaac O Neill | D4: 19 | G4: 10 | J4: =SUM(D4:I4) -> 29
A5: 1235 | B5: =VLOOKUP(A5,'data 1'!$A$2:$C$1430,2,FALSE) -> Lucan | C5: =VLOOKUP(A5,'data 1'!$A$2:$C$1430,3,FALSE) -> Anglim Séimí | D5: 18 | G5: 10 | J5: =SUM(D5:I5) -> 28
A6: 1325 | B6: =VLOOKUP(A6,'data 1'!$A$2:$C$1430,2,FALSE) -> Lusk | C6: =VLOOKUP(A6,'data 1'!$A$2:$C$1430,3,FALSE) -> Kai Henshaw | D6: 17 | G6: 10 | J6: =SUM(D6:I6) -> 27
A7: 4135 | B7: =VLOOKUP(A7,'data 1'!$A$2:$C$1430,2,FALSE) -> Cabinteely | C7: =VLOOKUP(A7,'data 1'!$A$2:$C$1430,3,FALSE) -> Jan Mc Hugh | D7: 16 | G7: 10 | J7: =SUM(D7:I7) -> 26
A8: 4134 | B8: =VLOOKUP(A8,'data 1'!$A$2:$C$1430,2,FALSE) -> Cabinteely | C8: =VLOOKUP(A8,'data 1'!$A$2:$C$1430,3,FALSE) -> Ollie Mc Hugh | D8: 15 | G8: 10 | J8: =SUM(D8:I8) -> 25
A9: 1315 | B9: =VLOOKUP(A9,'data 1'!$A$2:$C$1430,2,FALSE) -> Lusk | C9: =VLOOKUP(A9,'data 1'!$A$2:$C$1430,3,FALSE) -> Nicolas Doyle | D9: 14 | G9: 10 | J9: =SUM(D9:I9) -> 24
A10: 1427 | B10: =VLOOKUP(A10,'data 1'!$A$2:$C$1430,2,FALSE) -> MSB | C10: =VLOOKUP(A10,'data 1'!$A$2:$C$1430,3,FALSE) -> Odhran O’Sullivan | D10: 13 | G10: 10 | J10: =SUM(D10:I10) -> 23
A11: 504 | B11: =VLOOKUP(A11,'data 1'!$A$2:$C$1430,2,FALSE) -> Celtic | C11: =VLOOKUP(A11,'data 1'!$A$2:$C$1430,3,FALSE) -> Senan Downes | D11: 12 | G11: 10 | J11: =SUM(D11:I11) -> 22
A12: 1234 | B12: =VLOOKUP(A12,'data 1'!$A$2:$C$1430,2,FALSE) -> Lucan | C12: =VLOOKUP(A12,'data 1'!$A$2:$C$1430,3,FALSE) -> Abbott Stephen | D12: 11 | G12: 10 | J12: =SUM(D12:I12) -> 21
A13: 4205 | B13: =VLOOKUP(A13,'data 1'!$A$2:$C$1430,2,FALSE) -> Cabinteely | C13: =VLOOKUP(A13,'data 1'!$A$2:$C$1430,3,FALSE) -> Tadhg Urell | D13: 10 | G13: 10 | J13: =SUM(D13:I13) -> 20
A14: 1999/24 | B14: =VLOOKUP(A14,'data 1'!$A$2:$C$1430,2,FALSE) -> Skerries | C14: =VLOOKUP(A14,'data 1'!$A$2:$C$1430,3,FALSE) -> Malachy Sexton | D14: 9 | G14: 10 | J14: =SUM(D14:I14) -> 19
A15: 1425 | B15: =VLOOKUP(A15,'data 1'!$A$2:$C$1430,2,FALSE) -> MSB | C15: =VLOOKUP(A15,'data 1'!$A$2:$C$1430,3,FALSE) -> Cian Sherlock | D15: 8 | G15: 10 | J15: =SUM(D15:I15) -> 18
A16: 219 | B16: =VLOOKUP(A16,'data 1'!$A$2:$C$1430,2,FALSE) -> Blackrock | C16: =VLOOKUP(A16,'data 1'!$A$2:$C$1430,3,FALSE) -> Senan Griffith | D16: 7 | G16: 10 | J16: =SUM(D16:I16) -> 17
A17: 2312 | B17: =VLOOKUP(A17,'data 1'!$A$2:$C$1430,2,FALSE) -> Crusaders | C17: =VLOOKUP(A17,'data 1'!$A$2:$C$1430,3,FALSE) -> Zach Monahan | D17: 6 | G17: 10 | J17: =SUM(D17:I17) -> 16
A18: 1433 | B18: =VLOOKUP(A18,'data 1'!$A$2:$C$1430,2,FALSE) -> MSB | C18: =VLOOKUP(A18,'data 1'!$A$2:$C$1430,3,FALSE) -> Jack Larkin | D18: 5 | G18: 10 | J18: =SUM(D18:I18) -> 15
A19: 600 | B19: =VLOOKUP(A19,'data 1'!$A$2:$C$1430,2,FALSE) -> Clonliffe | C19: =VLOOKUP(A19,'data 1'!$A$2:$C$1430,3,FALSE) -> Eric Scanlan | D19: 4 | G19: 10 | J19: =SUM(D19:I19) -> 14
A20: 1241 | B20: =VLOOKUP(A20,'data 1'!$A$2:$C$1430,2,FALSE) -> Lucan | C20: =VLOOKUP(A20,'data 1'!$A$2:$C$1430,3,FALSE) -> Scallan Senan | D20: 3 | G20: 10 | J20: =SUM(D20:I20) -> 13
A21: 2918 | B21: Clongriffin | C21: Ruben Casey | D21: 2 | G21: 10 | J21: =SUM(D21:I21) -> 12
A22: 1301 | B22: =VLOOKUP(A22,'data 1'!$A$2:$C$1430,2,FALSE) -> Lusk | C22: =VLOOKUP(A22,'data 1'!$A$2:$C$1430,3,FALSE) -> Luke Rigney | D22: 1 | G22: 10 | J22: =SUM(D22:I22) -> 11
A23: 705 | B23: Donore | C23: Bobby Farrell | G23: 10 | J23: =SUM(D23:I23) -> 10
A24: 1318 | B24: =VLOOKUP(A24,'data 1'!$A$2:$C$1430,2,FALSE) -> Lusk | C24: =VLOOKUP(A24,'data 1'!$A$2:$C$1430,3,FALSE) -> Peter Ryan | G24: 10 | J24: =SUM(D24:I24) -> 10
A25: 1703 | B25: =VLOOKUP(A25,'data 1'!$A$2:$C$1430,2,FALSE) -> Raheny | C25: =VLOOKUP(A25,'data 1'!$A$2:$C$1430,3,FALSE) -> Cian Cooney | G25: 10 | J25: =SUM(D25:I25) -> 10
A26: 601 | B26: =VLOOKUP(A26,'data 1'!$A$2:$C$1430,2,FALSE) -> Clonliffe | C26: =VLOOKUP(A26,'data 1'!$A$2:$C$1430,3,FALSE) -> Finn Mc Gurren | G26: 10 | J26: =SUM(D26:I26) -> 10
A27: 706 | B27: Donore | C27: Micahel McCarthy | G27: 10 | J27: =SUM(D27:I27) -> 10
A28: 1602 | B28: =VLOOKUP(A28,'data 1'!$A$2:$C$1430,2,FALSE) -> Portmarnock | C28: =VLOOKUP(A28,'data 1'!$A$2:$C$1430,3,FALSE) -> Myles Duffy | G28: 10 | J28: =SUM(D28:I28) -> 10
A29: 213 | B29: =VLOOKUP(A29,'data 1'!$A$2:$C$1430,2,FALSE) -> Blackrock | C29: =VLOOKUP(A29,'data 1'!$A$2:$C$1430,3,FALSE) -> James Buckley | G29: 10 | J29: =SUM(D29:I29) -> 10
A30: 342 | B30: =VLOOKUP(A30,'data 1'!$A$2:$C$1430,2,FALSE) -> Bros Pearse | C30: =VLOOKUP(A30,'data 1'!$A$2:$C$1430,3,FALSE) -> James Kelly | G30: 10 | J30: =SUM(D30:I30) -> 10
A31: 604 | B31: =VLOOKUP(A31,'data 1'!$A$2:$C$1430,2,FALSE) -> Clonliffe | C31: =VLOOKUP(A31,'data 1'!$A$2:$C$1430,3,FALSE) -> Oisin Behan Daly | G31: 10 | J31: =SUM(D31:I31) -> 10
A32: 1429 | B32: =VLOOKUP(A32,'data 1'!$A$2:$C$1430,2,FALSE) -> MSB | C32: =VLOOKUP(A32,'data 1'!$A$2:$C$1430,3,FALSE) -> Eoghan McCoy | G32: 10 | J32: =SUM(D32:I32) -> 10
A33: 2602 | B33: =VLOOKUP(A33,'data 1'!$A$2:$C$1430,2,FALSE) -> Rathcoole | C33: =VLOOKUP(A33,'data 1'!$A$2:$C$1430,3,FALSE) -> Patrick Towey | G33: 10 | J33: =SUM(D33:I33) -> 10
A34: 1827 | B34: =VLOOKUP(A34,'data 1'!$A$2:$C$1430,2,FALSE) -> Rathfarnham | C34: =VLOOKUP(A34,'data 1'!$A$2:$C$1430,3,FALSE) -> Rebecca Connolly | G34: 10 | J34: =SUM(D34:I34) -> 10
A35: 1706 | B35: =VLOOKUP(A35,'data 1'!$A$2:$C$1430,2,FALSE) -> Raheny | C35: =VLOOKUP(A35,'data 1'!$A$2:$C$1430,3,FALSE) -> Joshua Carroll | G35: 10 | J35: =SUM(D35:I35) -> 10
A36: 606 | B36: =VLOOKUP(A36,'data 1'!$A$2:$C$1430,2,FALSE) -> Clonliffe | C36: =VLOOKUP(A36,'data 1'!$A$2:$C$1430,3,FALSE) -> Sebastian Pierce | G36: 10 | J36: =SUM(D36:I36) -> 10
A37: 605 | B37: =VLOOKUP(A37,'data 1'!$A$2:$C$1430,2,FALSE) -> Clonliffe | C37: =VLOOKUP(A37,'data 1'!$A$2:$C$1430,3,FALSE) -> Rhys Daly | G37: 10 | J37: =SUM(D37:I37) -> 10
A38: 1326 | B38: =VLOOKUP(A38,'data 1'!$A$2:$C$1430,2,FALSE) -> Lusk | C38: =VLOOKUP(A38,'data 1'!$A$2:$C$1430,3,FALSE) -> Eoin Reinhardt | G38: 10 | J38: =SUM(D38:I38) -> 10
A39: 1240 | B39: =VLOOKUP(A39,'data 1'!$A$2:$C$1430,2,FALSE) -> Lucan | C39: =VLOOKUP(A39,'data 1'!$A$2:$C$1430,3,FALSE) -> Power Milo | G39: 10 | J39: =SUM(D39:I39) -> 10
... A45: 1238 | B45: =VLOOKUP(A45,'data 1'!$A$2:$C$1430,2,FALSE) -> Lucan | C45: =VLOOKUP(A45,'data 1'!$A$2:$C$1430,3,FALSE) -> Finlay Michael | G45: 10 | J45: =SUM(D45:I45) -> 10
A46: 1999/51 | B46: =VLOOKUP(A46,'data 1'!$A$2:$C$1430,2,FALSE) -> Skerries | C46: =VLOOKUP(A46,'data 1'!$A$2:$C$1430,3,FALSE) -> Ruadhán Sullivan | G46: 10 | J46: =SUM(D46:I46) -> 10
A47: 1708 | B47: =VLOOKUP(A47,'data 1'!$A$2:$C$1430,2,FALSE) -> Raheny | C47: =VLOOKUP(A47,'data 1'!$A$2:$C$1430,3,FALSE) -> Jamie lynam | G47: 10 | J47: =SUM(D47:I47) -> 10
A48: 1110 | B48: =VLOOKUP(A48,'data 1'!$A$2:$C$1430,2,FALSE) -> LSA | C48: =VLOOKUP(A48,'data 1'!$A$2:$C$1430,3,FALSE) -> Cassian Corcoran | G48: 10 | J48: =SUM(D48:I48) -> 10
A49: 1334 | B49: =VLOOKUP(A49,'data 1'!$A$2:$C$1430,2,FALSE) -> Lusk | C49: =VLOOKUP(A49,'data 1'!$A$2:$C$1430,3,FALSE) -> Andrew O'Rourke | G49: 10 | J49: =SUM(D49:I49) -> 10
A50: 1307 | B50: =VLOOKUP(A50,'data 1'!$A$2:$C$1430,2,FALSE) -> Lusk | C50: =VLOOKUP(A50,'data 1'!$A$2:$C$1430,3,FALSE) -> Milan Takacs Dakai | G50: 10 | J50: =SUM(D50:I50) -> 10
A51: 214 | B51: =VLOOKUP(A51,'data 1'!$A$2:$C$1430,2,FALSE) -> Blackrock | C51: =VLOOKUP(A51,'data 1'!$A$2:$C$1430,3,FALSE) -> James Dooly | G51: 10 | J51: =SUM(D51:I51) -> 10
A52: 1430 | B52: =VLOOKUP(A52,'data 1'!$A$2:$C$1430,2,FALSE) -> MSB | C52: =VLOOKUP(A52,'data 1'!$A$2:$C$1430,3,FALSE) -> James Kenny | G52: 10 | J52: =SUM(D52:I52) -> 10
A53: 607 | B53: =VLOOKUP(A53,'data 1'!$A$2:$C$1430,2,FALSE) -> Clonliffe | C53: =VLOOKUP(A53,'data 1'!$A$2:$C$1430,3,FALSE) -> Tom Byrne | G53: 10 | J53: =SUM(D53:I53) -> 10
A54: 1237 | B54: =VLOOKUP(A54,'data 1'!$A$2:$C$1430,2,FALSE) -> Lucan | C54: =VLOOKUP(A54,'data 1'!$A$2:$C$1430,3,FALSE) -> Duffy Evan | G54: 10 | J54: =SUM(D54:I54) -> 10
A55: 1239 | B55: =VLOOKUP(A55,'data 1'!$A$2:$C$1430,2,FALSE) -> Lucan | C55: =VLOOKUP(A55,'data 1'!$A$2:$C$1430,3,FALSE) -> O'Keeffe Jack | G55: 10 | J55: =SUM(D55:I55) -> 10
A56: 1828 | B56: =VLOOKUP(A56,'data 1'!$A$2:$C$1430,2,FALSE) -> Rathfarnham | C56: =VLOOKUP(A56,'data 1'!$A$2:$C$1430,3,FALSE) -> Tadhg Moran | G56: 10 | J56: =SUM(D56:I56) -> 10
A57: 1401 | B57: =VLOOKUP(A57,'data 1'!$A$2:$C$1430,2,FALSE) -> MSB | C57: =VLOOKUP(A57,'data 1'!$A$2:$C$1430,3,FALSE) -> Aisling O’Brien | G57: 10 | J57: =SUM(D57:I57) -> 10
A58: 1236 | B58: =VLOOKUP(A58,'data 1'!$A$2:$C$1430,2,FALSE) -> Lucan | C58: =VLOOKUP(A58,'data 1'!$A$2:$C$1430,3,FALSE) -> Chavan Ameya | G58: 10 | J58: =SUM(D58:I58) -> 10
... A61: 812 | B61: =VLOOKUP(A61,'data 1'!$A$2:$C$1430,2,FALSE) -> DSD | C61: =VLOOKUP(A61,'data 1'!$A$2:$C$1430,3,FALSE) -> Maddox Blighe | G61: 10 | J61: =SUM(D61:I61) -> 10
A62: 600/79 | B62: Clonliffe | C62: Fernando Siliva | G62: 10 | J62: =SUM(D62:I62) -> 10
A63: 218 | B63: =VLOOKUP(A63,'data 1'!$A$2:$C$1430,2,FALSE) -> Blackrock | C63: =VLOOKUP(A63,'data 1'!$A$2:$C$1430,3,FALSE) -> Oisín Walsh | G63: 10 | J63: =SUM(D63:I63) -> 10
A64: 600/70 | B64: =VLOOKUP(A64,'data 1'!$A$2:$C$1430,2,FALSE) -> Clonliffe | C64: =VLOOKUP(A64,'data 1'!$A$2:$C$1430,3,FALSE) -> Luis Dau Henry | G64: 10 | J64: =SUM(D64:I64) -> 10
A65: 206 | B65: =VLOOKUP(A65,'data 1'!$A$2:$C$1430,2,FALSE) -> Blackrock | C65: =VLOOKUP(A65,'data 1'!$A$2:$C$1430,3,FALSE) -> Roan Bennett | G65: 10 | J65: =SUM(D65:I65) -> 10
A66: 1327 | B66: =VLOOKUP(A66,'data 1'!$A$2:$C$1430,2,FALSE) -> Lusk | C66: =VLOOKUP(A66,'data 1'!$A$2:$C$1430,3,FALSE) -> Donnacha Whyte | G66: 10 | J66: =SUM(D66:I66) -> 10
J84: =SUM(D84:I84) -> 0
J85: =SUM(D85:I85) -> 0
J86: =SUM(D86:I86) -> 0

Sheet Boys U9
D1: League 1 | E1: League 2 | F1: League 3 | G1: Bonus | H1: Bonus | I1: Bonus | J1: Total
A2: No | B2: Name | C2: Club | G2: Points 1 | H2: Points 2 | I2: Points 2 | J2: Points
A3: 1999/28 | B3: =VLOOKUP(A3,'data 1'!$A$2:$C$1430,2,FALSE) -> Skerries | C3: =VLOOKUP(A3,'data 1'!$A$2:$C$1430,3,FALSE) -> Max Quinn | D3: 21 | G3: 10 | J3: =SUM(D3:I3) -> 31
A4: 1436 | B4: =VLOOKUP(A4,'data 1'!$A$2:$C$1430,2,FALSE) -> MSB | C4: =VLOOKUP(A4,'data 1'!$A$2:$C$1430,3,FALSE) -> Aidan Ryan | D4: 19 | G4: 10 | J4: =SUM(D4:I4) -> 29
A5: 1439 | B5: =VLOOKUP(A5,'data 1'!$A$2:$C$1430,2,FALSE) -> MSB | C5: =VLOOKUP(A5,'data 1'!$A$2:$C$1430,3,FALSE) -> Rían McCarthy | D5: 18 | G5: 10 | J5: =SUM(D5:I5) -> 28
A6: 1212 | B6: =VLOOKUP(A6,'data 1'!$A$2:$C$1430,2,FALSE) -> Lucan | C6: =VLOOKUP(A6,'data 1'!$A$2:$C$1430,3,FALSE) -> Abbott David | D6: 17 | G6: 10 | J6: =SUM(D6:I6) -> 27
A7: 1701 | B7: =VLOOKUP(A7,'data 1'!$A$2:$C$1430,2,FALSE) -> Raheny | C7: =VLOOKUP(A7,'data 1'!$A$2:$C$1430,3,FALSE) -> Ben Synott | D7: 16 | G7: 10 | J7: =SUM(D7:I7) -> 26
A8: 2304 | B8: =VLOOKUP(A8,'data 1'!$A$2:$C$1430,2,FALSE) -> Crusaders | C8: =VLOOKUP(A8,'data 1'!$A$2:$C$1430,3,FALSE) -> Rian Healy | D8: 15 | G8: 10 | J8: =SUM(D8:I8) -> 25
A9: 1219 | B9: =VLOOKUP(A9,'data 1'!$A$2:$C$1430,2,FALSE) -> Lucan | C9: =VLOOKUP(A9,'data 1'!$A$2:$C$1430,3,FALSE) -> Smith Charlie | D9: 14 | G9: 10 | J9: =SUM(D9:I9) -> 24
A10: 1214 | B10: =VLOOKUP(A10,'data 1'!$A$2:$C$1430,2,FALSE) -> Lucan | C10: =VLOOKUP(A10,'data 1'!$A$2:$C$1430,3,FALSE) -> Coleman Daire | D10: 13 | G10: 10 | J10: =SUM(D10:I10) -> 23
A11: 1446 | B11: =VLOOKUP(A11,'data 1'!$A$2:$C$1430,2,FALSE) -> MSB | C11: =VLOOKUP(A11,'data 1'!$A$2:$C$1430,3,FALSE) -> Louis O’Flynn | D11: 12 | G11: 10 | J11: =SUM(D11:I11) -> 22
A12: 201 | B12: =VLOOKUP(A12,'data 1'!$A$2:$C$1430,2,FALSE) -> Blackrock | C12: =VLOOKUP(A12,'data 1'!$A$2:$C$1430,3,FALSE) -> Darragh Greenan | D12: 11 | G12: 10 | J12: =SUM(D12:I12) -> 21
A13: 1437 | B13: =VLOOKUP(A13,'data 1'!$A$2:$C$1430,2,FALSE) -> MSB | C13: =VLOOKUP(A13,'data 1'!$A$2:$C$1430,3,FALSE) -> Zach Birmingham | D13: 10 | G13: 10 | J13: =SUM(D13:I13) -> 20
A14: 1213 | B14: =VLOOKUP(A14,'data 1'!$A$2:$C$1430,2,FALSE) -> Lucan | C14: =VLOOKUP(A14,'data 1'!$A$2:$C$1430,3,FALSE) -> Bastable Paul | D14: 9 | G14: 10 | J14: =SUM(D14:I14) -> 19
A15: 1447 | B15: =VLOOKUP(A15,'data 1'!$A$2:$C$1430,2,FALSE) -> MSB | C15: =VLOOKUP(A15,'data 1'!$A$2:$C$1430,3,FALSE) -> Fionn Kelly | D15: 8 | G15: 10 | J15: =SUM(D15:I15) -> 18
... A18: 1445 | B18: =VLOOKUP(A18,'data 1'!$A$2:$C$1430,2,FALSE) -> MSB | C18: =VLOOKUP(A18,'data 1'!$A$2:$C$1430,3,FALSE) -> Eoin White | D18: 5 | G18: 10 | J18: =SUM(D18:I18) -> 15
A19: 600/71 | B19: =VLOOKUP(A19,'data 1'!$A$2:$C$1430,2,FALSE) -> Clonliffe | C19: =VLOOKUP(A19,'data 1'!$A$2:$C$1430,3,FALSE) -> Xavier Moss | D19: 4 | G19: 10 | J19: =SUM(D19:I19) -> 14
A20: 1441 | B20: =VLOOKUP(A20,'data 1'!$A$2:$C$1430,2,FALSE) -> MSB | C20: =VLOOKUP(A20,'data 1'!$A$2:$C$1430,3,FALSE) -> Daniel Kelly | D20: 3 | G20: 10 | J20: =SUM(D20:I20) -> 13
A21: 2920 | B21: Clongriffin | C21: Quinn O'Dwyer | D21: 2 | G21: 10 | J21: =SUM(D21:I21) -> 12
A22: 1438 | B22: =VLOOKUP(A22,'data 1'!$A$2:$C$1430,2,FALSE) -> MSB | C22: =VLOOKUP(A22,'data 1'!$A$2:$C$1430,3,FALSE) -> Tom Cooper | D22: 1 | G22: 10 | J22: =SUM(D22:I22) -> 11
A23: 704 | B23: Donore | C23: Ruari Quinn | G23: 10 | J23: =SUM(D23:I23) -> 10
A24: 703 | B24: Donore | C24: Eli Henley-Willis | G24: 10 | J24: =SUM(D24:I24) -> 10
A25: 1999/48 | B25: =VLOOKUP(A25,'data 1'!$A$2:$C$1430,2,FALSE) -> Skerries | C25: =VLOOKUP(A25,'data 1'!$A$2:$C$1430,3,FALSE) -> Rory Daly | G25: 10 | J25: =SUM(D25:I25) -> 10
A26: 202 | B26: =VLOOKUP(A26,'data 1'!$A$2:$C$1430,2,FALSE) -> Blackrock | C26: =VLOOKUP(A26,'data 1'!$A$2:$C$1430,3,FALSE) -> Evan O’Farrell | G26: 10 | J26: =SUM(D26:I26) -> 10
A27: 1310 | B27: =VLOOKUP(A27,'data 1'!$A$2:$C$1430,2,FALSE) -> Lusk | C27: =VLOOKUP(A27,'data 1'!$A$2:$C$1430,3,FALSE) -> James Moore | G27: 10 | J27: =SUM(D27:I27) -> 10
A28: 1308 | B28: =VLOOKUP(A28,'data 1'!$A$2:$C$1430,2,FALSE) -> Lusk | C28: =VLOOKUP(A28,'data 1'!$A$2:$C$1430,3,FALSE) -> Ethan Lakoma | G28: 10 | J28: =SUM(D28:I28) -> 10
A29: 1302 | B29: =VLOOKUP(A29,'data 1'!$A$2:$C$1430,2,FALSE) -> Lusk | C29: =VLOOKUP(A29,'data 1'!$A$2:$C$1430,3,FALSE) -> Nathan Krysiak | G29: 10 | J29: =SUM(D29:I29) -> 10
A30: 205 | B30: =VLOOKUP(A30,'data 1'!$A$2:$C$1430,2,FALSE) -> Blackrock | C30: =VLOOKUP(A30,'data 1'!$A$2:$C$1430,3,FALSE) -> Matthew murphy | G30: 10 | J30: =SUM(D30:I30) -> 10
A31: 1306 | B31: =VLOOKUP(A31,'data 1'!$A$2:$C$1430,2,FALSE) -> Lusk | C31: =VLOOKUP(A31,'data 1'!$A$2:$C$1430,3,FALSE) -> Sam Keegan Blair | G31: 10 | J31: =SUM(D31:I31) -> 10
A32: 1440 | B32: =VLOOKUP(A32,'data 1'!$A$2:$C$1430,2,FALSE) -> MSB | C32: =VLOOKUP(A32,'data 1'!$A$2:$C$1430,3,FALSE) -> Rowan Larkin | G32: 10 | J32: =SUM(D32:I32) -> 10
A33: 1101 | B33: =VLOOKUP(A33,'data 1'!$A$2:$C$1430,2,FALSE) -> LSA | C33: =VLOOKUP(A33,'data 1'!$A$2:$C$1430,3,FALSE) -> Daniel Cashin | G33: 10 | J33: =SUM(D33:I33) -> 10
A34: 1218 | B34: =VLOOKUP(A34,'data 1'!$A$2:$C$1430,2,FALSE) -> Lucan | C34: =VLOOKUP(A34,'data 1'!$A$2:$C$1430,3,FALSE) -> Ryan Evan | G34: 10 | J34: =SUM(D34:I34) -> 10
A35: 203 | B35: =VLOOKUP(A35,'data 1'!$A$2:$C$1430,2,FALSE) -> Blackrock | C35: =VLOOKUP(A35,'data 1'!$A$2:$C$1430,3,FALSE) -> Jeremy Conway | G35: 10 | J35: =SUM(D35:I35) -> 10
A36: 600/69 | B36: =VLOOKUP(A36,'data 1'!$A$2:$C$1430,2,FALSE) -> Clonliffe | C36: =VLOOKUP(A36,'data 1'!$A$2:$C$1430,3,FALSE) -> Joshua Daly | G36: 10 | J36: =SUM(D36:I36) -> 10
A37: 1443 | B37: =VLOOKUP(A37,'data 1'!$A$2:$C$1430,2,FALSE) -> MSB | C37: =VLOOKUP(A37,'data 1'!$A$2:$C$1430,3,FALSE) -> Cian Doran | G37: 10 | J37: =SUM(D37:I37) -> 10
A38: 305 | B38: =VLOOKUP(A38,'data 1'!$A$2:$C$1430,2,FALSE) -> Bros Pearse | C38: =VLOOKUP(A38,'data 1'!$A$2:$C$1430,3,FALSE) -> Maitiú Ó Murchú | G38: 10 | J38: =SUM(D38:I38) -> 10
A39: 600/68 | B39: =VLOOKUP(A39,'data 1'!$A$2:$C$1430,2,FALSE) -> Clonliffe | C39: =VLOOKUP(A39,'data 1'!$A$2:$C$1430,3,FALSE) -> Daniel Mc Donald | G39: 10 | J39: =SUM(D39:I39) -> 10
A40: 1999/46 | B40: =VLOOKUP(A40,'data 1'!$A$2:$C$1430,2,FALSE) -> Skerries | C40: =VLOOKUP(A40,'data 1'!$A$2:$C$1430,3,FALSE) -> Robert Murphy | G40: 10 | J40: =SUM(D40:I40) -> 10
A41: 207 | B41: =VLOOKUP(A41,'data 1'!$A$2:$C$1430,2,FALSE) -> Blackrock | C41: =VLOOKUP(A41,'data 1'!$A$2:$C$1430,3,FALSE) -> Sean Hanniffy | G41: 10 | J41: =SUM(D41:I41) -> 10
A42: 1442 | B42: =VLOOKUP(A42,'data 1'!$A$2:$C$1430,2,FALSE) -> MSB | C42: =VLOOKUP(A42,'data 1'!$A$2:$C$1430,3,FALSE) -> Tom Mullins | G42: 10 | J42: =SUM(D42:I42) -> 10
A43: 806 | B43: =VLOOKUP(A43,'data 1'!$A$2:$C$1430,2,FALSE) -> DSD | C43: =VLOOKUP(A43,'data 1'!$A$2:$C$1430,3,FALSE) -> Rory Connolly | G43: 10 | J43: =SUM(D43:I43) -> 10
A44: 503 | B44: =VLOOKUP(A44,'data 1'!$A$2:$C$1430,2,FALSE) -> Celtic | C44: =VLOOKUP(A44,'data 1'!$A$2:$C$1430,3,FALSE) -> Malcom Emmerson | G44: 10 | J44: =SUM(D44:I44) -> 10
A45: 804 | B45: =VLOOKUP(A45,'data 1'!$A$2:$C$1430,2,FALSE) -> DSD | C45: =VLOOKUP(A45,'data 1'!$A$2:$C$1430,3,FALSE) -> James Balinforth | G45: 10 | J45: =SUM(D45:I45) -> 10
A46: 600/80 | B46: Clonliffe | C46: Luis Dau Henry | G46: 10 | J46: =SUM(D46:I46) -> 10
A47: 1500 | B47: =VLOOKUP(A47,'data 1'!$A$2:$C$1430,2,FALSE) -> Mid Sutton | C47: =VLOOKUP(A47,'data 1'!$A$2:$C$1430,3,FALSE) -> Mark Reamsbottom | G47: 10 | J47: =SUM(D47:I47) -> 10
A48: 200 | B48: =VLOOKUP(A48,'data 1'!$A$2:$C$1430,2,FALSE) -> Blackrock | C48: =VLOOKUP(A48,'data 1'!$A$2:$C$1430,3,FALSE) -> Dara O Lanagain | G48: 10 | J48: =SUM(D48:I48) -> 10
A49: 833 | B49: =VLOOKUP(A49,'data 1'!$A$2:$C$1430,2,FALSE) -> DSD | C49: =VLOOKUP(A49,'data 1'!$A$2:$C$1430,3,FALSE) -> Aaron Callanan | G49: 10 | J49: =SUM(D49:I49) -> 10
A50: 1999/72 | B50: =VLOOKUP(A50,'data 1'!$A$2:$C$1430,2,FALSE) -> Skerries | C50: =VLOOKUP(A50,'data 1'!$A$2:$C$1430,3,FALSE) -> Tadhg O'Byrne | G50: 10 | J50: =SUM(D50:I50) -> 10
A51: 1881 | B51: =VLOOKUP(A51,'data 1'!$A$2:$C$1430,2,FALSE) -> Rathfarnham | C51: =VLOOKUP(A51,'data 1'!$A$2:$C$1430,3,FALSE) -> Senan Hanily | G51: 10 | J51: =SUM(D51:I51) -> 10
A52: 321 | B52: =VLOOKUP(A52,'data 1'!$A$2:$C$1430,2,FALSE) -> Bros Pearse | C52: =VLOOKUP(A52,'data 1'!$A$2:$C$1430,3,FALSE) -> Alex Teggin | G52: 10 | J52: =SUM(D52:I52) -> 10
A53: 204 | B53: =VLOOKUP(A53,'data 1'!$A$2:$C$1430,2,FALSE) -> Blackrock | C53: =VLOOKUP(A53,'data 1'!$A$2:$C$1430,3,FALSE) -> John Kennedy | G53: 10 | J53: =SUM(D53:I53) -> 10
J54: =SUM(D54:I54) -> 0
J55: =SUM(D55:I55) -> 0
J56: =SUM(D56:I56) -> 0
J57: =SUM(D57:I57) -> 0
J58: =SUM(D58:I58) -> 0
J59: =SUM(D59:I59) -> 0
J60: =SUM(D60:I60) -> 0
J61: =SUM(D61:I61) -> 0
J62: =SUM(D62:I62) -> 0
J63: =SUM(D63:I63) -> 0
J64: =SUM(D64:I64) -> 0
J65: =SUM(D65:I65) -> 0
... J86: =SUM(D86:I86) -> 0

Sheet Girls U19
D1: League 1 | E1: League 2 | F1: League 3 | G1: Bonus | H1: Bonus | I1: Bonus | J1: Total
A2: No | B2: Club | C2: Name | G2: Points 1 | H2: Points 2 | I2: Points 2 | J2: Points
A3: 579 | B3: =VLOOKUP(A3,'data 1'!$A$2:$C$1430,2,FALSE) -> Celtic | C3: =VLOOKUP(A3,'data 1'!$A$2:$C$1430,3,FALSE) -> Clare O connor | D3: 21 | G3: 10 | J3: =SUM(D3:I3) -> 31
A4: 2700 | B4: =VLOOKUP(A4,'data 1'!$A$2:$C$1430,2,FALSE) -> Marino | C4: =VLOOKUP(A4,'data 1'!$A$2:$C$1430,3,FALSE) -> Sofia Fox | D4: 19 | G4: 10 | J4: =SUM(D4:I4) -> 29
J5: =SUM(D5:I5) -> 0
J6: =SUM(D6:I6) -> 0
J7: =SUM(D7:I7) -> 0
J8: =SUM(D8:I8) -> 0
J9: =SUM(D9:I9) -> 0
J10: =SUM(D10:I10) -> 0
J11: =SUM(D11:I11) -> 0
J12: =SUM(D12:I12) -> 0
J13: =SUM(D13:I13) -> 0
J14: =SUM(D14:I14) -> 0
J15: =SUM(D15:I15) -> 0
J16: =SUM(D16:I16) -> 0
... J86: =SUM(D86:I86) -> 0

Sheet Girls U18
D1: League 1 | E1: League 2 | F1: League 3 | G1: Bonus | H1: Bonus | I1: Bonus | J1: Total
A2: No | B2: Club | C2: Name | G2: Points 1 | H2: Points 2 | I2: Points 2 | J2: Points
A3: 1299/32 | B3: =VLOOKUP(A3,'data 1'!$A$2:$C$1430,2,FALSE) -> Lucan | C3: =VLOOKUP(A3,'data 1'!$A$2:$C$1430,3,FALSE) -> Noctor Eve Marie | D3: 21 | G3: 10 | J3: =SUM(D3:I3) -> 31
A4: 575 | B4: =VLOOKUP(A4,'data 1'!$A$2:$C$1430,2,FALSE) -> Celtic | C4: =VLOOKUP(A4,'data 1'!$A$2:$C$1430,3,FALSE) -> Cliodhna Ryan | D4: 19 | G4: 10 | J4: =SUM(D4:I4) -> 29
A5: 1851 | B5: =VLOOKUP(A5,'data 1'!$A$2:$C$1430,2,FALSE) -> Rathfarnham | C5: =VLOOKUP(A5,'data 1'!$A$2:$C$1430,3,FALSE) -> Edel McCreery | D5: 18 | G5: 10 | J5: =SUM(D5:I5) -> 28
A6: 299 | B6: Blackrock | C6: Eva McCann | D6: 17 | G6: 10 | J6: =SUM(D6:I6) -> 27
A7: 837 | B7: =VLOOKUP(A7,'data 1'!$A$2:$C$1430,2,FALSE) -> DSD | C7: =VLOOKUP(A7,'data 1'!$A$2:$C$1430,3,FALSE) -> Ciara Wilson Bowan | D7: 16 | G7: 10 | J7: =SUM(D7:I7) -> 26
J8: =SUM(D8:I8) -> 0
J9: =SUM(D9:I9) -> 0
J10: =SUM(D10:I10) -> 0
J11: =SUM(D11:I11) -> 0
J12: =SUM(D12:I12) -> 0
J13: =SUM(D13:I13) -> 0
J14: =SUM(D14:I14) -> 0
J15: =SUM(D15:I15) -> 0
J16: =SUM(D16:I16) -> 0
J17: =SUM(D17:I17) -> 0
J18: =SUM(D18:I18) -> 0
J19: =SUM(D19:I19) -> 0
... J86: =SUM(D86:I86) -> 0

Sheet Girls U17
D1: League 1 | E1: League 2 | F1: League 3 | G1: Bonus | H1: Bonus | I1: Bonus | J1: Total
A2: No | B2: Club | C2: Name | G2: Points 1 | H2: Points 2 | I2: Points 2 | J2: Points
A3: 1299/27 | B3: =VLOOKUP(A3,'data 1'!$A$2:$C$1430,2,FALSE) -> Lucan | C3: =VLOOKUP(A3,'data 1'!$A$2:$C$1430,3,FALSE) -> Fitzpatrick Aisling | D3: 21 | G3: 10 | J3: =SUM(D3:I3) -> 31
A4: 1331 | B4: =VLOOKUP(A4,'data 1'!$A$2:$C$1430,2,FALSE) -> Lusk | C4: =VLOOKUP(A4,'data 1'!$A$2:$C$1430,3,FALSE) -> Maria Ferguson | D4: 19 | G4: 10 | J4: =SUM(D4:I4) -> 29
A5: 1807 | B5: =VLOOKUP(A5,'data 1'!$A$2:$C$1430,2,FALSE) -> Rathfarnham | C5: =VLOOKUP(A5,'data 1'!$A$2:$C$1430,3,FALSE) -> Ciara Murphy | D5: 18 | G5: 10 | J5: =SUM(D5:I5) -> 28
A6: 2007 | B6: =VLOOKUP(A6,'data 1'!$A$2:$C$1430,2,FALSE) -> Tallaght | C6: =VLOOKUP(A6,'data 1'!$A$2:$C$1430,3,FALSE) -> Matthew McHugh | D6: 17 | G6: 10 | J6: =SUM(D6:I6) -> 27
J7: =SUM(D7:I7) -> 0
J8: =SUM(D8:I8) -> 0
J9: =SUM(D9:I9) -> 0
J10: =SUM(D10:I10) -> 0
J11: =SUM(D11:I11) -> 0
J12: =SUM(D12:I12) -> 0
J13: =SUM(D13:I13) -> 0
J14: =SUM(D14:I14) -> 0
J15: =SUM(D15:I15) -> 0
J16: =SUM(D16:I16) -> 0
J17: =SUM(D17:I17) -> 0
J18: =SUM(D18:I18) -> 0
... J86: =SUM(D86:I86) -> 0

Sheet Girls U16
D1: League 1 | E1: League 2 | F1: League 3 | G1: Bonus | H1: Bonus | I1: Bonus | J1: Total
A2: No | B2: Club | C2: Name | G2: Points 1 | H2: Points 2 | I2: Points 2 | J2: Points
A3: 736 | B3: Donore | C3: Lorraine O'Connor | D3: 21 | G3: 10 | J3: =SUM(D3:I3) -> 31
A4: 1299/21 | B4: =VLOOKUP(A4,'data 1'!$A$2:$C$1430,2,FALSE) -> Lucan | C4: =VLOOKUP(A4,'data 1'!$A$2:$C$1430,3,FALSE) -> Fitzgerald Saoirse | D4: 19 | G4: 10 | J4: =SUM(D4:I4) -> 29
A5: 1299/20 | B5: =VLOOKUP(A5,'data 1'!$A$2:$C$1430,2,FALSE) -> Lucan | C5: =VLOOKUP(A5,'data 1'!$A$2:$C$1430,3,FALSE) -> Cuffe Isabel | D5: 18 | G5: 10 | J5: =SUM(D5:I5) -> 28
A6: 735 | B6: Donore | C6: Julie Cleary | D6: 17 | G6: 10 | J6: =SUM(D6:I6) -> 27
A7: 737 | B7: Donore | C7: Eva Crowe | D7: 16 | G7: 10 | J7: =SUM(D7:I7) -> 26
A8: 600/62 | B8: =VLOOKUP(A8,'data 1'!$A$2:$C$1430,2,FALSE) -> Clonliffe | C8: =VLOOKUP(A8,'data 1'!$A$2:$C$1430,3,FALSE) -> Ciara Sheedy | D8: 15 | G8: 10 | J8: =SUM(D8:I8) -> 25
A9: 734 | B9: Donore | C9: Eden Brangan Walsh | D9: 14 | G9: 10 | J9: =SUM(D9:I9) -> 24
A10: 1299/23 | B10: =VLOOKUP(A10,'data 1'!$A$2:$C$1430,2,FALSE) -> Lucan | C10: =VLOOKUP(A10,'data 1'!$A$2:$C$1430,3,FALSE) -> Ní Bhuachalla Sadhbh | D10: 13 | G10: 10 | J10: =SUM(D10:I10) -> 23
A11: 1874 | B11: =VLOOKUP(A11,'data 1'!$A$2:$C$1430,2,FALSE) -> Rathfarnham | C11: =VLOOKUP(A11,'data 1'!$A$2:$C$1430,3,FALSE) -> Jodie Richie | D11: 12 | G11: 10 | J11: =SUM(D11:I11) -> 22
A12: 600/65 | B12: =VLOOKUP(A12,'data 1'!$A$2:$C$1430,2,FALSE) -> Clonliffe | C12: =VLOOKUP(A12,'data 1'!$A$2:$C$1430,3,FALSE) -> Mya O Reilly | D12: 11 | G12: 10 | J12: =SUM(D12:I12) -> 21
A13: 1990 | B13: =VLOOKUP(A13,'data 1'!$A$2:$C$1430,2,FALSE) -> Skerries | C13: =VLOOKUP(A13,'data 1'!$A$2:$C$1430,3,FALSE) -> Joely Kennedy | D13: 10 | G13: 10 | J13: =SUM(D13:I13) -> 20
A14: 600/66 | B14: =VLOOKUP(A14,'data 1'!$A$2:$C$1430,2,FALSE) -> Clonliffe | C14: =VLOOKUP(A14,'data 1'!$A$2:$C$1430,3,FALSE) -> Rebecca Walsh | D14: 9 | G14: 10 | J14: =SUM(D14:I14) -> 19
A15: 1494 | B15: =VLOOKUP(A15,'data 1'!$A$2:$C$1430,2,FALSE) -> MSB | C15: =VLOOKUP(A15,'data 1'!$A$2:$C$1430,3,FALSE) -> Leah O'Dwyer | D15: 8 | G15: 10 | J15: =SUM(D15:I15) -> 18
A16: 1299/22 | B16: =VLOOKUP(A16,'data 1'!$A$2:$C$1430,2,FALSE) -> Lucan | C16: =VLOOKUP(A16,'data 1'!$A$2:$C$1430,3,FALSE) -> Kilcullen Katherine | D16: 7 | G16: 10 | J16: =SUM(D16:I16) -> 17
A17: 1982 | B17: =VLOOKUP(A17,'data 1'!$A$2:$C$1430,2,FALSE) -> Skerries | C17: =VLOOKUP(A17,'data 1'!$A$2:$C$1430,3,FALSE) -> Isobel Davis | D17: 6 | G17: 10 | J17: =SUM(D17:I17) -> 16
A18: 298 | B18: Blackrock | C18: Olivia Gaughran | D18: 5 | G18: 10 | J18: =SUM(D18:I18) -> 15
A19: 1808 | B19: =VLOOKUP(A19,'data 1'!$A$2:$C$1430,2,FALSE) -> Rathfarnham | C19: =VLOOKUP(A19,'data 1'!$A$2:$C$1430,3,FALSE) -> Sarah Murphy | D19: 4 | G19: 10 | J19: =SUM(D19:I19) -> 14
A20: 297 | B20: =VLOOKUP(A20,'data 1'!$A$2:$C$1430,2,FALSE) -> Blackrock | C20: =VLOOKUP(A20,'data 1'!$A$2:$C$1430,3,FALSE) -> Charlotte Croke | D20: 3 | G20: 10 | J20: =SUM(D20:I20) -> 13
A21: 567 | B21: =VLOOKUP(A21,'data 1'!$A$2:$C$1430,2,FALSE) -> Celtic | D21: 2 | G21: 10 | J21: =SUM(D21:I21) -> 12
A22: 1299/24 | B22: =VLOOKUP(A22,'data 1'!$A$2:$C$1430,2,FALSE) -> Lucan | C22: =VLOOKUP(A22,'data 1'!$A$2:$C$1430,3,FALSE) -> Tomney Eilis | D22: 1 | G22: 10 | J22: =SUM(D22:I22) -> 11
A23: 842 | B23: =VLOOKUP(A23,'data 1'!$A$2:$C$1430,2,FALSE) -> DSD | C23: =VLOOKUP(A23,'data 1'!$A$2:$C$1430,3,FALSE) -> Olivia O'Carolan | G23: 10 | J23: =SUM(D23:I23) -> 10
A24: 600/58 | B24: =VLOOKUP(A24,'data 1'!$A$2:$C$1430,2,FALSE) -> Clonliffe | C24: =VLOOKUP(A24,'data 1'!$A$2:$C$1430,3,FALSE) -> Alexandra Rose Kelly | G24: 10 | J24: =SUM(D24:I24) -> 10
A25: 10 | B25: =VLOOKUP(A25,'data 1'!$A$2:$C$1430,2,FALSE) -> Balbriggan | C25: =VLOOKUP(A25,'data 1'!$A$2:$C$1430,3,FALSE) -> Jasmine Hughes | G25: 10 | J25: =SUM(D25:I25) -> 10
J26: =SUM(D26:I26) -> 0
J27: =SUM(D27:I27) -> 0
J28: =SUM(D28:I28) -> 0
J29: =SUM(D29:I29) -> 0
J30: =SUM(D30:I30) -> 0
J31: =SUM(D31:I31) -> 0
J32: =SUM(D32:I32) -> 0
J33: =SUM(D33:I33) -> 0
J34: =SUM(D34:I34) -> 0
J35: =SUM(D35:I35) -> 0
J36: =SUM(D36:I36) -> 0
J37: =SUM(D37:I37) -> 0
... J86: =SUM(D86:I86) -> 0

Sheet Girls U15
D1: League 1 | E1: League 2 | F1: League 3 | G1: Bonus | H1: Bonus | I1: Bonus | J1: Total
A2: No | B2: Club | C2: Name | G2: Points 1 | H2: Points 2 | I2: Points 2 | J2: Points
A3: 724 | B3: Donore | C3: Emily Bolton | D3: 21 | G3: 10 | J3: =SUM(D3:I3) -> 31
A4: 560 | B4: =VLOOKUP(A4,'data 1'!$A$2:$C$1430,2,FALSE) -> Celtic | C4: =VLOOKUP(A4,'data 1'!$A$2:$C$1430,3,FALSE) -> Goda Buivydyte | D4: 19 | G4: 10 | J4: =SUM(D4:I4) -> 29
A5: 1400/18 | B5: =VLOOKUP(A5,'data 1'!$A$2:$C$1430,2,FALSE) -> MSB | C5: =VLOOKUP(A5,'data 1'!$A$2:$C$1430,3,FALSE) -> Leia Ryan | D5: 18 | G5: 10 | J5: =SUM(D5:I5) -> 28
A6: 1739 | B6: =VLOOKUP(A6,'data 1'!$A$2:$C$1430,2,FALSE) -> Raheny | C6: =VLOOKUP(A6,'data 1'!$A$2:$C$1430,3,FALSE) -> Chloe Griffin | D6: 17 | G6: 10 | J6: =SUM(D6:I6) -> 27
A7: 300/33 | B7: =VLOOKUP(A7,'data 1'!$A$2:$C$1430,2,FALSE) -> Bros Pearse | C7: =VLOOKUP(A7,'data 1'!$A$2:$C$1430,3,FALSE) -> Leila Halpin | D7: 16 | G7: 10 | J7: =SUM(D7:I7) -> 26
A8: 1339 | B8: =VLOOKUP(A8,'data 1'!$A$2:$C$1430,2,FALSE) -> Lusk | C8: =VLOOKUP(A8,'data 1'!$A$2:$C$1430,3,FALSE) -> Sarah Burke | D8: 15 | G8: 10 | J8: =SUM(D8:I8) -> 25
A9: 1738 | B9: =VLOOKUP(A9,'data 1'!$A$2:$C$1430,2,FALSE) -> Raheny | C9: =VLOOKUP(A9,'data 1'!$A$2:$C$1430,3,FALSE) -> Cara Griffin | D9: 14 | G9: 10 | J9: =SUM(D9:I9) -> 24
A10: 843 | B10: =VLOOKUP(A10,'data 1'!$A$2:$C$1430,2,FALSE) -> DSD | C10: =VLOOKUP(A10,'data 1'!$A$2:$C$1430,3,FALSE) -> Alannah Giles | D10: 13 | G10: 10 | J10: =SUM(D10:I10) -> 23
A11: 1004 | B11: =VLOOKUP(A11,'data 1'!$A$2:$C$1430,2,FALSE) -> Fingallions | C11: =VLOOKUP(A11,'data 1'!$A$2:$C$1430,3,FALSE) -> Marthna Wneczak | D11: 12 | G11: 10 | J11: =SUM(D11:I11) -> 22
A12: 811 | B12: =VLOOKUP(A12,'data 1'!$A$2:$C$1430,2,FALSE) -> DSD | C12: =VLOOKUP(A12,'data 1'!$A$2:$C$1430,3,FALSE) -> Isabella Prina Mello | D12: 11 | G12: 10 | J12: =SUM(D12:I12) -> 21
A13: 559 | B13: =VLOOKUP(A13,'data 1'!$A$2:$C$1430,2,FALSE) -> Celtic | C13: =VLOOKUP(A13,'data 1'!$A$2:$C$1430,3,FALSE) -> Aimee Ryan | D13: 10 | G13: 10 | J13: =SUM(D13:I13) -> 20
A14: 292 | B14: =VLOOKUP(A14,'data 1'!$A$2:$C$1430,2,FALSE) -> Blackrock | C14: =VLOOKUP(A14,'data 1'!$A$2:$C$1430,3,FALSE) -> Aine McGoldrick | D14: 9 | G14: 10 | J14: =SUM(D14:I14) -> 19
A15: 561 | B15: =VLOOKUP(A15,'data 1'!$A$2:$C$1430,2,FALSE) -> Celtic | C15: =VLOOKUP(A15,'data 1'!$A$2:$C$1430,3,FALSE) -> Nina Turkalj | D15: 8 | G15: 10 | J15: =SUM(D15:I15) -> 18
A16: 1299/9 | B16: =VLOOKUP(A16,'data 1'!$A$2:$C$1430,2,FALSE) -> Lucan | C16: =VLOOKUP(A16,'data 1'!$A$2:$C$1430,3,FALSE) -> Collis Eva | D16: 7 | G16: 10 | J16: =SUM(D16:I16) -> 17
A17: 1735 | B17: =VLOOKUP(A17,'data 1'!$A$2:$C$1430,2,FALSE) -> Raheny | C17: =VLOOKUP(A17,'data 1'!$A$2:$C$1430,3,FALSE) -> Frejya O’Carroll | D17: 6 | G17: 10 | J17: =SUM(D17:I17) -> 16
A18: 838 | B18: =VLOOKUP(A18,'data 1'!$A$2:$C$1430,2,FALSE) -> DSD | C18: =VLOOKUP(A18,'data 1'!$A$2:$C$1430,3,FALSE) -> Tara Murphy | D18: 5 | G18: 10 | J18: =SUM(D18:I18) -> 15
A19: 1737 | B19: =VLOOKUP(A19,'data 1'!$A$2:$C$1430,2,FALSE) -> Raheny | C19: =VLOOKUP(A19,'data 1'!$A$2:$C$1430,3,FALSE) -> Rachel Costello | D19: 4 | G19: 10 | J19: =SUM(D19:I19) -> 14
A20: 600/43 | B20: =VLOOKUP(A20,'data 1'!$A$2:$C$1430,2,FALSE) -> Clonliffe | C20: =VLOOKUP(A20,'data 1'!$A$2:$C$1430,3,FALSE) -> Sandy-Rose Kivlehan | D20: 3 | G20: 10 | J20: =SUM(D20:I20) -> 13
A21: 293 | B21: Blackrock | C21: Sophie Rose Walsh | D21: 2 | G21: 10 | J21: =SUM(D21:I21) -> 12
A22: 1736 | B22: =VLOOKUP(A22,'data 1'!$A$2:$C$1430,2,FALSE) -> Raheny | C22: =VLOOKUP(A22,'data 1'!$A$2:$C$1430,3,FALSE) -> Esther Ntoko | D22: 1 | G22: 10 | J22: =SUM(D22:I22) -> 11
A23: 729 | B23: Donore | C23: Abigail Tolan | G23: 10 | J23: =SUM(D23:I23) -> 10
A24: 810 | B24: =VLOOKUP(A24,'data 1'!$A$2:$C$1430,2,FALSE) -> DSD | C24: =VLOOKUP(A24,'data 1'!$A$2:$C$1430,3,FALSE) -> Siabh Hassett | G24: 10 | J24: =SUM(D24:I24) -> 10
A25: 1299/7 | B25: =VLOOKUP(A25,'data 1'!$A$2:$C$1430,2,FALSE) -> Lucan | C25: =VLOOKUP(A25,'data 1'!$A$2:$C$1430,3,FALSE) -> Bracken Alison | G25: 10 | J25: =SUM(D25:I25) -> 10
A26: 600/41 | B26: =VLOOKUP(A26,'data 1'!$A$2:$C$1430,2,FALSE) -> Clonliffe | C26: =VLOOKUP(A26,'data 1'!$A$2:$C$1430,3,FALSE) -> Rachel Ardiff | G26: 10 | J26: =SUM(D26:I26) -> 10
A27: 557 | B27: =VLOOKUP(A27,'data 1'!$A$2:$C$1430,2,FALSE) -> Celtic | C27: =VLOOKUP(A27,'data 1'!$A$2:$C$1430,3,FALSE) -> Aoibhinn Mc Auley | G27: 10 | J27: =SUM(D27:I27) -> 10
A28: 2311 | B28: =VLOOKUP(A28,'data 1'!$A$2:$C$1430,2,FALSE) -> Crusaders | C28: =VLOOKUP(A28,'data 1'!$A$2:$C$1430,3,FALSE) -> Aifric Crehan | G28: 10 | J28: =SUM(D28:I28) -> 10
A29: 600/38 | B29: =VLOOKUP(A29,'data 1'!$A$2:$C$1430,2,FALSE) -> Clonliffe | C29: =VLOOKUP(A29,'data 1'!$A$2:$C$1430,3,FALSE) -> Harriet Kenny | G29: 10 | J29: =SUM(D29:I29) -> 10
A30: 1400/17 | B30: =VLOOKUP(A30,'data 1'!$A$2:$C$1430,2,FALSE) -> MSB | C30: =VLOOKUP(A30,'data 1'!$A$2:$C$1430,3,FALSE) -> Aoife McQuaid | G30: 10 | J30: =SUM(D30:I30) -> 10
A31: 1400/16 | B31: =VLOOKUP(A31,'data 1'!$A$2:$C$1430,2,FALSE) -> MSB | C31: =VLOOKUP(A31,'data 1'!$A$2:$C$1430,3,FALSE) -> Aisling Philips | G31: 10 | J31: =SUM(D31:I31) -> 10
A32: 300/36 | B32: =VLOOKUP(A32,'data 1'!$A$2:$C$1430,2,FALSE) -> Bros Pearse | C32: =VLOOKUP(A32,'data 1'!$A$2:$C$1430,3,FALSE) -> Keira Murnaghan | G32: 10 | J32: =SUM(D32:I32) -> 10
A33: 725 | B33: Donore | C33: Ava Hoare | G33: 10 | J33: =SUM(D33:I33) -> 10
A34: 8 | B34: =VLOOKUP(A34,'data 1'!$A$2:$C$1430,2,FALSE) -> Balbriggan | C34: =VLOOKUP(A34,'data 1'!$A$2:$C$1430,3,FALSE) -> Ashley Guinan | G34: 10 | J34: =SUM(D34:I34) -> 10
J35: =SUM(D35:I35) -> 0
J36: =SUM(D36:I36) -> 0
J37: =SUM(D37:I37) -> 0
J38: =SUM(D38:I38) -> 0
J39: =SUM(D39:I39) -> 0
J40: =SUM(D40:I40) -> 0
J41: =SUM(D41:I41) -> 0
J42: =SUM(D42:I42) -> 0
J43: =SUM(D43:I43) -> 0
J44: =SUM(D44:I44) -> 0
J45: =SUM(D45:I45) -> 0
J46: =SUM(D46:I46) -> 0
... J86: =SUM(D86:I86) -> 0

Sheet Girls U14
D1: League 1 | E1: League 2 | F1: League 3 | G1: Bonus | H1: Bonus | I1: Bonus | J1: Total
A2: No | B2: Club | C2: Name | G2: Points 1 | H2: Points 2 | I2: Points 2 | J2: Points
A3: 1297 | B3: =VLOOKUP(A3,'data 1'!$A$2:$C$1430,2,FALSE) -> Lucan | C3: =VLOOKUP(A3,'data 1'!$A$2:$C$1430,3,FALSE) -> Jez Rachel | D3: 21 | G3: 10 | J3: =SUM(D3:I3) -> 31
A4: 1400/11 | B4: =VLOOKUP(A4,'data 1'!$A$2:$C$1430,2,FALSE) -> MSB | C4: =VLOOKUP(A4,'data 1'!$A$2:$C$1430,3,FALSE) -> Isla O'Dwyer | D4: 19 | G4: 10 | J4: =SUM(D4:I4) -> 29
A5: 1732 | B5: =VLOOKUP(A5,'data 1'!$A$2:$C$1430,2,FALSE) -> Raheny | C5: =VLOOKUP(A5,'data 1'!$A$2:$C$1430,3,FALSE) -> Claire O’Leary | D5: 18 | G5: 10 | J5: =SUM(D5:I5) -> 28
A6: 721 | B6: Donore | C6: Lily Clarke Hanrahan | D6: 17 | G6: 10 | J6: =SUM(D6:I6) -> 27
A7: 1299/2 | B7: =VLOOKUP(A7,'data 1'!$A$2:$C$1430,2,FALSE) -> Lucan | C7: =VLOOKUP(A7,'data 1'!$A$2:$C$1430,3,FALSE) -> Ní Bhuachalla Muireann | D7: 16 | G7: 10 | J7: =SUM(D7:I7) -> 26
A8: 1856 | B8: =VLOOKUP(A8,'data 1'!$A$2:$C$1430,2,FALSE) -> Rathfarnham | C8: =VLOOKUP(A8,'data 1'!$A$2:$C$1430,3,FALSE) -> Keely Sheridan | D8: 15 | G8: 10 | J8: =SUM(D8:I8) -> 25
A9: 1299 | B9: =VLOOKUP(A9,'data 1'!$A$2:$C$1430,2,FALSE) -> Lucan | C9: =VLOOKUP(A9,'data 1'!$A$2:$C$1430,3,FALSE) -> Kenny Ellen | D9: 14 | G9: 10 | J9: =SUM(D9:I9) -> 24
A10: 1734 | B10: =VLOOKUP(A10,'data 1'!$A$2:$C$1430,2,FALSE) -> Raheny | C10: =VLOOKUP(A10,'data 1'!$A$2:$C$1430,3,FALSE) -> Sophie Kelly | D10: 13 | G10: 10 | J10: =SUM(D10:I10) -> 23
A11: 1917 | B11: =VLOOKUP(A11,'data 1'!$A$2:$C$1430,2,FALSE) -> Skerries | C11: =VLOOKUP(A11,'data 1'!$A$2:$C$1430,3,FALSE) -> Ava O'Connor | D11: 12 | G11: 10 | J11: =SUM(D11:I11) -> 22
A12: 287 | B12: =VLOOKUP(A12,'data 1'!$A$2:$C$1430,2,FALSE) -> Blackrock | C12: =VLOOKUP(A12,'data 1'!$A$2:$C$1430,3,FALSE) -> Emelie Vioreanu | D12: 11 | G12: 10 | J12: =SUM(D12:I12) -> 21
A13: 1296 | B13: =VLOOKUP(A13,'data 1'!$A$2:$C$1430,2,FALSE) -> Lucan | C13: =VLOOKUP(A13,'data 1'!$A$2:$C$1430,3,FALSE) -> Conway Clodagh | D13: 10 | G13: 10 | J13: =SUM(D13:I13) -> 20
A14: 552 | B14: =VLOOKUP(A14,'data 1'!$A$2:$C$1430,2,FALSE) -> Celtic | C14: =VLOOKUP(A14,'data 1'!$A$2:$C$1430,3,FALSE) -> Abigal Delaney | D14: 9 | G14: 10 | J14: =SUM(D14:I14) -> 19
A15: 841 | B15: =VLOOKUP(A15,'data 1'!$A$2:$C$1430,2,FALSE) -> DSD | C15: =VLOOKUP(A15,'data 1'!$A$2:$C$1430,3,FALSE) -> Sophie Lawrence | D15: 8 | G15: 10 | J15: =SUM(D15:I15) -> 18
A16: 600/22 | B16: =VLOOKUP(A16,'data 1'!$A$2:$C$1430,2,FALSE) -> Clonliffe | C16: =VLOOKUP(A16,'data 1'!$A$2:$C$1430,3,FALSE) -> Sophie Kernan | D16: 7 | G16: 10 | J16: =SUM(D16:I16) -> 17
A17: 288 | B17: =VLOOKUP(A17,'data 1'!$A$2:$C$1430,2,FALSE) -> Blackrock | C17: =VLOOKUP(A17,'data 1'!$A$2:$C$1430,3,FALSE) -> Eva Kelly | D17: 6 | G17: 10 | J17: =SUM(D17:I17) -> 16
A18: 1003 | B18: =VLOOKUP(A18,'data 1'!$A$2:$C$1430,2,FALSE) -> Fingallions | C18: =VLOOKUP(A18,'data 1'!$A$2:$C$1430,3,FALSE) -> Bella Meaney | D18: 5 | G18: 10 | J18: =SUM(D18:I18) -> 15
A19: 549 | B19: =VLOOKUP(A19,'data 1'!$A$2:$C$1430,2,FALSE) -> Celtic | C19: =VLOOKUP(A19,'data 1'!$A$2:$C$1430,3,FALSE) -> Megan O'Leary | D19: 4 | G19: 10 | J19: =SUM(D19:I19) -> 14
A20: 828 | B20: =VLOOKUP(A20,'data 1'!$A$2:$C$1430,2,FALSE) -> DSD | C20: =VLOOKUP(A20,'data 1'!$A$2:$C$1430,3,FALSE) -> Robyn O'Halloran | D20: 3 | G20: 10 | J20: =SUM(D20:I20) -> 13
A21: 1298 | B21: =VLOOKUP(A21,'data 1'!$A$2:$C$1430,2,FALSE) -> Lucan | C21: =VLOOKUP(A21,'data 1'!$A$2:$C$1430,3,FALSE) -> Jones Ana | D21: 2 | G21: 10 | J21: =SUM(D21:I21) -> 12
A22: 1295 | B22: =VLOOKUP(A22,'data 1'!$A$2:$C$1430,2,FALSE) -> Lucan | C22: =VLOOKUP(A22,'data 1'!$A$2:$C$1430,3,FALSE) -> King Elena | D22: 1 | G22: 10 | J22: =SUM(D22:I22) -> 11
A23: 1526 | B23: =VLOOKUP(A23,'data 1'!$A$2:$C$1430,2,FALSE) -> Mid Sutton | C23: =VLOOKUP(A23,'data 1'!$A$2:$C$1430,3,FALSE) -> Meabh Mulvaney | G23: 10 | J23: =SUM(D23:I23) -> 10
A24: 550 | B24: =VLOOKUP(A24,'data 1'!$A$2:$C$1430,2,FALSE) -> Celtic | C24: =VLOOKUP(A24,'data 1'!$A$2:$C$1430,3,FALSE) -> Ella Gimartin-Cluskey | G24: 10 | J24: =SUM(D24:I24) -> 10
A25: 1400/12 | B25: =VLOOKUP(A25,'data 1'!$A$2:$C$1430,2,FALSE) -> MSB | C25: =VLOOKUP(A25,'data 1'!$A$2:$C$1430,3,FALSE) -> Michelle Mujica | G25: 10 | J25: =SUM(D25:I25) -> 10
A26: 600/19 | B26: =VLOOKUP(A26,'data 1'!$A$2:$C$1430,2,FALSE) -> Clonliffe | C26: =VLOOKUP(A26,'data 1'!$A$2:$C$1430,3,FALSE) -> Ruby Kelly | G26: 10 | J26: =SUM(D26:I26) -> 10
A27: 839 | B27: =VLOOKUP(A27,'data 1'!$A$2:$C$1430,2,FALSE) -> DSD | C27: =VLOOKUP(A27,'data 1'!$A$2:$C$1430,3,FALSE) -> Ailbhe Ward | G27: 10 | J27: =SUM(D27:I27) -> 10
A28: 1527 | B28: =VLOOKUP(A28,'data 1'!$A$2:$C$1430,2,FALSE) -> Mid Sutton | C28: =VLOOKUP(A28,'data 1'!$A$2:$C$1430,3,FALSE) -> Tara Nugent | G28: 10 | J28: =SUM(D28:I28) -> 10
A29: 600/21 | B29: =VLOOKUP(A29,'data 1'!$A$2:$C$1430,2,FALSE) -> Clonliffe | C29: =VLOOKUP(A29,'data 1'!$A$2:$C$1430,3,FALSE) -> Sophie Ní Reachtagáin | G29: 10 | J29: =SUM(D29:I29) -> 10
A30: 600/20 | B30: =VLOOKUP(A30,'data 1'!$A$2:$C$1430,2,FALSE) -> Clonliffe | C30: =VLOOKUP(A30,'data 1'!$A$2:$C$1430,3,FALSE) -> Sienna Kelly | G30: 10 | J30: =SUM(D30:I30) -> 10
A31: 1812 | B31: =VLOOKUP(A31,'data 1'!$A$2:$C$1430,2,FALSE) -> Rathfarnham | C31: =VLOOKUP(A31,'data 1'!$A$2:$C$1430,3,FALSE) -> Alecia Maughan | G31: 10 | J31: =SUM(D31:I31) -> 10
A32: 1804 | B32: =VLOOKUP(A32,'data 1'!$A$2:$C$1430,2,FALSE) -> Rathfarnham | C32: =VLOOKUP(A32,'data 1'!$A$2:$C$1430,3,FALSE) -> Kate Connolly | G32: 10 | J32: =SUM(D32:I32) -> 10
A33: 1731 | B33: =VLOOKUP(A33,'data 1'!$A$2:$C$1430,2,FALSE) -> Raheny | C33: =VLOOKUP(A33,'data 1'!$A$2:$C$1430,3,FALSE) -> Ellie Farrell | G33: 10 | J33: =SUM(D33:I33) -> 10
A34: 553 | B34: =VLOOKUP(A34,'data 1'!$A$2:$C$1430,2,FALSE) -> Celtic | C34: =VLOOKUP(A34,'data 1'!$A$2:$C$1430,3,FALSE) -> Martha Fisher | G34: 10 | J34: =SUM(D34:I34) -> 10
A35: 1803 | B35: =VLOOKUP(A35,'data 1'!$A$2:$C$1430,2,FALSE) -> Rathfarnham | C35: =VLOOKUP(A35,'data 1'!$A$2:$C$1430,3,FALSE) -> Mia Whearity | G35: 10 | J35: =SUM(D35:I35) -> 10
A36: 600/23 | B36: =VLOOKUP(A36,'data 1'!$A$2:$C$1430,2,FALSE) -> Clonliffe | C36: =VLOOKUP(A36,'data 1'!$A$2:$C$1430,3,FALSE) -> Zoe Mulligan | G36: 10 | J36: =SUM(D36:I36) -> 10
A37: 300/16 | B37: =VLOOKUP(A37,'data 1'!$A$2:$C$1430,2,FALSE) -> Bros Pearse | C37: =VLOOKUP(A37,'data 1'!$A$2:$C$1430,3,FALSE) -> Sophia Roche | G37: 10 | J37: =SUM(D37:I37) -> 10
A38: 289 | B38: =VLOOKUP(A38,'data 1'!$A$2:$C$1430,2,FALSE) -> Blackrock | C38: =VLOOKUP(A38,'data 1'!$A$2:$C$1430,3,FALSE) -> Sophie McCann | G38: 10 | J38: =SUM(D38:I38) -> 10
A39: 1299/37 | B39: =VLOOKUP(A39,'data 1'!$A$2:$C$1430,2,FALSE) -> Lucan | C39: =VLOOKUP(A39,'data 1'!$A$2:$C$1430,3,FALSE) -> Breen Niamh | G39: 10 | J39: =SUM(D39:I39) -> 10
A40: 600/10 | B40: =VLOOKUP(A40,'data 1'!$A$2:$C$1430,2,FALSE) -> Clonliffe | C40: =VLOOKUP(A40,'data 1'!$A$2:$C$1430,3,FALSE) -> Beibhinn Dunphy | G40: 10 | J40: =SUM(D40:I40) -> 10
A41: 600/14 | B41: =VLOOKUP(A41,'data 1'!$A$2:$C$1430,2,FALSE) -> Clonliffe | C41: =VLOOKUP(A41,'data 1'!$A$2:$C$1430,3,FALSE) -> Isabel Hickey | G41: 10 | J41: =SUM(D41:I41) -> 10
A42: 1956 | B42: =VLOOKUP(A42,'data 1'!$A$2:$C$1430,2,FALSE) -> Skerries | C42: =VLOOKUP(A42,'data 1'!$A$2:$C$1430,3,FALSE) -> Emma Bolger | G42: 10 | J42: =SUM(D42:I42) -> 10
A43: 1299/1 | B43: =VLOOKUP(A43,'data 1'!$A$2:$C$1430,2,FALSE) -> Lucan | C43: =VLOOKUP(A43,'data 1'!$A$2:$C$1430,3,FALSE) -> McCaffrey Emma | G43: 10 | J43: =SUM(D43:I43) -> 10
A44: 600/15 | B44: =VLOOKUP(A44,'data 1'!$A$2:$C$1430,2,FALSE) -> Clonliffe | C44: =VLOOKUP(A44,'data 1'!$A$2:$C$1430,3,FALSE) -> Leah O Reilly | G44: 10 | J44: =SUM(D44:I44) -> 10
A45: 7 | B45: =VLOOKUP(A45,'data 1'!$A$2:$C$1430,2,FALSE) -> Balbriggan | C45: =VLOOKUP(A45,'data 1'!$A$2:$C$1430,3,FALSE) -> Sophie Skilling | G45: 10 | J45: =SUM(D45:I45) -> 10
J46: =SUM(D46:I46) -> 0
J47: =SUM(D47:I47) -> 0
J48: =SUM(D48:I48) -> 0
J49: =SUM(D49:I49) -> 0
J50: =SUM(D50:I50) -> 0
J51: =SUM(D51:I51) -> 0
J52: =SUM(D52:I52) -> 0
J53: =SUM(D53:I53) -> 0
J54: =SUM(D54:I54) -> 0
J55: =SUM(D55:I55) -> 0
J56: =SUM(D56:I56) -> 0
J57: =SUM(D57:I57) -> 0
... J86: =SUM(D86:I86) -> 0

Sheet Girls U13
D1: League 1 | E1: League 2 | F1: League 3 | G1: Bonus | H1: Bonus | I1: Bonus | J1: Total
A2: No | B2: Club | C2: Name | G2: Points 1 | H2: Points 2 | I2: Points 2 | J2: Points
A3: 808 | B3: =VLOOKUP(A3,'data 1'!$A$2:$C$1430,2,FALSE) -> DSD | C3: =VLOOKUP(A3,'data 1'!$A$2:$C$1430,3,FALSE) -> Aisling Power | D3: 21 | G3: 10 | J3: =SUM(D3:I3) -> 31
A4: 1520 | B4: =VLOOKUP(A4,'data 1'!$A$2:$C$1430,2,FALSE) -> Mid Sutton | C4: =VLOOKUP(A4,'data 1'!$A$2:$C$1430,3,FALSE) -> Tara Rose Smith | D4: 20 | G4: 10 | J4: =SUM(D4:I4) -> 30
A5: 300/06 | B5: =VLOOKUP(A5,'data 1'!$A$2:$C$1430,2,FALSE) -> Bros Pearse | C5: =VLOOKUP(A5,'data 1'!$A$2:$C$1430,3,FALSE) -> Farah Halpin | D5: 19 | G5: 10 | J5: =SUM(D5:I5) -> 29
A6: 1285 | B6: =VLOOKUP(A6,'data 1'!$A$2:$C$1430,2,FALSE) -> Lucan | C6: =VLOOKUP(A6,'data 1'!$A$2:$C$1430,3,FALSE) -> Lyons Kennedy Poppy | D6: 18 | G6: 10 | J6: =SUM(D6:I6) -> 28
A7: 1727 | B7: =VLOOKUP(A7,'data 1'!$A$2:$C$1430,2,FALSE) -> Raheny | C7: =VLOOKUP(A7,'data 1'!$A$2:$C$1430,3,FALSE) -> Vivienne Lee | D7: 17 | G7: 10 | J7: =SUM(D7:I7) -> 27
A8: 829 | B8: =VLOOKUP(A8,'data 1'!$A$2:$C$1430,2,FALSE) -> DSD | C8: =VLOOKUP(A8,'data 1'!$A$2:$C$1430,3,FALSE) -> Anna Kelliher | D8: 16 | G8: 10 | J8: =SUM(D8:I8) -> 26
A9: 1284 | B9: =VLOOKUP(A9,'data 1'!$A$2:$C$1430,2,FALSE) -> Lucan | C9: =VLOOKUP(A9,'data 1'!$A$2:$C$1430,3,FALSE) -> Lyons Kennedy Isabella | D9: 15 | G9: 10 | J9: =SUM(D9:I9) -> 25
A10: 540 | B10: =VLOOKUP(A10,'data 1'!$A$2:$C$1430,2,FALSE) -> Celtic | C10: =VLOOKUP(A10,'data 1'!$A$2:$C$1430,3,FALSE) -> Jessic Ryan | D10: 14 | G10: 10 | J10: =SUM(D10:I10) -> 24
A11: 1740 | B11: =VLOOKUP(A11,'data 1'!$A$2:$C$1430,2,FALSE) -> Raheny | C11: =VLOOKUP(A11,'data 1'!$A$2:$C$1430,3,FALSE) -> Maggie Foley | D11: 13 | G11: 10 | J11: =SUM(D11:I11) -> 23
A12: 1488 | B12: =VLOOKUP(A12,'data 1'!$A$2:$C$1430,2,FALSE) -> MSB | C12: =VLOOKUP(A12,'data 1'!$A$2:$C$1430,3,FALSE) -> Mia Kaczmarek | D12: 12 | G12: 10 | J12: =SUM(D12:I12) -> 22
A13: 1519 | B13: =VLOOKUP(A13,'data 1'!$A$2:$C$1430,2,FALSE) -> Mid Sutton | C13: =VLOOKUP(A13,'data 1'!$A$2:$C$1430,3,FALSE) -> Beth Reamsbottom | D13: 11 | G13: 10 | J13: =SUM(D13:I13) -> 21
A14: 1002 | B14: =VLOOKUP(A14,'data 1'!$A$2:$C$1430,2,FALSE) -> Fingallions | C14: =VLOOKUP(A14,'data 1'!$A$2:$C$1430,3,FALSE) -> Amelie Wneczak | D14: 10 | G14: 10 | J14: =SUM(D14:I14) -> 20
A15: 1911 | B15: =VLOOKUP(A15,'data 1'!$A$2:$C$1430,2,FALSE) -> Skerries | C15: =VLOOKUP(A15,'data 1'!$A$2:$C$1430,3,FALSE) -> Aoibheann Sexton | D15: 9 | G15: 10 | J15: =SUM(D15:I15) -> 19
A16: 547 | B16: =VLOOKUP(A16,'data 1'!$A$2:$C$1430,2,FALSE) -> Celtic | C16: =VLOOKUP(A16,'data 1'!$A$2:$C$1430,3,FALSE) -> Pearl O Brien | D16: 8 | G16: 10 | J16: =SUM(D16:I16) -> 18
A17: 1830 | B17: =VLOOKUP(A17,'data 1'!$A$2:$C$1430,2,FALSE) -> Rathfarnham | C17: =VLOOKUP(A17,'data 1'!$A$2:$C$1430,3,FALSE) -> Lucy O'Neill | D17: 7 | G17: 10 | J17: =SUM(D17:I17) -> 17
... A19: 1930 | B19: =VLOOKUP(A19,'data 1'!$A$2:$C$1430,2,FALSE) -> Skerries | C19: =VLOOKUP(A19,'data 1'!$A$2:$C$1430,3,FALSE) -> Chloe Walls | D19: 5 | G19: 10 | J19: =SUM(D19:I19) -> 15
A20: 300/13 | B20: =VLOOKUP(A20,'data 1'!$A$2:$C$1430,2,FALSE) -> Bros Pearse | C20: =VLOOKUP(A20,'data 1'!$A$2:$C$1430,3,FALSE) -> Alanna Murphy | D20: 4 | G20: 10 | J20: =SUM(D20:I20) -> 14
A21: 1847 | B21: =VLOOKUP(A21,'data 1'!$A$2:$C$1430,2,FALSE) -> Rathfarnham | C21: =VLOOKUP(A21,'data 1'!$A$2:$C$1430,3,FALSE) -> Aibhe Magill | D21: 3 | G21: 10 | J21: =SUM(D21:I21) -> 13
A22: 1288 | B22: =VLOOKUP(A22,'data 1'!$A$2:$C$1430,2,FALSE) -> Lucan | C22: =VLOOKUP(A22,'data 1'!$A$2:$C$1430,3,FALSE) -> Scallan Saoirse | D22: 2 | G22: 10 | J22: =SUM(D22:I22) -> 12
A23: 548 | B23: =VLOOKUP(A23,'data 1'!$A$2:$C$1430,2,FALSE) -> Celtic | C23: =VLOOKUP(A23,'data 1'!$A$2:$C$1430,3,FALSE) -> Maggie VenKova | D23: 1 | G23: 10 | J23: =SUM(D23:I23) -> 11
A24: 692 | B24: =VLOOKUP(A24,'data 1'!$A$2:$C$1430,2,FALSE) -> Clonliffe | C24: =VLOOKUP(A24,'data 1'!$A$2:$C$1430,3,FALSE) -> Lucy Mc Fetridge | G24: 10 | J24: =SUM(D24:I24) -> 10
A25: 2111 | B25: =VLOOKUP(A25,'data 1'!$A$2:$C$1430,2,FALSE) -> Templeogue | C25: =VLOOKUP(A25,'data 1'!$A$2:$C$1430,3,FALSE) -> Isobel Moriarty | G25: 10 | J25: =SUM(D25:I25) -> 10
A26: 2003 | B26: =VLOOKUP(A26,'data 1'!$A$2:$C$1430,2,FALSE) -> Tallaght | C26: =VLOOKUP(A26,'data 1'!$A$2:$C$1430,3,FALSE) -> Megan O’Driscoll | G26: 10 | J26: =SUM(D26:I26) -> 10
A27: 1728 | B27: =VLOOKUP(A27,'data 1'!$A$2:$C$1430,2,FALSE) -> Raheny | C27: =VLOOKUP(A27,'data 1'!$A$2:$C$1430,3,FALSE) -> Ruby Cox | G27: 10 | J27: =SUM(D27:I27) -> 10
A28: 280 | B28: =VLOOKUP(A28,'data 1'!$A$2:$C$1430,2,FALSE) -> Blackrock | C28: =VLOOKUP(A28,'data 1'!$A$2:$C$1430,3,FALSE) -> Rachel Walsh | G28: 10 | J28: =SUM(D28:I28) -> 10
A29: 807 | B29: =VLOOKUP(A29,'data 1'!$A$2:$C$1430,2,FALSE) -> DSD | C29: =VLOOKUP(A29,'data 1'!$A$2:$C$1430,3,FALSE) -> Deirbhla Hassett | G29: 10 | J29: =SUM(D29:I29) -> 10
A30: 1487 | B30: =VLOOKUP(A30,'data 1'!$A$2:$C$1430,2,FALSE) -> MSB | C30: =VLOOKUP(A30,'data 1'!$A$2:$C$1430,3,FALSE) -> Gillian Charles | G30: 10 | J30: =SUM(D30:I30) -> 10
A31: 2307 | B31: =VLOOKUP(A31,'data 1'!$A$2:$C$1430,2,FALSE) -> Crusaders | C31: =VLOOKUP(A31,'data 1'!$A$2:$C$1430,3,FALSE) -> Aoibhinn Crehan | G31: 10 | J31: =SUM(D31:I31) -> 10
A32: 1485 | B32: =VLOOKUP(A32,'data 1'!$A$2:$C$1430,2,FALSE) -> MSB | C32: =VLOOKUP(A32,'data 1'!$A$2:$C$1430,3,FALSE) -> Cliodhna Hally | G32: 10 | J32: =SUM(D32:I32) -> 10
A33: 539 | B33: =VLOOKUP(A33,'data 1'!$A$2:$C$1430,2,FALSE) -> Celtic | C33: =VLOOKUP(A33,'data 1'!$A$2:$C$1430,3,FALSE) -> Saoirse Rogers | G33: 10 | J33: =SUM(D33:I33) -> 10
A34: 719 | B34: Donore | C34: Rosie May Morris | G34: 10 | J34: =SUM(D34:I34) -> 10
A35: 279 | B35: =VLOOKUP(A35,'data 1'!$A$2:$C$1430,2,FALSE) -> Blackrock | C35: =VLOOKUP(A35,'data 1'!$A$2:$C$1430,3,FALSE) -> Ellen Lynch | G35: 10 | J35: =SUM(D35:I35) -> 10
A36: 1484 | B36: =VLOOKUP(A36,'data 1'!$A$2:$C$1430,2,FALSE) -> MSB | C36: =VLOOKUP(A36,'data 1'!$A$2:$C$1430,3,FALSE) -> Clara Drummond | G36: 10 | J36: =SUM(D36:I36) -> 10
A37: 1483 | B37: =VLOOKUP(A37,'data 1'!$A$2:$C$1430,2,FALSE) -> MSB | C37: =VLOOKUP(A37,'data 1'!$A$2:$C$1430,3,FALSE) -> Caoimhe Keelan | G37: 10 | J37: =SUM(D37:I37) -> 10
A38: 1522 | B38: =VLOOKUP(A38,'data 1'!$A$2:$C$1430,2,FALSE) -> Mid Sutton | C38: =VLOOKUP(A38,'data 1'!$A$2:$C$1430,3,FALSE) -> Katie Grace McDonnell | G38: 10 | J38: =SUM(D38:I38) -> 10
A39: 1281 | B39: =VLOOKUP(A39,'data 1'!$A$2:$C$1430,2,FALSE) -> Lucan | C39: =VLOOKUP(A39,'data 1'!$A$2:$C$1430,3,FALSE) -> Brazil Milly | G39: 10 | J39: =SUM(D39:I39) -> 10
A40: 276 | B40: =VLOOKUP(A40,'data 1'!$A$2:$C$1430,2,FALSE) -> Blackrock | C40: =VLOOKUP(A40,'data 1'!$A$2:$C$1430,3,FALSE) -> Aoibhinn Harrison | G40: 10 | J40: =SUM(D40:I40) -> 10
A41: 1482 | B41: =VLOOKUP(A41,'data 1'!$A$2:$C$1430,2,FALSE) -> MSB | C41: =VLOOKUP(A41,'data 1'!$A$2:$C$1430,3,FALSE) -> Cadhla McPartlan | G41: 10 | J41: =SUM(D41:I41) -> 10
A42: 4060 | B42: =VLOOKUP(A42,'data 1'!$A$2:$C$1430,2,FALSE) -> Cabinteely | C42: =VLOOKUP(A42,'data 1'!$A$2:$C$1430,3,FALSE) -> Genevieve Mc Ghee | G42: 10 | J42: =SUM(D42:I42) -> 10
A43: 4193 | B43: =VLOOKUP(A43,'data 1'!$A$2:$C$1430,2,FALSE) -> Cabinteely | C43: =VLOOKUP(A43,'data 1'!$A$2:$C$1430,3,FALSE) -> Amber Smith | G43: 10 | J43: =SUM(D43:I43) -> 10
A44: 393 | B44: =VLOOKUP(A44,'data 1'!$A$2:$C$1430,2,FALSE) -> Bros Pearse | C44: =VLOOKUP(A44,'data 1'!$A$2:$C$1430,3,FALSE) -> Zoe Cormack | G44: 10 | J44: =SUM(D44:I44) -> 10
A45: 300/09 | B45: =VLOOKUP(A45,'data 1'!$A$2:$C$1430,2,FALSE) -> Bros Pearse | C45: =VLOOKUP(A45,'data 1'!$A$2:$C$1430,3,FALSE) -> Emily Roche | G45: 10 | J45: =SUM(D45:I45) -> 10
A46: 2601 | B46: =VLOOKUP(A46,'data 1'!$A$2:$C$1430,2,FALSE) -> Rathcoole | C46: =VLOOKUP(A46,'data 1'!$A$2:$C$1430,3,FALSE) -> Niamh Towey | G46: 10 | J46: =SUM(D46:I46) -> 10
A47: 1321 | B47: =VLOOKUP(A47,'data 1'!$A$2:$C$1430,2,FALSE) -> Lusk | C47: =VLOOKUP(A47,'data 1'!$A$2:$C$1430,3,FALSE) -> Dearbhla Lambe | G47: 10 | J47: =SUM(D47:I47) -> 10
A48: 717 | B48: Donore | C48: Ruby Blake | G48: 10 | J48: =SUM(D48:I48) -> 10
A49: 1725 | B49: =VLOOKUP(A49,'data 1'!$A$2:$C$1430,2,FALSE) -> Raheny | C49: =VLOOKUP(A49,'data 1'!$A$2:$C$1430,3,FALSE) -> Eve mcatamney | G49: 10 | J49: =SUM(D49:I49) -> 10
A50: 718 | B50: Donore | C50: Lauren Tolan | G50: 10 | J50: =SUM(D50:I50) -> 10
A51: 1523 | B51: =VLOOKUP(A51,'data 1'!$A$2:$C$1430,2,FALSE) -> Mid Sutton | C51: =VLOOKUP(A51,'data 1'!$A$2:$C$1430,3,FALSE) -> Ruth Wallace | G51: 10 | J51: =SUM(D51:I51) -> 10
A52: 277 | B52: =VLOOKUP(A52,'data 1'!$A$2:$C$1430,2,FALSE) -> Blackrock | C52: =VLOOKUP(A52,'data 1'!$A$2:$C$1430,3,FALSE) -> Aoife Conlon | G52: 10 | J52: =SUM(D52:I52) -> 10
A53: 1813 | B53: =VLOOKUP(A53,'data 1'!$A$2:$C$1430,2,FALSE) -> Rathfarnham | C53: =VLOOKUP(A53,'data 1'!$A$2:$C$1430,3,FALSE) -> Sarah O'Reilly | G53: 10 | J53: =SUM(D53:I53) -> 10
A54: 6 | B54: =VLOOKUP(A54,'data 1'!$A$2:$C$1430,2,FALSE) -> Balbriggan | C54: =VLOOKUP(A54,'data 1'!$A$2:$C$1430,3,FALSE) -> Caoileen Coone | G54: 10 | J54: =SUM(D54:I54) -> 10
A55: 689 | B55: =VLOOKUP(A55,'data 1'!$A$2:$C$1430,2,FALSE) -> Clonliffe | C55: =VLOOKUP(A55,'data 1'!$A$2:$C$1430,3,FALSE) -> Laura King | G55: 10 | J55: =SUM(D55:I55) -> 10
A56: 690 | B56: =VLOOKUP(A56,'data 1'!$A$2:$C$1430,2,FALSE) -> Clonliffe | C56: =VLOOKUP(A56,'data 1'!$A$2:$C$1430,3,FALSE) -> Laura Markovicova | G56: 10 | J56: =SUM(D56:I56) -> 10
A57: 1336 | B57: =VLOOKUP(A57,'data 1'!$A$2:$C$1430,2,FALSE) -> Lusk | C57: =VLOOKUP(A57,'data 1'!$A$2:$C$1430,3,FALSE) -> Bebhinn McAnally Masterson | G57: 10 | J57: =SUM(D57:I57) -> 10
A58: 1723 | B58: =VLOOKUP(A58,'data 1'!$A$2:$C$1430,2,FALSE) -> Raheny | C58: =VLOOKUP(A58,'data 1'!$A$2:$C$1430,3,FALSE) -> Kate Graham | G58: 10 | J58: =SUM(D58:I58) -> 10
A59: 2004 | B59: =VLOOKUP(A59,'data 1'!$A$2:$C$1430,2,FALSE) -> Tallaght | C59: =VLOOKUP(A59,'data 1'!$A$2:$C$1430,3,FALSE) -> Abiba Coulibaly | G59: 10 | J59: =SUM(D59:I59) -> 10
A60: 1286 | B60: =VLOOKUP(A60,'data 1'!$A$2:$C$1430,2,FALSE) -> Lucan | C60: =VLOOKUP(A60,'data 1'!$A$2:$C$1430,3,FALSE) -> Power Effie | G60: 10 | J60: =SUM(D60:I60) -> 10
A61: 687 | B61: =VLOOKUP(A61,'data 1'!$A$2:$C$1430,2,FALSE) -> Clonliffe | C61: =VLOOKUP(A61,'data 1'!$A$2:$C$1430,3,FALSE) -> Hannah Hickey | G61: 10 | J61: =SUM(D61:I61) -> 10
A62: 1726 | B62: =VLOOKUP(A62,'data 1'!$A$2:$C$1430,2,FALSE) -> Raheny | C62: =VLOOKUP(A62,'data 1'!$A$2:$C$1430,3,FALSE) -> Sadie masterson | G62: 10 | J62: =SUM(D62:I62) -> 10
A63: 1934 | B63: =VLOOKUP(A63,'data 1'!$A$2:$C$1430,2,FALSE) -> Skerries | C63: =VLOOKUP(A63,'data 1'!$A$2:$C$1430,3,FALSE) -> Clara Murphy | G63: 10 | J63: =SUM(D63:I63) -> 10
J64: =SUM(D64:I64) -> 0
J65: =SUM(D65:I65) -> 0
J66: =SUM(D66:I66) -> 0
J67: =SUM(D67:I67) -> 0
J68: =SUM(D68:I68) -> 0
J69: =SUM(D69:I69) -> 0
J70: =SUM(D70:I70) -> 0
J71: =SUM(D71:I71) -> 0
J72: =SUM(D72:I72) -> 0
J73: =SUM(D73:I73) -> 0
J74: =SUM(D74:I74) -> 0
J75: =SUM(D75:I75) -> 0
... J86: =SUM(D86:I86) -> 0

Sheet Girls U12
D1: League 1 | E1: League 2 | F1: League 3 | G1: Bonus | H1: Bonus | I1: Bonus | J1: Total
A2: No | B2: Club | C2: Name | G2: Points 1 | H2: Points 2 | I2: Points 2 | J2: Points
A3: 2110 | B3: =VLOOKUP(A3,'data 1'!$A$2:$C$1430,2,FALSE) -> Templeogue | C3: =VLOOKUP(A3,'data 1'!$A$2:$C$1430,3,FALSE) -> Ruby Farrelly | D3: 21 | G3: 10 | J3: =SUM(D3:I3) -> 31
A4: 269 | B4: =VLOOKUP(A4,'data 1'!$A$2:$C$1430,2,FALSE) -> Blackrock | C4: =VLOOKUP(A4,'data 1'!$A$2:$C$1430,3,FALSE) -> Robyn Kennedy | D4: 19 | G4: 10 | J4: =SUM(D4:I4) -> 29
A5: 1472 | B5: =VLOOKUP(A5,'data 1'!$A$2:$C$1430,2,FALSE) -> MSB | C5: =VLOOKUP(A5,'data 1'!$A$2:$C$1430,3,FALSE) -> Laoise Gorman | D5: 18 | G5: 10 | J5: =SUM(D5:I5) -> 28
A6: 2901 | B6: Clongriffin | C6: Ella O'Dwyer | D6: 17 | G6: 10 | J6: =SUM(D6:I6) -> 27
A7: 1515 | B7: =VLOOKUP(A7,'data 1'!$A$2:$C$1430,2,FALSE) -> Mid Sutton | C7: =VLOOKUP(A7,'data 1'!$A$2:$C$1430,3,FALSE) -> Elise Goodwin | D7: 16 | G7: 10 | J7: =SUM(D7:I7) -> 26
A8: 2308 | B8: =VLOOKUP(A8,'data 1'!$A$2:$C$1430,2,FALSE) -> Crusaders | C8: =VLOOKUP(A8,'data 1'!$A$2:$C$1430,3,FALSE) -> Cate Beddy | D8: 15 | G8: 10 | J8: =SUM(D8:I8) -> 25
A9: 715 | B9: Donore | C9: Annabella Omazee | D9: 14 | G9: 10 | J9: =SUM(D9:I9) -> 24
A10: 535 | B10: =VLOOKUP(A10,'data 1'!$A$2:$C$1430,2,FALSE) -> Celtic | C10: =VLOOKUP(A10,'data 1'!$A$2:$C$1430,3,FALSE) -> Lelia Ryan | D10: 13 | G10: 10 | J10: =SUM(D10:I10) -> 23
A11: 265 | B11: =VLOOKUP(A11,'data 1'!$A$2:$C$1430,2,FALSE) -> Blackrock | C11: =VLOOKUP(A11,'data 1'!$A$2:$C$1430,3,FALSE) -> Emma Drury Byrne | D11: 12 | G11: 10 | J11: =SUM(D11:I11) -> 22
A12: 1260 | B12: =VLOOKUP(A12,'data 1'!$A$2:$C$1430,2,FALSE) -> Lucan | C12: =VLOOKUP(A12,'data 1'!$A$2:$C$1430,3,FALSE) -> Dunne Mia | D12: 11 | G12: 10 | J12: =SUM(D12:I12) -> 21
A13: 2101 | B13: =VLOOKUP(A13,'data 1'!$A$2:$C$1430,2,FALSE) -> Templeogue | C13: =VLOOKUP(A13,'data 1'!$A$2:$C$1430,3,FALSE) -> Zoe King | D13: 10 | G13: 10 | J13: =SUM(D13:I13) -> 20
A14: 372 | B14: =VLOOKUP(A14,'data 1'!$A$2:$C$1430,2,FALSE) -> Bros Pearse | C14: =VLOOKUP(A14,'data 1'!$A$2:$C$1430,3,FALSE) -> Lauren Murnaghan | D14: 9 | G14: 10 | J14: =SUM(D14:I14) -> 19
A15: 1514 | B15: =VLOOKUP(A15,'data 1'!$A$2:$C$1430,2,FALSE) -> Mid Sutton | C15: =VLOOKUP(A15,'data 1'!$A$2:$C$1430,3,FALSE) -> Ella Vogelaar | D15: 8 | G15: 10 | J15: =SUM(D15:I15) -> 18
A16: 1473 | B16: =VLOOKUP(A16,'data 1'!$A$2:$C$1430,2,FALSE) -> MSB | C16: =VLOOKUP(A16,'data 1'!$A$2:$C$1430,3,FALSE) -> Leah O’Callaghan | D16: 7 | G16: 10 | J16: =SUM(D16:I16) -> 17
A17: 1267 | B17: =VLOOKUP(A17,'data 1'!$A$2:$C$1430,2,FALSE) -> Lucan | C17: =VLOOKUP(A17,'data 1'!$A$2:$C$1430,3,FALSE) -> Ratheshan Raveena | D17: 6 | G17: 10 | J17: =SUM(D17:I17) -> 16
A18: 1470 | B18: =VLOOKUP(A18,'data 1'!$A$2:$C$1430,2,FALSE) -> MSB | C18: =VLOOKUP(A18,'data 1'!$A$2:$C$1430,3,FALSE) -> Faye McAndrew | D18: 5 | G18: 10 | J18: =SUM(D18:I18) -> 15
A19: 4180 | B19: =VLOOKUP(A19,'data 1'!$A$2:$C$1430,2,FALSE) -> Cabinteely | C19: =VLOOKUP(A19,'data 1'!$A$2:$C$1430,3,FALSE) -> Laoise Randles | D19: 4 | G19: 10 | J19: =SUM(D19:I19) -> 14
A20: 271 | B20: =VLOOKUP(A20,'data 1'!$A$2:$C$1430,2,FALSE) -> Blackrock | C20: =VLOOKUP(A20,'data 1'!$A$2:$C$1430,3,FALSE) -> Sian McCrohan | D20: 3 | G20: 10 | J20: =SUM(D20:I20) -> 13
A21: 1465 | B21: =VLOOKUP(A21,'data 1'!$A$2:$C$1430,2,FALSE) -> MSB | C21: =VLOOKUP(A21,'data 1'!$A$2:$C$1430,3,FALSE) -> Annalise O’Dwyer | D21: 2 | G21: 10 | J21: =SUM(D21:I21) -> 12
A22: 660 | B22: =VLOOKUP(A22,'data 1'!$A$2:$C$1430,2,FALSE) -> Clonliffe | C22: =VLOOKUP(A22,'data 1'!$A$2:$C$1430,3,FALSE) -> Sophia Tennant | D22: 1 | G22: 10 | J22: =SUM(D22:I22) -> 11
A23: 1469 | B23: =VLOOKUP(A23,'data 1'!$A$2:$C$1430,2,FALSE) -> MSB | C23: =VLOOKUP(A23,'data 1'!$A$2:$C$1430,3,FALSE) -> Emily Ryan | G23: 10 | J23: =SUM(D23:I23) -> 10
A24: 1259 | B24: =VLOOKUP(A24,'data 1'!$A$2:$C$1430,2,FALSE) -> Lucan | C24: =VLOOKUP(A24,'data 1'!$A$2:$C$1430,3,FALSE) -> Clarke Maia | G24: 10 | J24: =SUM(D24:I24) -> 10
A25: 1499/5 | B25: =VLOOKUP(A25,'data 1'!$A$2:$C$1430,2,FALSE) -> MSB | C25: =VLOOKUP(A25,'data 1'!$A$2:$C$1430,3,FALSE) -> Adi McKeon | G25: 10 | J25: =SUM(D25:I25) -> 10
A26: 1475 | B26: =VLOOKUP(A26,'data 1'!$A$2:$C$1430,2,FALSE) -> MSB | C26: =VLOOKUP(A26,'data 1'!$A$2:$C$1430,3,FALSE) -> Reese Peacock | G26: 10 | J26: =SUM(D26:I26) -> 10
A27: 818 | B27: =VLOOKUP(A27,'data 1'!$A$2:$C$1430,2,FALSE) -> DSD | C27: =VLOOKUP(A27,'data 1'!$A$2:$C$1430,3,FALSE) -> Sky McConnon | G27: 10 | J27: =SUM(D27:I27) -> 10
A28: 1263 | B28: =VLOOKUP(A28,'data 1'!$A$2:$C$1430,2,FALSE) -> Lucan | C28: =VLOOKUP(A28,'data 1'!$A$2:$C$1430,3,FALSE) -> Maguire Saoirse | G28: 10 | J28: =SUM(D28:I28) -> 10
A29: 1806 | B29: =VLOOKUP(A29,'data 1'!$A$2:$C$1430,2,FALSE) -> Rathfarnham | C29: =VLOOKUP(A29,'data 1'!$A$2:$C$1430,3,FALSE) -> Lily Lonergan | G29: 10 | J29: =SUM(D29:I29) -> 10
A30: 536 | B30: =VLOOKUP(A30,'data 1'!$A$2:$C$1430,2,FALSE) -> Celtic | C30: =VLOOKUP(A30,'data 1'!$A$2:$C$1430,3,FALSE) -> Robyn Dowdall | G30: 10 | J30: =SUM(D30:I30) -> 10
A31: 716 | B31: Donore | C31: Lacey Cleary | G31: 10 | J31: =SUM(D31:I31) -> 10
A32: 2002 | B32: =VLOOKUP(A32,'data 1'!$A$2:$C$1430,2,FALSE) -> Tallaght | C32: =VLOOKUP(A32,'data 1'!$A$2:$C$1430,3,FALSE) -> Kirsty Mc Cabe | G32: 10 | J32: =SUM(D32:I32) -> 10
A33: 4102 | B33: =VLOOKUP(A33,'data 1'!$A$2:$C$1430,2,FALSE) -> Cabinteely | C33: =VLOOKUP(A33,'data 1'!$A$2:$C$1430,3,FALSE) -> Chloe Kelly | G33: 10 | J33: =SUM(D33:I33) -> 10
A34: 820 | B34: =VLOOKUP(A34,'data 1'!$A$2:$C$1430,2,FALSE) -> DSD | C34: =VLOOKUP(A34,'data 1'!$A$2:$C$1430,3,FALSE) -> Becky Issac | G34: 10 | J34: =SUM(D34:I34) -> 10
A35: 1714 | B35: =VLOOKUP(A35,'data 1'!$A$2:$C$1430,2,FALSE) -> Raheny | C35: =VLOOKUP(A35,'data 1'!$A$2:$C$1430,3,FALSE) -> Harriett Lee | G35: 10 | J35: =SUM(D35:I35) -> 10
A36: 2900 | B36: Clongriffin | C36: Ava Kavanagh | G36: 10 | J36: =SUM(D36:I36) -> 10
A37: 270 | B37: =VLOOKUP(A37,'data 1'!$A$2:$C$1430,2,FALSE) -> Blackrock | C37: =VLOOKUP(A37,'data 1'!$A$2:$C$1430,3,FALSE) -> Sarah Kelly | G37: 10 | J37: =SUM(D37:I37) -> 10
A38: 1261 | B38: =VLOOKUP(A38,'data 1'!$A$2:$C$1430,2,FALSE) -> Lucan | C38: =VLOOKUP(A38,'data 1'!$A$2:$C$1430,3,FALSE) -> Fais Natalie | G38: 10 | J38: =SUM(D38:I38) -> 10
A39: 1265 | B39: =VLOOKUP(A39,'data 1'!$A$2:$C$1430,2,FALSE) -> Lucan | C39: =VLOOKUP(A39,'data 1'!$A$2:$C$1430,3,FALSE) -> O'Beirne Emily | G39: 10 | J39: =SUM(D39:I39) -> 10
A40: 1269 | B40: =VLOOKUP(A40,'data 1'!$A$2:$C$1430,2,FALSE) -> Lucan | C40: =VLOOKUP(A40,'data 1'!$A$2:$C$1430,3,FALSE) -> Wren Gracie | G40: 10 | J40: =SUM(D40:I40) -> 10
A41: 1511 | B41: =VLOOKUP(A41,'data 1'!$A$2:$C$1430,2,FALSE) -> Mid Sutton | C41: =VLOOKUP(A41,'data 1'!$A$2:$C$1430,3,FALSE) -> Anna Mulvaney | G41: 10 | J41: =SUM(D41:I41) -> 10
A42: 1814 | B42: =VLOOKUP(A42,'data 1'!$A$2:$C$1430,2,FALSE) -> Rathfarnham | C42: =VLOOKUP(A42,'data 1'!$A$2:$C$1430,3,FALSE) -> Winnie Comerford | G42: 10 | J42: =SUM(D42:I42) -> 10
A43: 1272 | B43: =VLOOKUP(A43,'data 1'!$A$2:$C$1430,2,FALSE) -> Lucan | C43: =VLOOKUP(A43,'data 1'!$A$2:$C$1430,3,FALSE) -> Butcher Sean | G43: 10 | J43: =SUM(D43:I43) -> 10
A44: 1839 | B44: =VLOOKUP(A44,'data 1'!$A$2:$C$1430,2,FALSE) -> Rathfarnham | C44: =VLOOKUP(A44,'data 1'!$A$2:$C$1430,3,FALSE) -> Elsa Healy | G44: 10 | J44: =SUM(D44:I44) -> 10
A45: 1274 | B45: =VLOOKUP(A45,'data 1'!$A$2:$C$1430,2,FALSE) -> Lucan | C45: =VLOOKUP(A45,'data 1'!$A$2:$C$1430,3,FALSE) -> Dardis Austin | G45: 10 | J45: =SUM(D45:I45) -> 10
A46: 4030 | B46: =VLOOKUP(A46,'data 1'!$A$2:$C$1430,2,FALSE) -> Cabinteely | C46: =VLOOKUP(A46,'data 1'!$A$2:$C$1430,3,FALSE) -> Eva Casey | G46: 10 | J46: =SUM(D46:I46) -> 10
A47: 365 | B47: =VLOOKUP(A47,'data 1'!$A$2:$C$1430,2,FALSE) -> Bros Pearse | C47: =VLOOKUP(A47,'data 1'!$A$2:$C$1430,3,FALSE) -> Tara Mc Mahon | G47: 10 | J47: =SUM(D47:I47) -> 10
A48: 1268 | B48: =VLOOKUP(A48,'data 1'!$A$2:$C$1430,2,FALSE) -> Lucan | C48: =VLOOKUP(A48,'data 1'!$A$2:$C$1430,3,FALSE) -> Valcheva Kaya | G48: 10 | J48: =SUM(D48:I48) -> 10
... A55: 1722 | B55: =VLOOKUP(A55,'data 1'!$A$2:$C$1430,2,FALSE) -> Raheny | C55: =VLOOKUP(A55,'data 1'!$A$2:$C$1430,3,FALSE) -> Annabel Zheng | G55: 10 | J55: =SUM(D55:I55) -> 10
A56: 600/77 | B56: Clonliffe | C56: Sophiabella McDonald | G56: 10 | J56: =SUM(D56:I56) -> 10
A57: 652 | B57: =VLOOKUP(A57,'data 1'!$A$2:$C$1430,2,FALSE) -> Clonliffe | C57: =VLOOKUP(A57,'data 1'!$A$2:$C$1430,3,FALSE) -> Caoimhe Dunphy | G57: 10 | J57: =SUM(D57:I57) -> 10
A58: 1266 | B58: =VLOOKUP(A58,'data 1'!$A$2:$C$1430,2,FALSE) -> Lucan | C58: =VLOOKUP(A58,'data 1'!$A$2:$C$1430,3,FALSE) -> O'Donovan Bronagh | G58: 10 | J58: =SUM(D58:I58) -> 10
A59: 2106 | B59: =VLOOKUP(A59,'data 1'!$A$2:$C$1430,2,FALSE) -> Templeogue | C59: =VLOOKUP(A59,'data 1'!$A$2:$C$1430,3,FALSE) -> Ailbhe Browne | G59: 10 | J59: =SUM(D59:I59) -> 10
A60: 4 | B60: =VLOOKUP(A60,'data 1'!$A$2:$C$1430,2,FALSE) -> Balbriggan | C60: =VLOOKUP(A60,'data 1'!$A$2:$C$1430,3,FALSE) -> Laila Guinan | G60: 10 | J60: =SUM(D60:I60) -> 10
A61: 5 | B61: =VLOOKUP(A61,'data 1'!$A$2:$C$1430,2,FALSE) -> Balbriggan | C61: =VLOOKUP(A61,'data 1'!$A$2:$C$1430,3,FALSE) -> Zoe Russell | G61: 10 | J61: =SUM(D61:I61) -> 10
A62: 1719 | B62: =VLOOKUP(A62,'data 1'!$A$2:$C$1430,2,FALSE) -> Raheny | C62: =VLOOKUP(A62,'data 1'!$A$2:$C$1430,3,FALSE) -> Cara Dempsey | G62: 10 | J62: =SUM(D62:I62) -> 10
A63: 600/84 | B63: Clonliffe | C63: Lucy Donnelly | G63: 10 | J63: =SUM(D63:I63) -> 10
A64: 710 | B64: Donore | C64: Tess O'Donoghue | G64: 10 | J64: =SUM(D64:I64) -> 10
A65: 1476 | B65: =VLOOKUP(A65,'data 1'!$A$2:$C$1430,2,FALSE) -> MSB | C65: =VLOOKUP(A65,'data 1'!$A$2:$C$1430,3,FALSE) -> Una White | G65: 10 | J65: =SUM(D65:I65) -> 10
A66: 1716 | B66: =VLOOKUP(A66,'data 1'!$A$2:$C$1430,2,FALSE) -> Raheny | C66: =VLOOKUP(A66,'data 1'!$A$2:$C$1430,3,FALSE) -> Ruby Clohisey | G66: 10 | J66: =SUM(D66:I66) -> 10
A67: 1512 | B67: =VLOOKUP(A67,'data 1'!$A$2:$C$1430,2,FALSE) -> Mid Sutton | C67: =VLOOKUP(A67,'data 1'!$A$2:$C$1430,3,FALSE) -> Emmy Murtagh | G67: 10 | J67: =SUM(D67:I67) -> 10
A68: 266 | B68: Blackrock | G68: 10 | J68: =SUM(D68:I68) -> 10
A69: 267 | B69: =VLOOKUP(A69,'data 1'!$A$2:$C$1430,2,FALSE) -> Blackrock | C69: =VLOOKUP(A69,'data 1'!$A$2:$C$1430,3,FALSE) -> Laura White | G69: 10 | J69: =SUM(D69:I69) -> 10
A70: 743 | B70: Donore | C70: Alva Sullivan | G70: 10 | J70: =SUM(D70:I70) -> 10
A71: 1720 | B71: =VLOOKUP(A71,'data 1'!$A$2:$C$1430,2,FALSE) -> Raheny | C71: =VLOOKUP(A71,'data 1'!$A$2:$C$1430,3,FALSE) -> Luisa Byrne | G71: 10 | J71: =SUM(D71:I71) -> 10
A72: 651 | B72: =VLOOKUP(A72,'data 1'!$A$2:$C$1430,2,FALSE) -> Clonliffe | C72: =VLOOKUP(A72,'data 1'!$A$2:$C$1430,3,FALSE) -> Ava Cosgrave | G72: 10 | J72: =SUM(D72:I72) -> 10
A73: 1513 | B73: =VLOOKUP(A73,'data 1'!$A$2:$C$1430,2,FALSE) -> Mid Sutton | C73: =VLOOKUP(A73,'data 1'!$A$2:$C$1430,3,FALSE) -> Carolyn Moran | G73: 10 | J73: =SUM(D73:I73) -> 10
A74: 2902 | B74: Clongriffin | C74: Emma O' Brien | G74: 10 | J74: =SUM(D74:I74) -> 10
A75: 711 | B75: Donore | C75: Hannah Kelly | G75: 10 | J75: =SUM(D75:I75) -> 10
J76: =SUM(D76:I76) -> 0
J77: =SUM(D77:I77) -> 0
J78: =SUM(D78:I78) -> 0
J79: =SUM(D79:I79) -> 0
J80: =SUM(D80:I80) -> 0
J81: =SUM(D81:I81) -> 0
J82: =SUM(D82:I82) -> 0
J83: =SUM(D83:I83) -> 0
J84: =SUM(D84:I84) -> 0
J85: =SUM(D85:I85) -> 0
J86: =SUM(D86:I86) -> 0

Sheet Girls U11
D1: League 1 | E1: League 2 | F1: League 3 | G1: Bonus | H1: Bonus | I1: Bonus | J1: Total
A2: No | B2: Club | C2: Name | G2: Points 1 | H2: Points 2 | I2: Points 2 | J2: Points
A3: 2102 | B3: =VLOOKUP(A3,'data 1'!$A$2:$C$1430,2,FALSE) -> Templeogue | C3: =VLOOKUP(A3,'data 1'!$A$2:$C$1430,3,FALSE) -> Ailbhe Finnucane | D3: 21 | G3: 10 | J3: =SUM(D3:I3) -> 31
A4: 1404 | B4: =VLOOKUP(A4,'data 1'!$A$2:$C$1430,2,FALSE) -> MSB | C4: =VLOOKUP(A4,'data 1'!$A$2:$C$1430,3,FALSE) -> Ruby Finnegan | D4: 19 | G4: 10 | J4: =SUM(D4:I4) -> 29
A5: 1247 | B5: =VLOOKUP(A5,'data 1'!$A$2:$C$1430,2,FALSE) -> Lucan | C5: =VLOOKUP(A5,'data 1'!$A$2:$C$1430,3,FALSE) -> Ni Fhiaich Doireann | D5: 18 | G5: 10 | J5: =SUM(D5:I5) -> 28
A6: 1905 | B6: =VLOOKUP(A6,'data 1'!$A$2:$C$1430,2,FALSE) -> Skerries | C6: =VLOOKUP(A6,'data 1'!$A$2:$C$1430,3,FALSE) -> Aisling Hegarty | D6: 17 | G6: 10 | J6: =SUM(D6:I6) -> 27
A7: 1962 | B7: =VLOOKUP(A7,'data 1'!$A$2:$C$1430,2,FALSE) -> Skerries | C7: =VLOOKUP(A7,'data 1'!$A$2:$C$1430,3,FALSE) -> Fiadh Boardman | D7: 16 | G7: 10 | J7: =SUM(D7:I7) -> 26
A8: 1000 | B8: =VLOOKUP(A8,'data 1'!$A$2:$C$1430,2,FALSE) -> Fingallions | C8: =VLOOKUP(A8,'data 1'!$A$2:$C$1430,3,FALSE) -> Amber McBennett | D8: 15 | G8: 10 | J8: =SUM(D8:I8) -> 25
A9: 252 | B9: =VLOOKUP(A9,'data 1'!$A$2:$C$1430,2,FALSE) -> Blackrock | C9: =VLOOKUP(A9,'data 1'!$A$2:$C$1430,3,FALSE) -> Lara Woods | D9: 14 | G9: 10 | J9: =SUM(D9:I9) -> 24
A10: 742 | B10: Donore | C10: Anna Whelan | D10: 13 | G10: 10 | J10: =SUM(D10:I10) -> 23
A11: 1407 | B11: =VLOOKUP(A11,'data 1'!$A$2:$C$1430,2,FALSE) -> MSB | C11: =VLOOKUP(A11,'data 1'!$A$2:$C$1430,3,FALSE) -> Patrice Dwyer | D11: 12 | G11: 10 | J11: =SUM(D11:I11) -> 22
A12: 2103 | B12: =VLOOKUP(A12,'data 1'!$A$2:$C$1430,2,FALSE) -> Templeogue | C12: =VLOOKUP(A12,'data 1'!$A$2:$C$1430,3,FALSE) -> Ruth Buckley | D12: 11 | G12: 10 | J12: =SUM(D12:I12) -> 21
A13: 1402 | B13: =VLOOKUP(A13,'data 1'!$A$2:$C$1430,2,FALSE) -> MSB | C13: =VLOOKUP(A13,'data 1'!$A$2:$C$1430,3,FALSE) -> Orna Mc Partland | D13: 10 | G13: 10 | J13: =SUM(D13:I13) -> 20
A14: 1243 | B14: =VLOOKUP(A14,'data 1'!$A$2:$C$1430,2,FALSE) -> Lucan | C14: =VLOOKUP(A14,'data 1'!$A$2:$C$1430,3,FALSE) -> Clandillon Cara | D14: 9 | G14: 10 | J14: =SUM(D14:I14) -> 19
A15: 347 | B15: =VLOOKUP(A15,'data 1'!$A$2:$C$1430,2,FALSE) -> Bros Pearse | C15: =VLOOKUP(A15,'data 1'!$A$2:$C$1430,3,FALSE) -> Sadhbh Mc Mahon | D15: 8 | G15: 10 | J15: =SUM(D15:I15) -> 18
A16: 245 | B16: =VLOOKUP(A16,'data 1'!$A$2:$C$1430,2,FALSE) -> Blackrock | C16: =VLOOKUP(A16,'data 1'!$A$2:$C$1430,3,FALSE) -> Amelia Burns | D16: 7 | G16: 10 | J16: =SUM(D16:I16) -> 17
A17: 1403 | B17: =VLOOKUP(A17,'data 1'!$A$2:$C$1430,2,FALSE) -> MSB | C17: =VLOOKUP(A17,'data 1'!$A$2:$C$1430,3,FALSE) -> Sabhdh Macken | D17: 6 | G17: 10 | J17: =SUM(D17:I17) -> 16
A18: 1872 | B18: =VLOOKUP(A18,'data 1'!$A$2:$C$1430,2,FALSE) -> Rathfarnham | C18: =VLOOKUP(A18,'data 1'!$A$2:$C$1430,3,FALSE) -> Mia Priestman | D18: 5 | G18: 10 | J18: =SUM(D18:I18) -> 15
A19: 247 | B19: =VLOOKUP(A19,'data 1'!$A$2:$C$1430,2,FALSE) -> Blackrock | C19: =VLOOKUP(A19,'data 1'!$A$2:$C$1430,3,FALSE) -> Doireann ODonoghue | D19: 4 | G19: 10 | J19: =SUM(D19:I19) -> 14
A20: 518 | B20: =VLOOKUP(A20,'data 1'!$A$2:$C$1430,2,FALSE) -> Celtic | C20: =VLOOKUP(A20,'data 1'!$A$2:$C$1430,3,FALSE) -> Juilette Delaney | D20: 3 | G20: 10 | J20: =SUM(D20:I20) -> 13
A21: 1485 | B21: =VLOOKUP(A21,'data 1'!$A$2:$C$1430,2,FALSE) -> MSB | C21: =VLOOKUP(A21,'data 1'!$A$2:$C$1430,3,FALSE) -> Cliodhna Hally | D21: 2 | G21: 10 | J21: =SUM(D21:I21) -> 12
A22: 517 | B22: =VLOOKUP(A22,'data 1'!$A$2:$C$1430,2,FALSE) -> Celtic | C22: =VLOOKUP(A22,'data 1'!$A$2:$C$1430,3,FALSE) -> Ellen Fisher | D22: 1 | G22: 10 | J22: =SUM(D22:I22) -> 11
A23: 1712 | B23: =VLOOKUP(A23,'data 1'!$A$2:$C$1430,2,FALSE) -> Raheny | C23: =VLOOKUP(A23,'data 1'!$A$2:$C$1430,3,FALSE) -> Remy Kennedy | G23: 10 | J23: =SUM(D23:I23) -> 10
A24: 249 | B24: =VLOOKUP(A24,'data 1'!$A$2:$C$1430,2,FALSE) -> Blackrock | C24: =VLOOKUP(A24,'data 1'!$A$2:$C$1430,3,FALSE) -> Iris McPhillips | G24: 10 | J24: =SUM(D24:I24) -> 10
A25: 801 | B25: =VLOOKUP(A25,'data 1'!$A$2:$C$1430,2,FALSE) -> DSD | C25: =VLOOKUP(A25,'data 1'!$A$2:$C$1430,3,FALSE) -> Aoife Conlon | G25: 10 | J25: =SUM(D25:I25) -> 10
A26: 2107 | B26: =VLOOKUP(A26,'data 1'!$A$2:$C$1430,2,FALSE) -> Templeogue | C26: =VLOOKUP(A26,'data 1'!$A$2:$C$1430,3,FALSE) -> Lucy Noone | G26: 10 | J26: =SUM(D26:I26) -> 10
A27: 258 | B27: =VLOOKUP(A27,'data 1'!$A$2:$C$1430,2,FALSE) -> Blackrock | C27: =VLOOKUP(A27,'data 1'!$A$2:$C$1430,3,FALSE) -> Sarah McCarthy | G27: 10 | J27: =SUM(D27:I27) -> 10
A28: 823 | B28: =VLOOKUP(A28,'data 1'!$A$2:$C$1430,2,FALSE) -> DSD | C28: =VLOOKUP(A28,'data 1'!$A$2:$C$1430,3,FALSE) -> Ruth Burke | G28: 10 | J28: =SUM(D28:I28) -> 10
A29: 250 | B29: =VLOOKUP(A29,'data 1'!$A$2:$C$1430,2,FALSE) -> Blackrock | C29: =VLOOKUP(A29,'data 1'!$A$2:$C$1430,3,FALSE) -> Isla Maher | G29: 10 | J29: =SUM(D29:I29) -> 10
A30: 524 | B30: =VLOOKUP(A30,'data 1'!$A$2:$C$1430,2,FALSE) -> Celtic | C30: =VLOOKUP(A30,'data 1'!$A$2:$C$1430,3,FALSE) -> Rion O Gara | G30: 10 | J30: =SUM(D30:I30) -> 10
A31: 1401 | B31: =VLOOKUP(A31,'data 1'!$A$2:$C$1430,2,FALSE) -> MSB | C31: =VLOOKUP(A31,'data 1'!$A$2:$C$1430,3,FALSE) -> Aisling O’Brien | G31: 10 | J31: =SUM(D31:I31) -> 10
A32: 246 | B32: =VLOOKUP(A32,'data 1'!$A$2:$C$1430,2,FALSE) -> Blackrock | C32: =VLOOKUP(A32,'data 1'!$A$2:$C$1430,3,FALSE) -> Annabelle Garvey | G32: 10 | J32: =SUM(D32:I32) -> 10
A33: 4021 | B33: =VLOOKUP(A33,'data 1'!$A$2:$C$1430,2,FALSE) -> Cabinteely | C33: =VLOOKUP(A33,'data 1'!$A$2:$C$1430,3,FALSE) -> Hannah Bruton | G33: 10 | J33: =SUM(D33:I33) -> 10
A34: 251 | B34: =VLOOKUP(A34,'data 1'!$A$2:$C$1430,2,FALSE) -> Blackrock | C34: =VLOOKUP(A34,'data 1'!$A$2:$C$1430,3,FALSE) -> Kathleen Kennedy | G34: 10 | J34: =SUM(D34:I34) -> 10
... A45: 1850 | B45: =VLOOKUP(A45,'data 1'!$A$2:$C$1430,2,FALSE) -> Rathfarnham | C45: =VLOOKUP(A45,'data 1'!$A$2:$C$1430,3,FALSE) -> Rosie Shields | G45: 10 | J45: =SUM(D45:I45) -> 10
A46: 708 | B46: Donore | C46: Lola Blake | G46: 10 | J46: =SUM(D46:I46) -> 10
A47: 1835 | B47: =VLOOKUP(A47,'data 1'!$A$2:$C$1430,2,FALSE) -> Rathfarnham | C47: =VLOOKUP(A47,'data 1'!$A$2:$C$1430,3,FALSE) -> Laoise Meaney | G47: 10 | J47: =SUM(D47:I47) -> 10
A48: 1507 | B48: =VLOOKUP(A48,'data 1'!$A$2:$C$1430,2,FALSE) -> Mid Sutton | C48: =VLOOKUP(A48,'data 1'!$A$2:$C$1430,3,FALSE) -> Shauna Coleman | G48: 10 | J48: =SUM(D48:I48) -> 10
A49: 1246 | B49: =VLOOKUP(A49,'data 1'!$A$2:$C$1430,2,FALSE) -> Lucan | C49: =VLOOKUP(A49,'data 1'!$A$2:$C$1430,3,FALSE) -> Linehan Róisín | G49: 10 | J49: =SUM(D49:I49) -> 10
A50: 1242 | B50: =VLOOKUP(A50,'data 1'!$A$2:$C$1430,2,FALSE) -> Lucan | C50: =VLOOKUP(A50,'data 1'!$A$2:$C$1430,3,FALSE) -> Carroll Anna | G50: 10 | J50: =SUM(D50:I50) -> 10
A51: 257 | B51: =VLOOKUP(A51,'data 1'!$A$2:$C$1430,2,FALSE) -> Blackrock | C51: =VLOOKUP(A51,'data 1'!$A$2:$C$1430,3,FALSE) -> Roise Conlon | G51: 10 | J51: =SUM(D51:I51) -> 10
A52: 1975 | B52: =VLOOKUP(A52,'data 1'!$A$2:$C$1430,2,FALSE) -> Skerries | C52: =VLOOKUP(A52,'data 1'!$A$2:$C$1430,3,FALSE) -> Hazel Kealy | G52: 10 | J52: =SUM(D52:I52) -> 10
A53: 2903 | B53: Clongriffin | C53: Ella Barton | G53: 10 | J53: =SUM(D53:I53) -> 10
A54: 1304 | B54: =VLOOKUP(A54,'data 1'!$A$2:$C$1430,2,FALSE) -> Lusk | C54: =VLOOKUP(A54,'data 1'!$A$2:$C$1430,3,FALSE) -> Sadbh Keating | G54: 10 | J54: =SUM(D54:I54) -> 10
A55: 1826 | B55: =VLOOKUP(A55,'data 1'!$A$2:$C$1430,2,FALSE) -> Rathfarnham | C55: =VLOOKUP(A55,'data 1'!$A$2:$C$1430,3,FALSE) -> Alice Griffin | G55: 10 | J55: =SUM(D55:I55) -> 10
A56: 1505 | B56: =VLOOKUP(A56,'data 1'!$A$2:$C$1430,2,FALSE) -> Mid Sutton | C56: =VLOOKUP(A56,'data 1'!$A$2:$C$1430,3,FALSE) -> Ali McDonnell | G56: 10 | J56: =SUM(D56:I56) -> 10
A57: 707 | B57: Donore | C57: Emani Meagher | G57: 10 | J57: =SUM(D57:I57) -> 10
A58: 1829 | B58: =VLOOKUP(A58,'data 1'!$A$2:$C$1430,2,FALSE) -> Rathfarnham | C58: =VLOOKUP(A58,'data 1'!$A$2:$C$1430,3,FALSE) -> Ryan O' Neill | G58: 10 | J58: =SUM(D58:I58) -> 10
A59: 1 | B59: =VLOOKUP(A59,'data 1'!$A$2:$C$1430,2,FALSE) -> Balbriggan | C59: =VLOOKUP(A59,'data 1'!$A$2:$C$1430,3,FALSE) -> Holly Skilling | G59: 10 | J59: =SUM(D59:I59) -> 10
A60: 2 | B60: =VLOOKUP(A60,'data 1'!$A$2:$C$1430,2,FALSE) -> Balbriggan | C60: =VLOOKUP(A60,'data 1'!$A$2:$C$1430,3,FALSE) -> Nadia Bialek | G60: 10 | J60: =SUM(D60:I60) -> 10
A61: 1998 | B61: =VLOOKUP(A61,'data 1'!$A$2:$C$1430,2,FALSE) -> Skerries | C61: =VLOOKUP(A61,'data 1'!$A$2:$C$1430,3,FALSE) -> Laoise Hegarty | G61: 10 | J61: =SUM(D61:I61) -> 10
A62: 1435 | B62: =VLOOKUP(A62,'data 1'!$A$2:$C$1430,2,FALSE) -> MSB | C62: =VLOOKUP(A62,'data 1'!$A$2:$C$1430,3,FALSE) -> Sabhdh White | G62: 10 | J62: =SUM(D62:I62) -> 10
J63: =SUM(D63:I63) -> 0
J64: =SUM(D64:I64) -> 0
J65: =SUM(D65:I65) -> 0
J66: =SUM(D66:I66) -> 0
J67: =SUM(D67:I67) -> 0
J68: =SUM(D68:I68) -> 0
J69: =SUM(D69:I69) -> 0
J70: =SUM(D70:I70) -> 0
J71: =SUM(D71:I71) -> 0
J72: =SUM(D72:I72) -> 0
J73: =SUM(D73:I73) -> 0
J74: =SUM(D74:I74) -> 0
... J86: =SUM(D86:I86) -> 0

Sheet Girls U10
D1: League 1 | E1: League 2 | F1: League 3 | G1: Bonus | H1: Bonus | I1: Bonus | J1: Total
A2: No | B2: Club | C2: Name | G2: Points 1 | H2: Points 2 | I2: Points 2 | J2: Points
A3: 225 | B3: =VLOOKUP(A3,'data 1'!$A$2:$C$1430,2,FALSE) -> Blackrock | C3: =VLOOKUP(A3,'data 1'!$A$2:$C$1430,3,FALSE) -> Emyrose Tomkin Beddy | D3: 21 | G3: 10 | J3: =SUM(D3:I3) -> 31
A4: 1227 | B4: =VLOOKUP(A4,'data 1'!$A$2:$C$1430,2,FALSE) -> Lucan | C4: =VLOOKUP(A4,'data 1'!$A$2:$C$1430,3,FALSE) -> King Sarah | D4: 19 | G4: 10 | J4: =SUM(D4:I4) -> 29
A5: 2300 | B5: =VLOOKUP(A5,'data 1'!$A$2:$C$1430,2,FALSE) -> Crusaders | C5: =VLOOKUP(A5,'data 1'!$A$2:$C$1430,3,FALSE) -> Eabha O’Byrne | D5: 18 | G5: 10 | J5: =SUM(D5:I5) -> 28
A6: 1232 | B6: =VLOOKUP(A6,'data 1'!$A$2:$C$1430,2,FALSE) -> Lucan | C6: =VLOOKUP(A6,'data 1'!$A$2:$C$1430,3,FALSE) -> Ratheshan Aneesha | D6: 17 | G6: 10 | J6: =SUM(D6:I6) -> 27
A7: 1228 | B7: =VLOOKUP(A7,'data 1'!$A$2:$C$1430,2,FALSE) -> Lucan | C7: =VLOOKUP(A7,'data 1'!$A$2:$C$1430,3,FALSE) -> Lyons Kennedy Millie | D7: 16 | G7: 10 | J7: =SUM(D7:I7) -> 26
A8: 1223 | B8: =VLOOKUP(A8,'data 1'!$A$2:$C$1430,2,FALSE) -> Lucan | C8: =VLOOKUP(A8,'data 1'!$A$2:$C$1430,3,FALSE) -> Dunne Hannah | D8: 15 | G8: 10 | J8: =SUM(D8:I8) -> 25
A9: 224 | B9: =VLOOKUP(A9,'data 1'!$A$2:$C$1430,2,FALSE) -> Blackrock | C9: =VLOOKUP(A9,'data 1'!$A$2:$C$1430,3,FALSE) -> Elise Griffin | D9: 14 | G9: 10 | J9: =SUM(D9:I9) -> 24
A10: 1414 | B10: =VLOOKUP(A10,'data 1'!$A$2:$C$1430,2,FALSE) -> MSB | C10: =VLOOKUP(A10,'data 1'!$A$2:$C$1430,3,FALSE) -> Isla McKeown | D10: 13 | G10: 10 | J10: =SUM(D10:I10) -> 23
A11: 1416 | B11: =VLOOKUP(A11,'data 1'!$A$2:$C$1430,2,FALSE) -> MSB | C11: =VLOOKUP(A11,'data 1'!$A$2:$C$1430,3,FALSE) -> Elle McAndrew | D11: 12 | G11: 10 | J11: =SUM(D11:I11) -> 22
A12: 1415 | B12: =VLOOKUP(A12,'data 1'!$A$2:$C$1430,2,FALSE) -> MSB | C12: =VLOOKUP(A12,'data 1'!$A$2:$C$1430,3,FALSE) -> Leah Lawlor | D12: 11 | G12: 10 | J12: =SUM(D12:I12) -> 21
A13: 612 | B13: =VLOOKUP(A13,'data 1'!$A$2:$C$1430,2,FALSE) -> Clonliffe | C13: =VLOOKUP(A13,'data 1'!$A$2:$C$1430,3,FALSE) -> Charlotte Grimes | D13: 10 | G13: 10 | J13: =SUM(D13:I13) -> 20
A14: 221 | B14: =VLOOKUP(A14,'data 1'!$A$2:$C$1430,2,FALSE) -> Blackrock | C14: =VLOOKUP(A14,'data 1'!$A$2:$C$1430,3,FALSE) -> Aoife Holland | D14: 9 | G14: 10 | J14: =SUM(D14:I14) -> 19
... A20: 1417 | B20: =VLOOKUP(A20,'data 1'!$A$2:$C$1430,2,FALSE) -> MSB | C20: =VLOOKUP(A20,'data 1'!$A$2:$C$1430,3,FALSE) -> Aoibheann Gardiner | D20: 3 | G20: 10 | J20: =SUM(D20:I20) -> 13
A21: 2904 | B21: Clongriffin | C21: Lucy Kavanagh | D21: 2 | G21: 10 | J21: =SUM(D21:I21) -> 12
A22: 4096 | B22: =VLOOKUP(A22,'data 1'!$A$2:$C$1430,2,FALSE) -> Cabinteely | C22: =VLOOKUP(A22,'data 1'!$A$2:$C$1430,3,FALSE) -> Amelie Keegan | D22: 1 | G22: 10 | J22: =SUM(D22:I22) -> 11
A23: 819 | B23: =VLOOKUP(A23,'data 1'!$A$2:$C$1430,2,FALSE) -> DSD | C23: =VLOOKUP(A23,'data 1'!$A$2:$C$1430,3,FALSE) -> Dara Dwyer | G23: 10 | J23: =SUM(D23:I23) -> 10
A24: 1229 | B24: =VLOOKUP(A24,'data 1'!$A$2:$C$1430,2,FALSE) -> Lucan | C24: =VLOOKUP(A24,'data 1'!$A$2:$C$1430,3,FALSE) -> Nugent Julia | G24: 10 | J24: =SUM(D24:I24) -> 10
A25: 1230 | B25: =VLOOKUP(A25,'data 1'!$A$2:$C$1430,2,FALSE) -> Lucan | C25: =VLOOKUP(A25,'data 1'!$A$2:$C$1430,3,FALSE) -> O'Sullivan Abigail | G25: 10 | J25: =SUM(D25:I25) -> 10
A26: 2301 | B26: =VLOOKUP(A26,'data 1'!$A$2:$C$1430,2,FALSE) -> Crusaders | C26: =VLOOKUP(A26,'data 1'!$A$2:$C$1430,3,FALSE) -> Nil Aksu | G26: 10 | J26: =SUM(D26:I26) -> 10
A27: 506 | B27: =VLOOKUP(A27,'data 1'!$A$2:$C$1430,2,FALSE) -> Celtic | C27: =VLOOKUP(A27,'data 1'!$A$2:$C$1430,3,FALSE) -> Cara Maguire | G27: 10 | J27: =SUM(D27:I27) -> 10
A28: 2309 | B28: =VLOOKUP(A28,'data 1'!$A$2:$C$1430,2,FALSE) -> Crusaders | C28: =VLOOKUP(A28,'data 1'!$A$2:$C$1430,3,FALSE) -> Ava Cervi | G28: 10 | J28: =SUM(D28:I28) -> 10
A29: 1113 | B29: =VLOOKUP(A29,'data 1'!$A$2:$C$1430,2,FALSE) -> LSA | C29: =VLOOKUP(A29,'data 1'!$A$2:$C$1430,3,FALSE) -> Kate Jones | G29: 10 | J29: =SUM(D29:I29) -> 10
A30: 1999/34 | B30: =VLOOKUP(A30,'data 1'!$A$2:$C$1430,2,FALSE) -> Skerries | C30: =VLOOKUP(A30,'data 1'!$A$2:$C$1430,3,FALSE) -> Molly Payne | G30: 10 | J30: =SUM(D30:I30) -> 10
A31: 1224 | B31: =VLOOKUP(A31,'data 1'!$A$2:$C$1430,2,FALSE) -> Lucan | C31: =VLOOKUP(A31,'data 1'!$A$2:$C$1430,3,FALSE) -> Gallagher Molly | G31: 10 | J31: =SUM(D31:I31) -> 10
A32: 1816 | B32: =VLOOKUP(A32,'data 1'!$A$2:$C$1430,2,FALSE) -> Rathfarnham | C32: =VLOOKUP(A32,'data 1'!$A$2:$C$1430,3,FALSE) -> Aisling Boland | G32: 10 | J32: =SUM(D32:I32) -> 10
A33: 505 | B33: =VLOOKUP(A33,'data 1'!$A$2:$C$1430,2,FALSE) -> Celtic | C33: =VLOOKUP(A33,'data 1'!$A$2:$C$1430,3,FALSE) -> Aisling Marron | G33: 10 | J33: =SUM(D33:I33) -> 10
A34: 4029 | B34: =VLOOKUP(A34,'data 1'!$A$2:$C$1430,2,FALSE) -> Cabinteely | C34: =VLOOKUP(A34,'data 1'!$A$2:$C$1430,3,FALSE) -> Cadhla Carolan | G34: 10 | J34: =SUM(D34:I34) -> 10
A35: 226 | B35: =VLOOKUP(A35,'data 1'!$A$2:$C$1430,2,FALSE) -> Blackrock | C35: =VLOOKUP(A35,'data 1'!$A$2:$C$1430,3,FALSE) -> Esme Hunt | G35: 10 | J35: =SUM(D35:I35) -> 10
A36: 616 | B36: =VLOOKUP(A36,'data 1'!$A$2:$C$1430,2,FALSE) -> Clonliffe | C36: =VLOOKUP(A36,'data 1'!$A$2:$C$1430,3,FALSE) -> Lucy Fagan | G36: 10 | J36: =SUM(D36:I36) -> 10
A37: 510 | B37: =VLOOKUP(A37,'data 1'!$A$2:$C$1430,2,FALSE) -> Celtic | C37: =VLOOKUP(A37,'data 1'!$A$2:$C$1430,3,FALSE) -> Ellie Mannix | G37: 10 | J37: =SUM(D37:I37) -> 10
A38: 1305 | B38: =VLOOKUP(A38,'data 1'!$A$2:$C$1430,2,FALSE) -> Lusk | C38: =VLOOKUP(A38,'data 1'!$A$2:$C$1430,3,FALSE) -> Chloe Keegan Blair | G38: 10 | J38: =SUM(D38:I38) -> 10
A39: 1421 | B39: =VLOOKUP(A39,'data 1'!$A$2:$C$1430,2,FALSE) -> MSB | C39: =VLOOKUP(A39,'data 1'!$A$2:$C$1430,3,FALSE) -> Aylla Singh | G39: 10 | J39: =SUM(D39:I39) -> 10
A40: 1802 | B40: =VLOOKUP(A40,'data 1'!$A$2:$C$1430,2,FALSE) -> Rathfarnham | C40: =VLOOKUP(A40,'data 1'!$A$2:$C$1430,3,FALSE) -> Fia O'Connor | G40: 10 | J40: =SUM(D40:I40) -> 10
A41: 600/83 | B41: Clonliffe | C41: Millie Ryan | G41: 10 | J41: =SUM(D41:I41) -> 10
A42: 230 | B42: =VLOOKUP(A42,'data 1'!$A$2:$C$1430,2,FALSE) -> Blackrock | C42: =VLOOKUP(A42,'data 1'!$A$2:$C$1430,3,FALSE) -> Sophia Kelly | G42: 10 | J42: =SUM(D42:I42) -> 10
A43: 1419 | B43: =VLOOKUP(A43,'data 1'!$A$2:$C$1430,2,FALSE) -> MSB | C43: =VLOOKUP(A43,'data 1'!$A$2:$C$1430,3,FALSE) -> Isobel Mulligan | G43: 10 | J43: =SUM(D43:I43) -> 10
A44: 229 | B44: =VLOOKUP(A44,'data 1'!$A$2:$C$1430,2,FALSE) -> Blackrock | C44: =VLOOKUP(A44,'data 1'!$A$2:$C$1430,3,FALSE) -> Olivia Garvey | G44: 10 | J44: =SUM(D44:I44) -> 10
A45: 1420 | B45: =VLOOKUP(A45,'data 1'!$A$2:$C$1430,2,FALSE) -> MSB | C45: =VLOOKUP(A45,'data 1'!$A$2:$C$1430,3,FALSE) -> Sarah Reilly | G45: 10 | J45: =SUM(D45:I45) -> 10
A46: 220 | B46: =VLOOKUP(A46,'data 1'!$A$2:$C$1430,2,FALSE) -> Blackrock | C46: =VLOOKUP(A46,'data 1'!$A$2:$C$1430,3,FALSE) -> Alexis Duggan | G46: 10 | J46: =SUM(D46:I46) -> 10
A47: 600/85 | B47: Clonliffe | C47: Siun O'Donovan | G47: 10 | J47: =SUM(D47:I47) -> 10
A48: 1418 | B48: =VLOOKUP(A48,'data 1'!$A$2:$C$1430,2,FALSE) -> MSB | C48: =VLOOKUP(A48,'data 1'!$A$2:$C$1430,3,FALSE) -> Ellen Jina | G48: 10 | J48: =SUM(D48:I48) -> 10
A49: 1423 | B49: =VLOOKUP(A49,'data 1'!$A$2:$C$1430,2,FALSE) -> MSB | C49: =VLOOKUP(A49,'data 1'!$A$2:$C$1430,3,FALSE) -> Niamh Murray | G49: 10 | J49: =SUM(D49:I49) -> 10
A50: 1221 | B50: =VLOOKUP(A50,'data 1'!$A$2:$C$1430,2,FALSE) -> Lucan | C50: =VLOOKUP(A50,'data 1'!$A$2:$C$1430,3,FALSE) -> Dardis Hayley | G50: 10 | J50: =SUM(D50:I50) -> 10
A51: 608 | B51: =VLOOKUP(A51,'data 1'!$A$2:$C$1430,2,FALSE) -> Clonliffe | C51: =VLOOKUP(A51,'data 1'!$A$2:$C$1430,3,FALSE) -> Ailbhe Frizelle | G51: 10 | J51: =SUM(D51:I51) -> 10
A52: 1222 | B52: =VLOOKUP(A52,'data 1'!$A$2:$C$1430,2,FALSE) -> Lucan | C52: =VLOOKUP(A52,'data 1'!$A$2:$C$1430,3,FALSE) -> Doyle Aela | G52: 10 | J52: =SUM(D52:I52) -> 10
A53: 600/82 | B53: Clonliffe | C53: Grace Bryan | G53: 10 | J53: =SUM(D53:I53) -> 10
A54: 614 | B54: =VLOOKUP(A54,'data 1'!$A$2:$C$1430,2,FALSE) -> Clonliffe | C54: =VLOOKUP(A54,'data 1'!$A$2:$C$1430,3,FALSE) -> Heidi Davis | G54: 10 | J54: =SUM(D54:I54) -> 10
A55: 1707 | B55: =VLOOKUP(A55,'data 1'!$A$2:$C$1430,2,FALSE) -> Raheny | C55: =VLOOKUP(A55,'data 1'!$A$2:$C$1430,3,FALSE) -> Meabh Croughan | G55: 10 | J55: =SUM(D55:I55) -> 10
A56: 1312 | B56: =VLOOKUP(A56,'data 1'!$A$2:$C$1430,2,FALSE) -> Lusk | C56: =VLOOKUP(A56,'data 1'!$A$2:$C$1430,3,FALSE) -> Lucy Niland | G56: 10 | J56: =SUM(D56:I56) -> 10
A57: 619 | B57: =VLOOKUP(A57,'data 1'!$A$2:$C$1430,2,FALSE) -> Clonliffe | C57: =VLOOKUP(A57,'data 1'!$A$2:$C$1430,3,FALSE) -> Sophia Stephens | G57: 10 | J57: =SUM(D57:I57) -> 10
J58: =SUM(D58:I58) -> 0
J59: =SUM(D59:I59) -> 0
J60: =SUM(D60:I60) -> 0
J61: =SUM(D61:I61) -> 0
J62: =SUM(D62:I62) -> 0
J63: =SUM(D63:I63) -> 0
J64: =SUM(D64:I64) -> 0
J65: =SUM(D65:I65) -> 0
J66: =SUM(D66:I66) -> 0
J67: =SUM(D67:I67) -> 0
J68: =SUM(D68:I68) -> 0
J69: =SUM(D69:I69) -> 0
... J86: =SUM(D86:I86) -> 0

Sheet Girls U9
D1: League 1 | E1: League 2 | F1: League 3 | G1: Bonus | H1: Bonus | I1: Bonus | J1: Total
A2: No | B2: Club | C2: Name | G2: Points 1 | H2: Points 2 | I2: Points 2 | J2: Points
A3: 1448 | B3: =VLOOKUP(A3,'data 1'!$A$2:$C$1430,2,FALSE) -> MSB | C3: =VLOOKUP(A3,'data 1'!$A$2:$C$1430,3,FALSE) -> Zoe McConville | D3: 21 | G3: 10 | J3: =SUM(D3:I3) -> 31
A4: 2302 | B4: =VLOOKUP(A4,'data 1'!$A$2:$C$1430,2,FALSE) -> Crusaders | C4: =VLOOKUP(A4,'data 1'!$A$2:$C$1430,3,FALSE) -> Rosie Woods | D4: 19 | G4: 10 | J4: =SUM(D4:I4) -> 29
A5: 1431 | B5: =VLOOKUP(A5,'data 1'!$A$2:$C$1430,2,FALSE) -> MSB | C5: =VLOOKUP(A5,'data 1'!$A$2:$C$1430,3,FALSE) -> Bella Mujica | D5: 18 | G5: 10 | J5: =SUM(D5:I5) -> 28
A6: 1455 | B6: =VLOOKUP(A6,'data 1'!$A$2:$C$1430,2,FALSE) -> MSB | C6: =VLOOKUP(A6,'data 1'!$A$2:$C$1430,3,FALSE) -> Isla Gorman | D6: 17 | G6: 10 | J6: =SUM(D6:I6) -> 27
A7: 318 | B7: =VLOOKUP(A7,'data 1'!$A$2:$C$1430,2,FALSE) -> Bros Pearse | C7: =VLOOKUP(A7,'data 1'!$A$2:$C$1430,3,FALSE) -> Anna Redmond | D7: 16 | G7: 10 | J7: =SUM(D7:I7) -> 26
A8: 2907 | B8: Clongriffin | C8: Sarah O'Halloran | D8: 15 | G8: 10 | J8: =SUM(D8:I8) -> 25
A9: 2100 | B9: =VLOOKUP(A9,'data 1'!$A$2:$C$1430,2,FALSE) -> Templeogue | C9: =VLOOKUP(A9,'data 1'!$A$2:$C$1430,3,FALSE) -> Erin Deegan | D9: 14 | G9: 10 | J9: =SUM(D9:I9) -> 24
A10: 209 | B10: =VLOOKUP(A10,'data 1'!$A$2:$C$1430,2,FALSE) -> Blackrock | C10: =VLOOKUP(A10,'data 1'!$A$2:$C$1430,3,FALSE) -> Maia Hanniffy | D10: 13 | G10: 10 | J10: =SUM(D10:I10) -> 23
A11: 1503 | B11: =VLOOKUP(A11,'data 1'!$A$2:$C$1430,2,FALSE) -> Mid Sutton | C11: =VLOOKUP(A11,'data 1'!$A$2:$C$1430,3,FALSE) -> Aria Costello | D11: 12 | G11: 10 | J11: =SUM(D11:I11) -> 22
A12: 1454 | B12: =VLOOKUP(A12,'data 1'!$A$2:$C$1430,2,FALSE) -> MSB | C12: =VLOOKUP(A12,'data 1'!$A$2:$C$1430,3,FALSE) -> Isla Finnegan | D12: 11 | G12: 10 | J12: =SUM(D12:I12) -> 21
A13: 827 | B13: =VLOOKUP(A13,'data 1'!$A$2:$C$1430,2,FALSE) -> DSD | C13: =VLOOKUP(A13,'data 1'!$A$2:$C$1430,3,FALSE) -> Ciara Culhane | D13: 10 | G13: 10 | J13: =SUM(D13:I13) -> 20
A14: 1449 | B14: =VLOOKUP(A14,'data 1'!$A$2:$C$1430,2,FALSE) -> MSB | C14: =VLOOKUP(A14,'data 1'!$A$2:$C$1430,3,FALSE) -> Priya Muldowney | D14: 9 | G14: 10 | J14: =SUM(D14:I14) -> 19
A15: 1700 | B15: =VLOOKUP(A15,'data 1'!$A$2:$C$1430,2,FALSE) -> Raheny | C15: =VLOOKUP(A15,'data 1'!$A$2:$C$1430,3,FALSE) -> Leia Keogh | D15: 8 | G15: 10 | J15: =SUM(D15:I15) -> 18
A16: 210 | B16: =VLOOKUP(A16,'data 1'!$A$2:$C$1430,2,FALSE) -> Blackrock | C16: =VLOOKUP(A16,'data 1'!$A$2:$C$1430,3,FALSE) -> Phoebe McDonald | D16: 7 | G16: 10 | J16: =SUM(D16:I16) -> 17
A17: 211 | B17: =VLOOKUP(A17,'data 1'!$A$2:$C$1430,2,FALSE) -> Blackrock | C17: =VLOOKUP(A17,'data 1'!$A$2:$C$1430,3,FALSE) -> Poppy Tomkin Beddy | D17: 6 | G17: 10 | J17: =SUM(D17:I17) -> 16
A18: 702 | B18: Donore | C18: Rachel McCarthy | D18: 5 | G18: 10 | J18: =SUM(D18:I18) -> 15
A19: 1451 | B19: =VLOOKUP(A19,'data 1'!$A$2:$C$1430,2,FALSE) -> MSB | C19: =VLOOKUP(A19,'data 1'!$A$2:$C$1430,3,FALSE) -> Fiadh McPartland | D19: 4 | G19: 10 | J19: =SUM(D19:I19) -> 14
A20: 1457 | B20: =VLOOKUP(A20,'data 1'!$A$2:$C$1430,2,FALSE) -> MSB | C20: =VLOOKUP(A20,'data 1'!$A$2:$C$1430,3,FALSE) -> Elise Lallo | D20: 3 | G20: 10 | J20: =SUM(D20:I20) -> 13
A21: 1208 | B21: =VLOOKUP(A21,'data 1'!$A$2:$C$1430,2,FALSE) -> Lucan | C21: =VLOOKUP(A21,'data 1'!$A$2:$C$1430,3,FALSE) -> O’Toole Annabelle | D21: 2 | G21: 10 | J21: =SUM(D21:I21) -> 12
A22: 600/78 | B22: Clonliffe | C22: Meabh Hughes | D22: 1 | G22: 10 | J22: =SUM(D22:I22) -> 11
A23: 1702 | B23: =VLOOKUP(A23,'data 1'!$A$2:$C$1430,2,FALSE) -> Raheny | C23: =VLOOKUP(A23,'data 1'!$A$2:$C$1430,3,FALSE) -> Audrey lee | G23: 10 | J23: =SUM(D23:I23) -> 10
A24: 1211 | B24: =VLOOKUP(A24,'data 1'!$A$2:$C$1430,2,FALSE) -> Lucan | C24: =VLOOKUP(A24,'data 1'!$A$2:$C$1430,3,FALSE) -> Sukore Madison | G24: 10 | J24: =SUM(D24:I24) -> 10
A25: 826 | B25: =VLOOKUP(A25,'data 1'!$A$2:$C$1430,2,FALSE) -> DSD | C25: =VLOOKUP(A25,'data 1'!$A$2:$C$1430,3,FALSE) -> Leila Brown | G25: 10 | J25: =SUM(D25:I25) -> 10
A26: 1459 | B26: =VLOOKUP(A26,'data 1'!$A$2:$C$1430,2,FALSE) -> MSB | C26: =VLOOKUP(A26,'data 1'!$A$2:$C$1430,3,FALSE) -> Maggie Kirwan | G26: 10 | J26: =SUM(D26:I26) -> 10
A27: 1999/22 | B27: =VLOOKUP(A27,'data 1'!$A$2:$C$1430,2,FALSE) -> Skerries | C27: =VLOOKUP(A27,'data 1'!$A$2:$C$1430,3,FALSE) -> Maeve Garrigan | G27: 10 | J27: =SUM(D27:I27) -> 10
A28: 1200 | B28: =VLOOKUP(A28,'data 1'!$A$2:$C$1430,2,FALSE) -> Lucan | C28: =VLOOKUP(A28,'data 1'!$A$2:$C$1430,3,FALSE) -> Anglim Tess | G28: 10 | J28: =SUM(D28:I28) -> 10
A29: 1458 | B29: =VLOOKUP(A29,'data 1'!$A$2:$C$1430,2,FALSE) -> MSB | C29: =VLOOKUP(A29,'data 1'!$A$2:$C$1430,3,FALSE) -> Elsie O’Beirne | G29: 10 | J29: =SUM(D29:I29) -> 10
A30: 1452 | B30: =VLOOKUP(A30,'data 1'!$A$2:$C$1430,2,FALSE) -> MSB | C30: =VLOOKUP(A30,'data 1'!$A$2:$C$1430,3,FALSE) -> Beth O’Callaghan | G30: 10 | J30: =SUM(D30:I30) -> 10
A31: 1207 | B31: =VLOOKUP(A31,'data 1'!$A$2:$C$1430,2,FALSE) -> Lucan | C31: =VLOOKUP(A31,'data 1'!$A$2:$C$1430,3,FALSE) -> Ní Dhomhnaill Róise | G31: 10 | J31: =SUM(D31:I31) -> 10
A32: 1927 | B32: =VLOOKUP(A32,'data 1'!$A$2:$C$1430,2,FALSE) -> Skerries | C32: =VLOOKUP(A32,'data 1'!$A$2:$C$1430,3,FALSE) -> Cara Garrigan | G32: 10 | J32: =SUM(D32:I32) -> 10
A33: 1453 | B33: =VLOOKUP(A33,'data 1'!$A$2:$C$1430,2,FALSE) -> MSB | C33: =VLOOKUP(A33,'data 1'!$A$2:$C$1430,3,FALSE) -> Julie Power | G33: 10 | J33: =SUM(D33:I33) -> 10
A34: 1205 | B34: =VLOOKUP(A34,'data 1'!$A$2:$C$1430,2,FALSE) -> Lucan | C34: =VLOOKUP(A34,'data 1'!$A$2:$C$1430,3,FALSE) -> Lee Muireann | G34: 10 | J34: =SUM(D34:I34) -> 10
A35: 1840 | B35: =VLOOKUP(A35,'data 1'!$A$2:$C$1430,2,FALSE) -> Rathfarnham | C35: =VLOOKUP(A35,'data 1'!$A$2:$C$1430,3,FALSE) -> Rose Healy | G35: 10 | J35: =SUM(D35:I35) -> 10
A36: 212 | B36: =VLOOKUP(A36,'data 1'!$A$2:$C$1430,2,FALSE) -> Blackrock | C36: =VLOOKUP(A36,'data 1'!$A$2:$C$1430,3,FALSE) -> Eimear Colfer | G36: 10 | J36: =SUM(D36:I36) -> 10
A37: 1303 | B37: =VLOOKUP(A37,'data 1'!$A$2:$C$1430,2,FALSE) -> Lusk | C37: =VLOOKUP(A37,'data 1'!$A$2:$C$1430,3,FALSE) -> Lauren Ryan | G37: 10 | J37: =SUM(D37:I37) -> 10
A38: 1206 | B38: =VLOOKUP(A38,'data 1'!$A$2:$C$1430,2,FALSE) -> Lucan | C38: =VLOOKUP(A38,'data 1'!$A$2:$C$1430,3,FALSE) -> Linehan Maria | G38: 10 | J38: =SUM(D38:I38) -> 10
A39: 600/74 | B39: =VLOOKUP(A39,'data 1'!$A$2:$C$1430,2,FALSE) -> Clonliffe | C39: =VLOOKUP(A39,'data 1'!$A$2:$C$1430,3,FALSE) -> Sofia Hordouan | G39: 10 | J39: =SUM(D39:I39) -> 10
A40: 1501 | B40: =VLOOKUP(A40,'data 1'!$A$2:$C$1430,2,FALSE) -> Mid Sutton | C40: =VLOOKUP(A40,'data 1'!$A$2:$C$1430,3,FALSE) -> Eva Murtagh | G40: 10 | J40: =SUM(D40:I40) -> 10
A41: 1502 | B41: =VLOOKUP(A41,'data 1'!$A$2:$C$1430,2,FALSE) -> Mid Sutton | C41: =VLOOKUP(A41,'data 1'!$A$2:$C$1430,3,FALSE) -> Robyn McDonnell | G41: 10 | J41: =SUM(D41:I41) -> 10
A42: 1461 | B42: =VLOOKUP(A42,'data 1'!$A$2:$C$1430,2,FALSE) -> MSB | C42: =VLOOKUP(A42,'data 1'!$A$2:$C$1430,3,FALSE) -> Lara O’Sullivan | G42: 10 | J42: =SUM(D42:I42) -> 10
A43: 1970 | B43: =VLOOKUP(A43,'data 1'!$A$2:$C$1430,2,FALSE) -> Skerries | C43: =VLOOKUP(A43,'data 1'!$A$2:$C$1430,3,FALSE) -> Hannah Piao | G43: 10 | J43: =SUM(D43:I43) -> 10
A44: 1324 | B44: =VLOOKUP(A44,'data 1'!$A$2:$C$1430,2,FALSE) -> Lusk | C44: =VLOOKUP(A44,'data 1'!$A$2:$C$1430,3,FALSE) -> Emma Kuczala | G44: 10 | J44: =SUM(D44:I44) -> 10
A45: 1209 | B45: =VLOOKUP(A45,'data 1'!$A$2:$C$1430,2,FALSE) -> Lucan | C45: =VLOOKUP(A45,'data 1'!$A$2:$C$1430,3,FALSE) -> O'Sullivan Penny | G45: 10 | J45: =SUM(D45:I45) -> 10
A46: 701 | B46: Donore | C46: Farrah Blake | G46: 10 | J46: =SUM(D46:I46) -> 10
A47: 1204 | B47: =VLOOKUP(A47,'data 1'!$A$2:$C$1430,2,FALSE) -> Lucan | C47: =VLOOKUP(A47,'data 1'!$A$2:$C$1430,3,FALSE) -> Kucajeva Maya | G47: 10 | J47: =SUM(D47:I47) -> 10
A48: 1201 | B48: =VLOOKUP(A48,'data 1'!$A$2:$C$1430,2,FALSE) -> Lucan | C48: =VLOOKUP(A48,'data 1'!$A$2:$C$1430,3,FALSE) -> Bute Mia | G48: 10 | J48: =SUM(D48:I48) -> 10
A49: 1203 | B49: =VLOOKUP(A49,'data 1'!$A$2:$C$1430,2,FALSE) -> Lucan | C49: =VLOOKUP(A49,'data 1'!$A$2:$C$1430,3,FALSE) -> Killane Lily | G49: 10 | J49: =SUM(D49:I49) -> 10
A50: 1462 | B50: =VLOOKUP(A50,'data 1'!$A$2:$C$1430,2,FALSE) -> MSB | C50: =VLOOKUP(A50,'data 1'!$A$2:$C$1430,3,FALSE) -> Derbhla White | G50: 10 | J50: =SUM(D50:I50) -> 10
A51: 208 | B51: =VLOOKUP(A51,'data 1'!$A$2:$C$1430,2,FALSE) -> Blackrock | C51: =VLOOKUP(A51,'data 1'!$A$2:$C$1430,3,FALSE) -> Layla Burgess | G51: 10 | J51: =SUM(D51:I51) -> 10
A52: 1460 | B52: =VLOOKUP(A52,'data 1'!$A$2:$C$1430,2,FALSE) -> MSB | C52: =VLOOKUP(A52,'data 1'!$A$2:$C$1430,3,FALSE) -> Lucy Booth | G52: 10 | J52: =SUM(D52:I52) -> 10
A53: 1104 | B53: =VLOOKUP(A53,'data 1'!$A$2:$C$1430,2,FALSE) -> LSA | C53: =VLOOKUP(A53,'data 1'!$A$2:$C$1430,3,FALSE) -> Saidhbhín Hayes | G53: 10 | J53: =SUM(D53:I53) -> 10
A54: 1103 | B54: =VLOOKUP(A54,'data 1'!$A$2:$C$1430,2,FALSE) -> LSA | C54: =VLOOKUP(A54,'data 1'!$A$2:$C$1430,3,FALSE) -> Maeve Kelly | G54: 10 | J54: =SUM(D54:I54) -> 10
A55: 1105 | B55: =VLOOKUP(A55,'data 1'!$A$2:$C$1430,2,FALSE) -> LSA | C55: =VLOOKUP(A55,'data 1'!$A$2:$C$1430,3,FALSE) -> Lena Ashe | G55: 10 | J55: =SUM(D55:I55) -> 10
A56: 1102 | B56: =VLOOKUP(A56,'data 1'!$A$2:$C$1430,2,FALSE) -> LSA | C56: =VLOOKUP(A56,'data 1'!$A$2:$C$1430,3,FALSE) -> Emily Cashin | G56: 10 | J56: =SUM(D56:I56) -> 10
J57: =SUM(D57:I57) -> 0
J58: =SUM(D58:I58) -> 0
J59: =SUM(D59:I59) -> 0
J60: =SUM(D60:I60) -> 0
J61: =SUM(D61:I61) -> 0
J62: =SUM(D62:I62) -> 0
J63: =SUM(D63:I63) -> 0
J64: =SUM(D64:I64) -> 0
J65: =SUM(D65:I65) -> 0
J66: =SUM(D66:I66) -> 0
J67: =SUM(D67:I67) -> 0
J68: =SUM(D68:I68) -> 0
... J86: =SUM(D86:I86) -> 0

Sheet Data
A1: Reg | B1: Club | C1: Number | D1: Name | E1: Age | F1: Age | G1: Sex
B2: DSD | C2: 800 | D2: Evan Meredith | E2: 2011 - U12 | F2: 12 | G2: Boy
B3: DSD | C3: 801 | D3: Aoife Conlon | E3: 2012 - U11 | F3: 11 | G3: Girl
B4: DSD | C4: 802 | D4: Conor Pimlott | E4: 2010 - U13 | F4: 13 | G4: Boy
B5: DSD | C5: 803 | D5: Hazel McNiff | E5: 2012 - U11 | F5: 11 | G5: Girl
B6: DSD | C6: 804 | D6: James Balinforth | E6: 2014 - U9 | F6: 9 | G6: Boy
B7: DSD | C7: 805 | D7: Eabha Power | E7: 2011 - U12 | F7: 12 | G7: Girl
B8: DSD | C8: 806 | D8: Rory Connolly | E8: 2014 - U9 | F8: 9 | G8: Boy
B9: DSD | C9: 807 | D9: Deirbhla Hassett | E9: 2010 - U13 | F9: 13 | G9: Girl
B10: DSD | C10: 808 | D10: Aisling Power | E10: 2010 - U13 | F10: 13 | G10: Girl
B11: DSD | C11: 809 | D11: Fionn Hassett | E11: 2012 - U11 | F11: 11 | G11: Boy
B12: DSD | C12: 810 | D12: Siabh Hassett | E12: 2008 - U15 | F12: 15 | G12: Girl
B13: DSD | C13: 811 | D13: Isabella Prina Mello | E13: 2008 - U15 | F13: 15 | G13: Girl
... B47: DSD | C47: 846 | D47: Javae St. Lewis | E47: 2004 - U19 | F47: 19 | G47: Boy
A48: 389496 | B48: Clonliffe | C48: 600 | D48: Eric Scanlan | E48: U10 | F48: 10 | G48: Boy
A49: 369001 | B49: Clonliffe | C49: 601 | D49: Finn Mc Gurren | E49: U10 | F49: 10 | G49: Boy
A50: 374898 | B50: Clonliffe | C50: 602 | D50: Isaac O Neill | E50: U10 | F50: 10 | G50: Boy
A51: 384836 | B51: Clonliffe | C51: 603 | D51: Odhran Walsh | E51: U10 | F51: 10 | G51: Boy
A52: 376463 | B52: Clonliffe | C52: 604 | D52: Oisin Behan Daly | E52: U10 | F52: 10 | G52: Boy
A53: 369967 | B53: Clonliffe | C53: 605 | D53: Rhys Daly | E53: U10 | F53: 10 | G53: Boy
A54: 369969 | B54: Clonliffe | C54: 606 | D54: Sebastian Pierce | E54: U10 | F54: 10 | G54: Boy
A55: 374897 | B55: Clonliffe | C55: 607 | D55: Tom Byrne | E55: U10 | F55: 10 | G55: Boy
A56: 389018 | B56: Clonliffe | C56: 608 | D56: Ailbhe Frizelle | E56: U10 | F56: 10 | G56: Girl
A57: 369970 | B57: Clonliffe | C57: 609 | D57: Amara Vaas | E57: U10 | F57: 10 | G57: Girl
A58: 368364 | B58: Clonliffe | C58: 610 | D58: Ava Fagan | E58: U10 | F58: 10 | G58: Girl
A59: 380943 | B59: Clonliffe | C59: 611 | D59: Catherine Walsh | E59: U10 | F59: 10 | G59: Girl
... A147: 319816 | B147: Clonliffe | C147: 699 | D147: Conor Tynan | E147: U14 | F147: 14 | G147: Boy
A148: 391706 | B148: Clonliffe | C148: 600/1 | D148: Fiachra O Donovan | E148: U14 | F148: 14 | G148: Boy
A149: 385213 | B149: Clonliffe | C149: 600/2 | D149: Jake Dalton | E149: U14 | F149: 14 | G149: Boy
A150: 301961 | B150: Clonliffe | C150: 600/3 | D150: Lochlain Haverty | E150: U14 | F150: 14 | G150: Boy
A151: 374905 | B151: Clonliffe | C151: 600/4 | D151: Mark Egan | E151: U14 | F151: 14 | G151: Boy
A152: 392363 | B152: Clonliffe | C152: 600/5 | D152: Sam O Reilly | E152: U14 | F152: 14 | G152: Boy
A153: 365015 | B153: Clonliffe | C153: 600/6 | D153: Sean Scanlan | E153: U14 | F153: 14 | G153: Boy
A154: 378086 | B154: Clonliffe | C154: 600/7 | D154: Sean Henry | E154: U14 | F154: 14 | G154: Boy
A155: 390504 | B155: Clonliffe | C155: 600/8 | D155: Sean Sinopluoglu | E155: U14 | F155: 14 | G155: Boy
A156: 319814 | B156: Clonliffe | C156: 600/9 | D156: Ava Ahern | E156: U14 | F156: 14 | G156: Girl
A157: 389807 | B157: Clonliffe | C157: 600/10 | D157: Beibhinn Dunphy | E157: U14 | F157: 14 | G157: Girl
A158: 385212 | B158: Clonliffe | C158: 600/11 | D158: Céila Breathnach | E158: U14 | F158: 14 | G158: Girl
A159: 340398 | B159: Clonliffe | C159: 600/12 | D159: Emily Mulvey | E159: U14 | F159: 14 | G159: Girl
... A220: 387419 | B220: Clonliffe | C220: 600/74 | D220: Sofia Hordouan | E220: U9 | F220: 9 | G220: Girl
B221: LSA | C221: 1101 | D221: Daniel Cashin | E221: U9 | F221: 9
B222: LSA | C222: 1102 | D222: Emily Cashin | E222: U9 | F222: 9
B223: LSA | C223: 1103 | D223: Maeve Kelly | E223: U9 | F223: 9
B224: LSA | C224: 1104 | D224: Saidhbhín Hayes | E224: U9 | F224: 9
B225: LSA | C225: 1105 | D225: Lena Ashe | E225: U9 | F225: 9
B226: LSA | C226: 1110 | D226: Cassian Corcoran | E226: U10 | F226: 10
B227: LSA | C227: 1111 | D227: Devin Bates | E227: U10 | F227: 10
B228: LSA | C228: 1112 | D228: N/A | E228: U10 | F228: 10
B229: LSA | C229: 1113 | D229: Kate Jones | E229: U10 | F229: 10
B230: LSA | C230: 1120 | D230: Conor Cashin | E230: U11 | F230: 11
B231: LSA | C231: 1121 | D231: Ben O'Sullivan | E231: U11 | F231: 11
B232: LSA | C232: 1130 | D232: Leon Capocci | E232: U12 | F232: 12
... B284: Crusaders | C284: 2315 | D284: John O’Connor | E284: U13 | F284: 13
B285: Balbriggan | C285: 1 | D285: Holly Skilling | E285: u11 | F285: 11 | G285: Female
B286: Balbriggan | C286: 2 | D286: Nadia Bialek | E286: u11 | F286: 11 | G286: Female
B287: Balbriggan | C287: 3 | D287: Amber Killoran | E287: u11 | F287: 11 | G287: Female
B288: Balbriggan | C288: 4 | D288: Laila Guinan | E288: u12 | F288: 12 | G288: Female
B289: Balbriggan | C289: 5 | D289: Zoe Russell | E289: u12 | F289: 12 | G289: Female
B290: Balbriggan | C290: 6 | D290: Caoileen Coone | E290: u13 | F290: 13 | G290: Female
B291: Balbriggan | C291: 7 | D291: Sophie Skilling | E291: u14 | F291: 14 | G291: Female
B292: Balbriggan | C292: 8 | D292: Ashley Guinan | E292: u15 | F292: 15 | G292: Female
B293: Balbriggan | C293: 9 | D293: Alex Cairns | E293: u15 | F293: 15 | G293: Male
B294: Balbriggan | C294: 10 | D294: Jasmine Hughes | E294: u16 | F294: 16 | G294: Female
B295: Raheny | C295: 1700 | D295: Leia Keogh | E295: U9 | F295: 9
B296: Raheny | C296: 1701 | D296: Ben Synott | E296: U9 | F296: 9
B297: Raheny | C297: 1702 | D297: Audrey lee | E297: U9 | F297: 9
B298: Raheny | C298: 1703 | D298: Cian Cooney | E298: U10 | F298: 10
B299: Raheny | C299: 1704 | D299: Tiernan McDonagh | E299: U10 | F299: 10
B300: Raheny | C300: 1705 | D300: William Stoker | E300: U10 | F300: 10
B301: Raheny | C301: 1706 | D301: Joshua Carroll | E301: U10 | F301: 10
B302: Raheny | C302: 1707 | D302: Meabh Croughan | E302: U10 | F302: 10
B303: Raheny | C303: 1708 | D303: Jamie lynam | E303: U10 | F303: 10
B304: Raheny | C304: 1709 | D304: Liam mcAtamney | E304: U11 | F304: 11
B305: Raheny | C305: 1710 | D305: Vasily stapolov | E305: U11 | F305: 11
B306: Raheny | C306: 1711 | D306: Conor Hanly | E306: U11 | F306: 11
... B526: Skerries | C526: 1999 | D526: Laoise Hodnett | E526: U/16 | F526: 16
B527: Skerries | C527: 1999/1 | D527: Laura Dore | E527: U/12 | F527: 12
B528: Skerries | C528: 1999/2 | D528: Lauren Mangan | E528: U/10 | F528: 10
B529: Skerries | C529: 1999/3 | D529: Lauren Payne | E529: U/14 | F529: 14
B530: Skerries | C530: 1999/4 | D530: Leila Stapleton | E530: U/10 | F530: 10
B531: Skerries | C531: 1999/5 | D531: Lennon Gaye | E531: U/12 | F531: 12
B532: Skerries | C532: 1999/6 | D532: Léon Cabrol | E532: U/11 | F532: 11
B533: Skerries | C533: 1999/7 | D533: Liam Forbes Halpin | E533: U/18 | F533: 18
B534: Skerries | C534: 1999/8 | D534: Lillian O'Halloran - Fogarty | E534: U/12 | F534: 12
B535: Skerries | C535: 1999/9 | D535: Lillie Sheeran | E535: U/13 | F535: 13
B536: Skerries | C536: 1999/10 | D536: Lily Browne | E536: U/16 | F536: 16
B537: Skerries | C537: 1999/11 | D537: Lily Tinkler | E537: U/17 | F537: 17
B538: Skerries | C538: 1999/12 | D538: Lochlann Farrell | E538: U/10 | F538: 10
... B607: Skerries | C607: 1999/81 | D607: Zion Diamond Ebs | E607: U/16 | F607: 16
B608: Cabinteely | C608: 4205 | D608: Tadhg Urell | E608: 10 | F608: 10
B609: Cabinteely | C609: 4135 | D609: Jan Mc Hugh | E609: 10 | F609: 10
B610: Cabinteely | C610: 4134 | D610: Ollie Mc Hugh | E610: 10 | F610: 10
B611: Cabinteely | C611: 4021 | D611: Hannah Bruton | E611: 11 | F611: 11
B612: Cabinteely | C612: 4073 | D612: Hugo Healy | E612: 11 | F612: 11
B613: Cabinteely | C613: 4036 | D613: Ronan Cowley | E613: 11 | F613: 11
B614: Cabinteely | C614: 4031 | D614: Emma Chaney | E614: 11 | F614: 11
B615: Cabinteely | C615: 4206 | D615: Oscar Urell | E615: 12 | F615: 12
B616: Cabinteely | C616: 4180 | D616: Laoise Randles | E616: 12 | F616: 12
B617: Cabinteely | C617: 4098 | D617: Lennox Kelley | E617: 12 | F617: 12
B618: Cabinteely | C618: 4030 | D618: Eva Casey | E618: 12 | F618: 12
...

Sheet data 1
A1: Number | B1: Club | C1: Name | D1: Age | E1: Age | F1: Sex
A2: 1879 | B2: Rathfarnham | C2: Laura Mills | D2: U/20 | E2: 20
A3: 1942 | B3: Skerries | C3: Cressida Amaniampong | D3: U/20 | E3: 20
A4: 846 | B4: DSD | C4: Javae St. Lewis | D4: 2004 - U19 | E4: 19 | F4: Boy
A5: 1875 | B5: Rathfarnham | C5: Lucie Richie | D5: U/19 | E5: 19
A6: 1877 | B6: Rathfarnham | C6: Daire Sullivan | D6: U/19 | E6: 19
A7: 1999/20 | B7: Skerries | C7: Luke Monaghan | D7: U/19 | E7: 19
A8: 300/104 | B8: Bros Pearse | C8: Aleda Brady | D8: 19 | E8: 19
A9: 300/103 | B9: Bros Pearse | C9: Charlie O Connell | D9: 19 | E9: 19
A10: 300/102 | B10: Bros Pearse | C10: Daniel Tallon | D10: 19 | E10: 19
A11: 300/101 | B11: Bros Pearse | C11: Eabha Garvey | D11: 19 | E11: 19
A12: 300/100 | B12: Bros Pearse | C12: Elliot O Connell | D12: 19 | E12: 19
A13: 300/99 | B13: Bros Pearse | C13: Emma Smith | D13: 19 | E13: 19
A14: 300/98 | B14: Bros Pearse | C14: Erwan Kinsella | D14: 19 | E14: 19
A15: 300/97 | B15: Bros Pearse | C15: Ethan Benson-Looney | D15: 19 | E15: 19
A16: 837 | B16: DSD | C16: Ciara Wilson Bowan | D16: 2005 - U18 | E16: 18 | F16: Girl
A17: 1836 | B17: Rathfarnham | C17: Alice Hickey | D17: U/18 | E17: 18
A18: 1851 | B18: Rathfarnham | C18: Edel McCreery | D18: U/18 | E18: 18
A19: 1999/7 | B19: Skerries | C19: Liam Forbes Halpin | D19: U/18 | E19: 18
A20: 1999/35 | B20: Skerries | C20: Nathan Harpur | D20: U/18 | E20: 18
A21: 1999/55 | B21: Skerries | C21: Sam Burgess | D21: U/18 | E21: 18
A22: 300/96 | B22: Bros Pearse | C22: Eva Cormack | D22: 18 | E22: 18
A23: 300/95 | B23: Bros Pearse | C23: Fionn Walshe | D23: 18 | E23: 18
A24: 300/94 | B24: Bros Pearse | C24: Jack Lyons | D24: 18 | E24: 18
A25: 300/93 | B25: Bros Pearse | C25: Katie Brennan | D25: 18 | E25: 18
A26: 300/92 | B26: Bros Pearse | C26: Leo Simpson | D26: 18 | E26: 18
A27: 300/91 | B27: Bros Pearse | C27: Lucie Kirwan | D27: 18 | E27: 18
A28: 300/90 | B28: Bros Pearse | C28: Marijke Depla | D28: 18 | E28: 18
A29: 300/89 | B29: Bros Pearse | C29: Matthew Twomney | D29: 18 | E29: 18
A30: 300/88 | B30: Bros Pearse | C30: Niamh Russell | D30: 18 | E30: 18
A31: 300/87 | B31: Bros Pearse | C31: Oisin Lawlor | D31: 18 | E31: 18
A32: 300/86 | B32: Bros Pearse | C32: Saul O'Connell | D32: 18 | E32: 18
A33: 300/85 | B33: Bros Pearse | C33: Shannen Blake | D33: 18 | E33: 18
A34: 300/84 | B34: Bros Pearse | C34: Sophie Martin | D34: 18 | E34: 18
A35: 2010 | B35: Tallaght | C35: Moss Grace | D35: U18 | E35: 18
A36: 1601 | B36: Portmarnock | C36: Callum Marshall | D36: U18 | E36: 18
A37: 1529 | B37: Mid Sutton | C37: David Smith | D37: U17B | E37: 17
A38: 1807 | B38: Rathfarnham | C38: Ciara Murphy | D38: U/17 | E38: 17
A39: 1829 | B39: Rathfarnham | C39: Ryan O' Neill | D39: U/17 | E39: 17
A40: 1833 | B40: Rathfarnham | C40: Rachael Lawlor | D40: U/17 | E40: 17
A41: 1865 | B41: Rathfarnham | C41: Clara kinsella | D41: U/17 | E41: 17
A42: 1867 | B42: Rathfarnham | C42: Caolainn McCabe | D42: U/17 | E42: 17
A43: 1876 | B43: Rathfarnham | C43: Zoie Richie | D43: U/17 | E43: 17
A44: 1973 | B44: Skerries | C44: Harvey Lowe | D44: U/17 | E44: 17
A45: 1999/11 | B45: Skerries | C45: Lily Tinkler | D45: U/17 | E45: 17
A46: 300/83 | B46: Bros Pearse | C46: Adeline Cockrell | D46: 17 | E46: 17
A47: 300/82 | B47: Bros Pearse | C47: Charlie Maher | D47: 17 | E47: 17
A48: 300/81 | B48: Bros Pearse | C48: Cian Corcoran | D48: 17 | E48: 17
A49: 300/80 | B49: Bros Pearse | C49: Clodagh Rafter | D49: 17 | E49: 17
A50: 300/79 | B50: Bros Pearse | C50: Eoghan Smith | D50: 17 | E50: 17
A51: 300/78 | B51: Bros Pearse | C51: Eoin Tuke | D51: 17 | E51: 17
A52: 300/77 | B52: Bros Pearse | C52: Eva Kelly | D52: 17 | E52: 17
A53: 300/76 | B53: Bros Pearse | C53: Isobel Donne | D53: 17 | E53: 17
A54: 300/75 | B54: Bros Pearse | C54: James Brennan | D54: 17 | E54: 17
A55: 300/74 | B55: Bros Pearse | C55: Lucy Bradley | D55: 17 | E55: 17
A56: 300/73 | B56: Bros Pearse | C56: Maissa Labidi | D56: 17 | E56: 17
A57: 300/72 | B57: Bros Pearse | C57: Shauna Hayden | D57: 17 | E57: 17
A58: 836 | B58: DSD | C58: Sean Healy | D58: 2007 - U16 | E58: 16 | F58: Boy
A59: 842 | B59: DSD | C59: Olivia O'Carolan | D59: 2007 - U16 | E59: 16 | F59: Girl
A60: 600/44 | B60: Clonliffe | C60: Aaron Murray | D60: U16 | E60: 16 | F60: Boy
A61: 600/45 | B61: Clonliffe | C61: Cathal O Neill | D61: U16 | E61: 16 | F61: Boy
A62: 600/46 | B62: Clonliffe | C62: Charlie Duffy | D62: U16 | E62: 16 | F62: Boy
A63: 600/47 | B63: Clonliffe | C63: Edward Joyce | D63: U16 | E63: 16 | F63: Boy
A64: 600/48 | B64: Clonliffe | C64: Isaac Moss | D64: U16 | E64: 16 | F64: Boy
A65: 600/49 | B65: Clonliffe | C65: Jack Mc Donnell | D65: U16 | E65: 16 | F65: Boy
A66: 600/50 | B66: Clonliffe | C66: Jake Kane | D66: U16 | E66: 16 | F66: Boy
A67: 600/51 | B67: Clonliffe | C67: Jaydon Carroll | D67: U16 | E67: 16 | F67: Boy
A68: 600/52 | B68: Clonliffe | C68: Marcos Lawrence | D68: U16 | E68: 16 | F68: Boy
A69: 600/53 | B69: Clonliffe | C69: Matei Ursachi | D69: U16 | E69: 16 | F69: Boy
A70: 600/54 | B70: Clonliffe | C70: Noah Rossi | D70: U16 | E70: 16 | F70: Boy
A71: 600/55 | B71: Clonliffe | C71: Oisin Burke | D71: U16 | E71: 16 | F71: Boy
... A83: 600/67 | B83: Clonliffe | C83: Sarah Mc Donnell | D83: U16 | E83: 16 | F83: Girl
A84: 1528 | B84: Mid Sutton | C84: Conor Smith | D84: U16B | E84: 16
A85: 10 | B85: Balbriggan | C85: Jasmine Hughes | D85: u16 | E85: 16 | F85: Female
A86: 1741 | B86: Raheny | C86: Seppii Baumeister | D86: U16 | E86: 16
A87: 1808 | B87: Rathfarnham | C87: Sarah Murphy | D87: U/16 | E87: 16
A88: 1874 | B88: Rathfarnham | C88: Jodie Richie | D88: U/16 | E88: 16
A89: 1907 | B89: Skerries | C89: Alisa Terlingo | D89: U/16 | E89: 16
A90: 1912 | B90: Skerries | C90: Aoife Curley | D90: U/16 | E90: 16
A91: 1913 | B91: Skerries | C91: Aoife Davies | D91: U/16 | E91: 16
A92: 1914 | B92: Skerries | C92: Aoise Dore | D92: U/16 | E92: 16
A93: 1916 | B93: Skerries | C93: Ava Kedney | D93: U/16 | E93: 16
A94: 1923 | B94: Skerries | C94: Caoileann Sexton | D94: U/16 | E94: 16
A95: 1937 | B95: Skerries | C95: Conn Gorman | D95: U/16 | E95: 16
A96: 1940 | B96: Skerries | C96: Conor Gordon | D96: U/16 | E96: 16
A97: 1945 | B97: Skerries | C97: Darragh Harding | D97: U/16 | E97: 16
... A104: 1999 | B104: Skerries | C104: Laoise Hodnett | D104: U/16 | E104: 16
A105: 1999/10 | B105: Skerries | C105: Lily Browne | D105: U/16 | E105: 16
A106: 1999/62 | B106: Skerries | C106: Séan Halligan | D106: U/16 | E106: 16
A107: 1999/66 | B107: Skerries | C107: Shane Clinton | D107: U/16 | E107: 16
A108: 1999/68 | B108: Skerries | C108: Shauna Prior | D108: U/16 | E108: 16
A109: 1999/70 | B109: Skerries | C109: Sophie Rennicks | D109: U/16 | E109: 16
A110: 1999/74 | B110: Skerries | C110: Taimse NicEochaidh | D110: U/16 | E110: 16
A111: 1999/76 | B111: Skerries | C111: Tymon(called Tymek) Tolak | D111: U/16 | E111: 16
A112: 1999/77 | B112: Skerries | C112: Valerie Alile | D112: U/16 | E112: 16
A113: 1999/81 | B113: Skerries | C113: Zion Diamond Ebs | D113: U/16 | E113: 16
A114: 4095 | B114: Cabinteely | C114: Jake Keegan | D114: 16 | E114: 16
A115: 300/71 | B115: Bros Pearse | C115: Alannah Power | D115: 16 | E115: 16
A116: 300/70 | B116: Bros Pearse | C116: Anthony O'Connell | D116: 16 | E116: 16
A117: 300/69 | B117: Bros Pearse | C117: Cian Mulhall | D117: 16 | E117: 16
...
