Workbook

Sheet Boys U19
D1: League 1 | E1: League 2 | F1: League 3 | G1: Bonus | H1: Bonus | I1: Bonus | J1: Total
A2: No | B2: Club | C2: Name | G2: Points 1 | H2: Points 2 | I2: Points 2 | J2: Points
A3: 741 | B3: =VLOOKUP(A3,'data 1'!$A$2:$C$1430,2,FALSE) -> #N/A | C3: =VLOOKUP(A3,'data 1'!$A$2:$C$1430,3,FALSE) -> #N/A | D3: 21 | G3: 10 | J3: =SUM(D3:I3) -> 31
A4: 1877 | B4: =VLOOKUP(A4,'data 1'!$A$2:$C$1430,2,FALSE) -> Rathfarnham | C4: =VLOOKUP(A4,'data 1'!$A$2:$C$1430,3,FALSE) -> Daire Sullivan | D4: 19 | G4: 10 | J4: =SUM(D4:I4) -> 29
A5: 577 | B5: =VLOOKUP(A5,'data 1'!$A$2:$C$1430,2,FALSE) -> Celtic | C5: =VLOOKUP(A5,'data 1'!$A$2:$C$1430,3,FALSE) -> Christopher mc Loughlin | D5: 18 | G5: 10 | J5: =SUM(D5:I5) -> 28
A6: 846 | B6: =VLOOKUP(A6,'data 1'!$A$2:$C$1430,2,FALSE) -> DSD | C6: =VLOOKUP(A6,'data 1'!$A$2:$C$1430,3,FALSE) -> Javae St. Lewis | D6: 17 | G6: 10 | J6: =SUM(D6:I6) -> 27
J65: =SUM(D65:I65) -> 0
J66: =SUM(D66:I66) -> 0
J67: =SUM(D67:I67) -> 0
J68: =SUM(D68:I68) -> 0
J69: =SUM(D69:I69) -> 0
J70: =SUM(D70:I70) -> 0
J71: =SUM(D71:I71) -> 0
J72: =SUM(D72:I72) -> 0
J73: =SUM(D73:I73) -> 0
J74: =SUM(D74:I74) -> 0
J75: =SUM(D75:I75) -> 0
J76: =SUM(D76:I76) -> 0
... J86: =SUM(D86:I86) -> 0

Sheet Boys U18
D1: League 1 | E1: League 2 | F1: League 3 | G1: Bonus | H1: Bonus | I1: Bonus | J1: Total
A2: No | B2: Name | C2: Club | G2: Points 1 | H2: Points 2 | I2: Points 2 | J2: Points
A3: 1999/7 | B3: =VLOOKUP(A3,'data 1'!$A$2:$C$1430,2,FALSE) -> Skerries | C3: =VLOOKUP(A3,'data 1'!$A$2:$C$1430,3,FALSE) -> Liam Forbes Halpin | D3: 21 | G3: 10 | J3: =SUM(D3:I3) -> 31
A4: 1601 | B4: =VLOOKUP(A4,'data 1'!$A$2:$C$1430,2,FALSE) -> Portmarnock | C4: =VLOOKUP(A4,'data 1'!$A$2:$C$1430,3,FALSE) -> Callum Marshall | D4: 19 | G4: 10 | J4: =SUM(D4:I4) -> 29
A5: 2010 | B5: =VLOOKUP(A5,'data 1'!$A$2:$C$1430,2,FALSE) -> Tallaght | C5: =VLOOKUP(A5,'data 1'!$A$2:$C$1430,3,FALSE) -> Moss Grace | D5: 18 | G5: 10 | J5: =SUM(D5:I5) -> 28
J25: =SUM(D25:I25) -> 0
J26: =SUM(D26:I26) -> 0
J27: =SUM(D27:I27) -> 0
J28: =SUM(D28:I28) -> 0
J29: =SUM(D29:I29) -> 0
J30: =SUM(D30:I30) -> 0
J31: =SUM(D31:I31) -> 0
J32: =SUM(D32:I32) -> 0
J33: =SUM(D33:I33) -> 0
J34: =SUM(D34:I34) -> 0
J35: =SUM(D35:I35) -> 0
J36: =SUM(D36:I36) -> 0
... J86: =SUM(D86:I86) -> 0

Sheet Boys U17
D1: League 1 | E1: League 2 | F1: League 3 | G1: Bonus | H1: Bonus | I1: Bonus | J1: Total
A2: No | B2: Name | C2: Club | G2: Points 1 | H2: Points 2 | I2: Points 2 | J2: Points
A3: 739 | B3: Thomas Bolton | C3: Donore Harriers | D3: 21 | G3: 10 | J3: =SUM(D3:I3) -> 31
A4: 1299/30 | B4: =VLOOKUP(A4,'data 1'!$A$2:$C$1430,2,FALSE) -> Lucan | C4: =VLOOKUP(A4,'data 1'!$A$2:$C$1430,3,FALSE) -> Murphy Cillian | D4: 19 | G4: 10 | J4: =SUM(D4:I4) -> 29
A5: 2321 | B5: =VLOOKUP(A5,'data 1'!$A$2:$C$1430,2,FALSE) -> Crusaders | C5: =VLOOKUP(A5,'data 1'!$A$2:$C$1430,3,FALSE) -> Oscar Sherry | D5: 18 | G5: 10 | J5: =SUM(D5:I5) -> 28
A6: 738 | B6: Thomas Bolton | C6: Donore Harriers | D6: 17 | G6: 10 | J6: =SUM(D6:I6) -> 27
A7: 1529 | B7: =VLOOKUP(A7,'data 1'!$A$2:$C$1430,2,FALSE) -> Mid Sutton | C7: =VLOOKUP(A7,'data 1'!$A$2:$C$1430,3,FALSE) -> David Smith | D7: 16 | G7: 10 | J7: =SUM(D7:I7) -> 26
J48: =SUM(D48:I48) -> 0
J49: =SUM(D49:I49) -> 0
J50: =SUM(D50:I50) -> 0
J51: =SUM(D51:I51) -> 0
J52: =SUM(D52:I52) -> 0
J53: =SUM(D53:I53) -> 0
J54: =SUM(D54:I54) -> 0
J55: =SUM(D55:I55) -> 0
J56: =SUM(D56:I56) -> 0
J57: =SUM(D57:I57) -> 0
J58: =SUM(D58:I58) -> 0
J59: =SUM(D59:I59) -> 0
... J86: =SUM(D86:I86) -> 0

Sheet Boys U16
D1: League 1 | E1: League 2 | F1: League 3 | G1: Bonus | H1: Bonus | I1: Bonus | J1: Total
A2: No | B2: Name | C2: Club | G2: Points 1 | H2: Points 2 | I2: Points 2 | J2: Points
A3: 836 | B3: =VLOOKUP(A3,'data 1'!$A$2:$C$1430,2,FALSE) -> DSD | C3: =VLOOKUP(A3,'data 1'!$A$2:$C$1430,3,FALSE) -> Sean Healy | D3: 21 | G3: 10 | J3: =SUM(D3:I3) -> 31
A4: 732 | B4: Charlie White | C4: Donore Harriers | D4: 19 | G4: 10 | J4: =SUM(D4:I4) -> 29
A5: 1491 | B5: =VLOOKUP(A5,'data 1'!$A$2:$C$1430,2,FALSE) -> MSB | C5: =VLOOKUP(A5,'data 1'!$A$2:$C$1430,3,FALSE) -> Sean O'Meara | D5: 18 | G5: 10 | J5: =SUM(D5:I5) -> 28
A6: 4095 | B6: =VLOOKUP(A6,'data 1'!$A$2:$C$1430,2,FALSE) -> Cabinteely | C6: =VLOOKUP(A6,'data 1'!$A$2:$C$1430,3,FALSE) -> Jake Keegan | D6: 17 | G6: 10 | J6: =SUM(D6:I6) -> 27
A7: 733 | B7: Lucas Collender | C7: Donore Harriers | D7: 16 | G7: 10 | J7: =SUM(D7:I7) -> 26
A8: 1299/25 | B8: =VLOOKUP(A8,'data 1'!$A$2:$C$1430,2,FALSE) -> Lucan | C8: =VLOOKUP(A8,'data 1'!$A$2:$C$1430,3,FALSE) -> Collins Diarmuid | D8: 15 | G8: 10 | J8: =SUM(D8:I8) -> 25
A9: 294 | B9: =VLOOKUP(A9,'data 1'!$A$2:$C$1430,2,FALSE) -> Blackrock | C9: =VLOOKUP(A9,'data 1'!$A$2:$C$1430,3,FALSE) -> Cillian O Mir | D9: 14 | G9: 10 | J9: =SUM(D9:I9) -> 24
A10: 1492 | B10: =VLOOKUP(A10,'data 1'!$A$2:$C$1430,2,FALSE) -> MSB | C10: =VLOOKUP(A10,'data 1'!$A$2:$C$1430,3,FALSE) -> Daire Macken | D10: 13 | G10: 10 | J10: =SUM(D10:I10) -> 23
A11: 1940 | B11: =VLOOKUP(A11,'data 1'!$A$2:$C$1430,2,FALSE) -> Skerries | C11: =VLOOKUP(A11,'data 1'!$A$2:$C$1430,3,FALSE) -> Conor Gordon | D11: 12 | G11: 10 | J11: =SUM(D11:I11) -> 22
A12: 1741 | B12: =VLOOKUP(A12,'data 1'!$A$2:$C$1430,2,FALSE) -> Raheny | C12: =VLOOKUP(A12,'data 1'!$A$2:$C$1430,3,FALSE) -> Seppii Baumeister | D12: 11 | G12: 10 | J12: =SUM(D12:I12) -> 21
J34: =SUM(D34:I34) -> 0
J35: =SUM(D35:I35) -> 0
J36: =SUM(D36:I36) -> 0
J37: =SUM(D37:I37) -> 0
J38: =SUM(D38:I38) -> 0
J39: =SUM(D39:I39) -> 0
J40: =SUM(D40:I40) -> 0
J41: =SUM(D41:I41) -> 0
J42: =SUM(D42:I42) -> 0
J43: =SUM(D43:I43) -> 0
J44: =SUM(D44:I44) -> 0
J45: =SUM(D45:I45) -> 0
... J86: =SUM(D86:I86) -> 0

Sheet Boys U15
D1: League 1 | E1: League 2 | F1: League 3 | G1: Bonus | H1: Bonus | I1: Bonus | J1: Total
A2: No | B2: Club | C2: Name | G2: Points 1 | H2: Points 2 | I2: Points 2 | J2: Points
A3: 731 | B3: Donore Harriers | C3: Liam Morris | D3: 21 | G3: 10 | J3: =SUM(D3:I3) -> 31
A4: 1340 | B4: =VLOOKUP(A4,'data 1'!$A$2:$C$1430,2,FALSE) -> Lusk | C4: =VLOOKUP(A4,'data 1'!$A$2:$C$1430,3,FALSE) -> Conor McGuirk | D4: 19 | G4: 10 | J4: =SUM(D4:I4) -> 29
A5: 1299/10 | B5: =VLOOKUP(A5,'data 1'!$A$2:$C$1430,2,FALSE) -> Lucan | C5: =VLOOKUP(A5,'data 1'!$A$2:$C$1430,3,FALSE) -> Ciomek Jacob | D5: 18 | G5: 10 | J5: =SUM(D5:I5) -> 28
A6: 1299/16 | B6: =VLOOKUP(A6,'data 1'!$A$2:$C$1430,2,FALSE) -> Lucan | C6: =VLOOKUP(A6,'data 1'!$A$2:$C$1430,3,FALSE) -> McDonagh Ferdia | D6: 17 | G6: 10 | J6: =SUM(D6:I6) -> 27
A7: 291 | B7: =VLOOKUP(A7,'data 1'!$A$2:$C$1430,2,FALSE) -> Blackrock | C7: =VLOOKUP(A7,'data 1'!$A$2:$C$1430,3,FALSE) -> Harry Moran | D7: 16 | G7: 10 | J7: =SUM(D7:I7) -> 26
A8: 1800 | B8: =VLOOKUP(A8,'data 1'!$A$2:$C$1430,2,FALSE) -> Rathfarnham | C8: =VLOOKUP(A8,'data 1'!$A$2:$C$1430,3,FALSE) -> Aidan O' Connor | D8: 15 | G8: 10 | J8: =SUM(D8:I8) -> 25
A9: 2320 | B9: =VLOOKUP(A9,'data 1'!$A$2:$C$1430,2,FALSE) -> Crusaders | C9: =VLOOKUP(A9,'data 1'!$A$2:$C$1430,3,FALSE) -> Lucas Ryan | D9: 14 | G9: 10 | J9: =SUM(D9:I9) -> 24
A10: 1299/13 | B10: =VLOOKUP(A10,'data 1'!$A$2:$C$1430,2,FALSE) -> Lucan | C10: =VLOOKUP(A10,'data 1'!$A$2:$C$1430,3,FALSE) -> Hughes Charlie | D10: 13 | G10: 10 | J10: =SUM(D10:I10) -> 23
A11: 1400/21 | B11: =VLOOKUP(A11,'data 1'!$A$2:$C$1430,2,FALSE) -> MSB | C11: =VLOOKUP(A11,'data 1'!$A$2:$C$1430,3,FALSE) -> Adam Kelly | D11: 12 | G11: 10 | J11: =SUM(D11:I11) -> 22
A12: 1299/18 | B12: =VLOOKUP(A12,'data 1'!$A$2:$C$1430,2,FALSE) -> Lucan | C12: =VLOOKUP(A12,'data 1'!$A$2:$C$1430,3,FALSE) -> Quinn Davis | D12: 11 | G12: 10 | J12: =SUM(D12:I12) -> 21
A13: 2109 | B13: =VLOOKUP(A13,'data 1'!$A$2:$C$1430,2,FALSE) -> Templeogue | C13: =VLOOKUP(A13,'data 1'!$A$2:$C$1430,3,FALSE) -> Shane Farrelly | D13: 10 | G13: 10 | J13: =SUM(D13:I13) -> 20
A14: 1400/19 | B14: =VLOOKUP(A14,'data 1'!$A$2:$C$1430,2,FALSE) -> MSB | C14: =VLOOKUP(A14,'data 1'!$A$2:$C$1430,3,FALSE) -> Daniel Leoca | D14: 9 | G14: 10 | J14: =SUM(D14:I14) -> 19
A15: 1299/14 | B15: =VLOOKUP(A15,'data 1'!$A$2:$C$1430,2,FALSE) -> Lucan | C15: =VLOOKUP(A15,'data 1'!$A$2:$C$1430,3,FALSE) -> MacFiaich Donncha | D15: 8 | G15: 10 | J15: =SUM(D15:I15) -> 18
A16: 726 | B16: Donore Harriers | C16: Daniel Hughes | D16: 7 | G16: 10 | J16: =SUM(D16:I16) -> 17
A17: 1862 | B17: =VLOOKUP(A17,'data 1'!$A$2:$C$1430,2,FALSE) -> Rathfarnham | C17: =VLOOKUP(A17,'data 1'!$A$2:$C$1430,3,FALSE) -> Mark Quinlan | D17: 6 | G17: 10 | J17: =SUM(D17:I17) -> 16
A18: 1330 | B18: =VLOOKUP(A18,'data 1'!$A$2:$C$1430,2,FALSE) -> Lusk | C18: =VLOOKUP(A18,'data 1'!$A$2:$C$1430,3,FALSE) -> Sean Ferguson | D18: 5 | G18: 10 | J18: =SUM(D18:I18) -> 15
A19: 730 | B19: Donore Harriers | C19: Aryell Sheedy | D19: 4 | G19: 10 | J19: =SUM(D19:I19) -> 14
A20: 1299/15 | B20: =VLOOKUP(A20,'data 1'!$A$2:$C$1430,2,FALSE) -> Lucan | C20: =VLOOKUP(A20,'data 1'!$A$2:$C$1430,3,FALSE) -> Maye Eoghan | D20: 3 | G20: 10 | J20: =SUM(D20:I20) -> 13
A21: 1987 | B21: =VLOOKUP(A21,'data 1'!$A$2:$C$1430,2,FALSE) -> Skerries | C21: =VLOOKUP(A21,'data 1'!$A$2:$C$1430,3,FALSE) -> James Walls | D21: 2 | G21: 10 | J21: =SUM(D21:I21) -> 12
A22: 600/24 | B22: =VLOOKUP(A22,'data 1'!$A$2:$C$1430,2,FALSE) -> Clonliffe | C22: =VLOOKUP(A22,'data 1'!$A$2:$C$1430,3,FALSE) -> Aaron Mc Kenna | D22: 1 | G22: 10 | J22: =SUM(D22:I22) -> 11
A23: 1299/12 | B23: =VLOOKUP(A23,'data 1'!$A$2:$C$1430,2,FALSE) -> Lucan | C23: =VLOOKUP(A23,'data 1'!$A$2:$C$1430,3,FALSE) -> Fais Davide | G23: 10 | J23: =SUM(D23:I23) -> 10
A24: 1400/20 | B24: =VLOOKUP(A24,'data 1'!$A$2:$C$1430,2,FALSE) -> MSB | C24: =VLOOKUP(A24,'data 1'!$A$2:$C$1430,3,FALSE) -> Peter Brennan | G24: 10 | J24: =SUM(D24:I24) -> 10
A25: 2603 | B25: =VLOOKUP(A25,'data 1'!$A$2:$C$1430,2,FALSE) -> Rathcoole | C25: =VLOOKUP(A25,'data 1'!$A$2:$C$1430,3,FALSE) -> Ryan O’Callaghan | G25: 10 | J25: =SUM(D25:I25) -> 10
A26: 727 | B26: Donore Harriers | C26: Donore Harriers | G26: 10 | J26: =SUM(D26:I26) -> 10
A27: 600/30 | B27: =VLOOKUP(A27,'data 1'!$A$2:$C$1430,2,FALSE) -> Clonliffe | C27: =VLOOKUP(A27,'data 1'!$A$2:$C$1430,3,FALSE) -> Liam Arthur | G27: 10 | J27: =SUM(D27:I27) -> 10
A28: 1528 | B28: =VLOOKUP(A28,'data 1'!$A$2:$C$1430,2,FALSE) -> Mid Sutton | C28: =VLOOKUP(A28,'data 1'!$A$2:$C$1430,3,FALSE) -> Conor Smith | G28: 10 | J28: =SUM(D28:I28) -> 10
A29: 2908 | B29: Clongriffin | C29: Zac Dullaghan | G29: 10 | J29: =SUM(D29:I29) -> 10
A30: 1299/19 | B30: =VLOOKUP(A30,'data 1'!$A$2:$C$1430,2,FALSE) -> Lucan | C30: =VLOOKUP(A30,'data 1'!$A$2:$C$1430,3,FALSE) -> Scallan Darragh | G30: 10 | J30: =SUM(D30:I30) -> 10
A31: 600/31 | B31: =VLOOKUP(A31,'data 1'!$A$2:$C$1430,2,FALSE) -> Clonliffe | C31: =VLOOKUP(A31,'data 1'!$A$2:$C$1430,3,FALSE) -> Tadhg Cowley | G31: 10 | J31: =SUM(D31:I31) -> 10
A32: 728 | B32: Donore Harriers | C32: Aaron Callanan | G32: 10 | J32: =SUM(D32:I32) -> 10
A33: 1999/49 | B33: =VLOOKUP(A33,'data 1'!$A$2:$C$1430,2,FALSE) -> Skerries | C33: =VLOOKUP(A33,'data 1'!$A$2:$C$1430,3,FALSE) -> Rory Walsh | G33: 10 | J33: =SUM(D33:I33) -> 10
J46: =SUM(D46:I46) -> 0
J47: =SUM(D47:I47) -> 0
J48: =SUM(D48:I48) -> 0
J49: =SUM(D49:I49) -> 0
J50: =SUM(D50:I50) -> 0
J51: =SUM(D51:I51) -> 0
J52: =SUM(D52:I52) -> 0
...

Sheet Boys U14
D1: League 1 | E1: League 2 | F1: League 3 | G1: Bonus | H1: Bonus | I1: Bonus | J1: Total
A2: No | B2: Club | C2: Name | G2: Points 1 | H2: Points 2 | I2: Points 2 | J2: Points
A3: 1524 | B3: =VLOOKUP(A3,'data 1'!$A$2:$C$1430,2,FALSE) -> Mid Sutton | C3: =VLOOKUP(A3,'data 1'!$A$2:$C$1430,3,FALSE) -> Charlie O'Neill | D3: 21 | G3: 10 | J3: =SUM(D3:I3) -> 31
A4: 285 | B4: =VLOOKUP(A4,'data 1'!$A$2:$C$1430,2,FALSE) -> Blackrock | C4: =VLOOKUP(A4,'data 1'!$A$2:$C$1430,3,FALSE) -> Matthew O’Donnell | D4: 19 | G4: 10 | J4: =SUM(D4:I4) -> 29
A5: 1858 | B5: =VLOOKUP(A5,'data 1'!$A$2:$C$1430,2,FALSE) -> Rathfarnham | C5: =VLOOKUP(A5,'data 1'!$A$2:$C$1430,3,FALSE) -> Soren Doyle | D5: 18 | G5: 10 | J5: =SUM(D5:I5) -> 28
A6: 1299/3 | B6: =VLOOKUP(A6,'data 1'!$A$2:$C$1430,2,FALSE) -> Lucan | C6: =VLOOKUP(A6,'data 1'!$A$2:$C$1430,3,FALSE) -> Bracken Joe | D6: 17 | G6: 10 | J6: =SUM(D6:I6) -> 27
A7: 720 | B7: Donore Harriers | C7: Eoin Mooney | D7: 16 | G7: 10 | J7: =SUM(D7:I7) -> 26
A8: 1833 | B8: =VLOOKUP(A8,'data 1'!$A$2:$C$1430,2,FALSE) -> Rathfarnham | C8: =VLOOKUP(A8,'data 1'!$A$2:$C$1430,3,FALSE) -> Rachael Lawlor | D8: 15 | G8: 10 | J8: =SUM(D8:I8) -> 25
A9: 1859 | B9: =VLOOKUP(A9,'data 1'!$A$2:$C$1430,2,FALSE) -> Rathfarnham | C9: =VLOOKUP(A9,'data 1'!$A$2:$C$1430,3,FALSE) -> Cohen Doyle | D9: 14 | G9: 10 | J9: =SUM(D9:I9) -> 24
A10: 600/8 | B10: =VLOOKUP(A10,'data 1'!$A$2:$C$1430,2,FALSE) -> Clonliffe | C10: =VLOOKUP(A10,'data 1'!$A$2:$C$1430,3,FALSE) -> Sean Sinopluoglu | D10: 13 | G10: 10 | J10: =SUM(D10:I10) -> 23
A11: 1400/13 | B11: =VLOOKUP(A11,'data 1'!$A$2:$C$1430,2,FALSE) -> MSB | C11: =VLOOKUP(A11,'data 1'!$A$2:$C$1430,3,FALSE) -> Cillian Flood | D11: 12 | G11: 10 | J11: =SUM(D11:I11) -> 22
A12: 1525 | B12: =VLOOKUP(A12,'data 1'!$A$2:$C$1430,2,FALSE) -> Mid Sutton | C12: =VLOOKUP(A12,'data 1'!$A$2:$C$1430,3,FALSE) -> Elliott McMahon | D12: 11 | G12: 10 | J12: =SUM(D12:I12) -> 21
A13: 1299/5 | B13: =VLOOKUP(A13,'data 1'!$A$2:$C$1430,2,FALSE) -> Lucan | C13: =VLOOKUP(A13,'data 1'!$A$2:$C$1430,3,FALSE) -> O'Flaherty Sean | D13: 10 | G13: 10 | J13: =SUM(D13:I13) -> 20
A14: 1400/15 | B14: =VLOOKUP(A14,'data 1'!$A$2:$C$1430,2,FALSE) -> MSB | C14: =VLOOKUP(A14,'data 1'!$A$2:$C$1430,3,FALSE) -> Luke Costello | D14: 9 | G14: 10 | J14: =SUM(D14:I14) -> 19
A15: 1730 | B15: =VLOOKUP(A15,'data 1'!$A$2:$C$1430,2,FALSE) -> Raheny | C15: =VLOOKUP(A15,'data 1'!$A$2:$C$1430,3,FALSE) -> Joseph kirwin | D15: 8 | G15: 10 | J15: =SUM(D15:I15) -> 18
A16: 1400/14 | B16: =VLOOKUP(A16,'data 1'!$A$2:$C$1430,2,FALSE) -> MSB | C16: =VLOOKUP(A16,'data 1'!$A$2:$C$1430,3,FALSE) -> Dara Costello | D16: 7 | G16: 10 | J16: =SUM(D16:I16) -> 17
A17: 283 | B17: =VLOOKUP(A17,'data 1'!$A$2:$C$1430,2,FALSE) -> Blackrock | C17: =VLOOKUP(A17,'data 1'!$A$2:$C$1430,3,FALSE) -> Conor Barker | D17: 6 | G17: 10 | J17: =SUM(D17:I17) -> 16
A18: 4164 | B18: Cabinteely | D18: 5 | G18: 10 | J18: =SUM(D18:I18) -> 15
A19: 2303 | B19: =VLOOKUP(A19,'data 1'!$A$2:$C$1430,2,FALSE) -> Crusaders | C19: =VLOOKUP(A19,'data 1'!$A$2:$C$1430,3,FALSE) -> Peter Woods | D19: 4 | G19: 10 | J19: =SUM(D19:I19) -> 14
A20: 1729 | B20: =VLOOKUP(A20,'data 1'!$A$2:$C$1430,2,FALSE) -> Raheny | C20: =VLOOKUP(A20,'data 1'!$A$2:$C$1430,3,FALSE) -> Cillian cooney | D20: 3 | G20: 10 | J20: =SUM(D20:I20) -> 13
A21: 551 | B21: =VLOOKUP(A21,'data 1'!$A$2:$C$1430,2,FALSE) -> Celtic | C21: =VLOOKUP(A21,'data 1'!$A$2:$C$1430,3,FALSE) -> Hugh O Connor | D21: 2 | G21: 10 | J21: =SUM(D21:I21) -> 12
A22: 2317 | B22: =VLOOKUP(A22,'data 1'!$A$2:$C$1430,2,FALSE) -> Crusaders | C22: =VLOOKUP(A22,'data 1'!$A$2:$C$1430,3,FALSE) -> Harry Alexander | D22: 1 | G22: 10 | J22: =SUM(D22:I22) -> 11
A23: 600/7 | B23: =VLOOKUP(A23,'data 1'!$A$2:$C$1430,2,FALSE) -> Clonliffe | C23: =VLOOKUP(A23,'data 1'!$A$2:$C$1430,3,FALSE) -> Sean Henry | G23: 10 | J23: =SUM(D23:I23) -> 10
A24: 698 | B24: =VLOOKUP(A24,'data 1'!$A$2:$C$1430,2,FALSE) -> Clonliffe | C24: =VLOOKUP(A24,'data 1'!$A$2:$C$1430,3,FALSE) -> Conor Phelan | G24: 10 | J24: =SUM(D24:I24) -> 10
A25: 722 | B25: Donore Harriers | C25: Conor O'Neill | G25: 10 | J25: =SUM(D25:I25) -> 10
A26: 600/1 | B26: =VLOOKUP(A26,'data 1'!$A$2:$C$1430,2,FALSE) -> Clonliffe | C26: =VLOOKUP(A26,'data 1'!$A$2:$C$1430,3,FALSE) -> Fiachra O Donovan | G26: 10 | J26: =SUM(D26:I26) -> 10
A27: 300/24 | B27: =VLOOKUP(A27,'data 1'!$A$2:$C$1430,2,FALSE) -> Bros Pearse | C27: =VLOOKUP(A27,'data 1'!$A$2:$C$1430,3,FALSE) -> Dian Dunne | G27: 10 | J27: =SUM(D27:I27) -> 10
A28: 723 | B28: Donore Harriers | C28: Declan Creedon | G28: 10 | J28: =SUM(D28:I28) -> 10
A29: 1882 | B29: =VLOOKUP(A29,'data 1'!$A$2:$C$1430,2,FALSE) -> Rathfarnham | C29: =VLOOKUP(A29,'data 1'!$A$2:$C$1430,3,FALSE) -> Alexander Dunne Martin | G29: 10 | J29: =SUM(D29:I29) -> 10
A30: 1150 | B30: =VLOOKUP(A30,'data 1'!$A$2:$C$1430,2,FALSE) -> LSA | C30: =VLOOKUP(A30,'data 1'!$A$2:$C$1430,3,FALSE) -> Reuben Capocci | G30: 10 | J30: =SUM(D30:I30) -> 10
A31: 286 | B31: =VLOOKUP(A31,'data 1'!$A$2:$C$1430,2,FALSE) -> Blackrock | C31: =VLOOKUP(A31,'data 1'!$A$2:$C$1430,3,FALSE) -> Rachel Dunphy | G31: 10 | J31: =SUM(D31:I31) -> 10
A32: 284 | B32: =VLOOKUP(A32,'data 1'!$A$2:$C$1430,2,FALSE) -> Blackrock | C32: =VLOOKUP(A32,'data 1'!$A$2:$C$1430,3,FALSE) -> James Keaney | G32: 10 | J32: =SUM(D32:I32) -> 10
A33: 282 | B33: =VLOOKUP(A33,'data 1'!$A$2:$C$1430,2,FALSE) -> Blackrock | C33: =VLOOKUP(A33,'data 1'!$A$2:$C$1430,3,FALSE) -> Charlie Lyons | G33: 10 | J33: =SUM(D33:I33) -> 10
A34: 1335 | B34: =VLOOKUP(A34,'data 1'!$A$2:$C$1430,2,FALSE) -> Lusk | C34: =VLOOKUP(A34,'data 1'!$A$2:$C$1430,3,FALSE) -> Niall Lenahan | G34: 10 | J34: =SUM(D34:I34) -> 10
A35: 2318 | B35: =VLOOKUP(A35,'data 1'!$A$2:$C$1430,2,FALSE) -> Crusaders | C35: =VLOOKUP(A35,'data 1'!$A$2:$C$1430,3,FALSE) -> Luke Aslin | G35: 10 | J35: =SUM(D35:I35) -> 10
A36: 1151 | B36: =VLOOKUP(A36,'data 1'!$A$2:$C$1430,2,FALSE) -> LSA | C36: =VLOOKUP(A36,'data 1'!$A$2:$C$1430,3,FALSE) -> Liam Handley | G36: 10 | J36: =SUM(D36:I36) -> 10
J81: =SUM(D81:I81) -> 0
J82: =SUM(D82:I82) -> 0
J83: =SUM(D83:I83) -> 0
J84: =SUM(D84:I84) -> 0
...

Sheet Boys U13
D1: League 1 | E1: League 2 | F1: League 3 | G1: Bonus | H1: Bonus | I1: Bonus | J1: Total
A2: No | B2: Name | C2: Club | G2: Points 1 | H2: Points 2 | I2: Points 2 | J2: Points
A3: 2108 | B3: =VLOOKUP(A3,'data 1'!$A$2:$C$1430,2,FALSE) -> Templeogue | C3: =VLOOKUP(A3,'data 1'!$A$2:$C$1430,3,FALSE) -> Adam Noone | D3: 21 | G3: 10 | J3: =SUM(D3:I3) -> 31
A4: 2105 | B4: =VLOOKUP(A4,'data 1'!$A$2:$C$1430,2,FALSE) -> Templeogue | C4: =VLOOKUP(A4,'data 1'!$A$2:$C$1430,3,FALSE) -> Sam Deegan | D4: 19 | G4: 10 | J4: =SUM(D4:I4) -> 29
A5: 1289 | B5: =VLOOKUP(A5,'data 1'!$A$2:$C$1430,2,FALSE) -> Lucan | C5: =VLOOKUP(A5,'data 1'!$A$2:$C$1430,3,FALSE) -> Abbott Conor | D5: 18 | G5: 10 | J5: =SUM(D5:I5) -> 28
A6: 1518 | B6: =VLOOKUP(A6,'data 1'!$A$2:$C$1430,2,FALSE) -> Mid Sutton | C6: =VLOOKUP(A6,'data 1'!$A$2:$C$1430,3,FALSE) -> Ben Keating | D6: 17 | G6: 10 | J6: =SUM(D6:I6) -> 27
A7: 2112 | B7: =VLOOKUP(A7,'data 1'!$A$2:$C$1430,2,FALSE) -> Templeogue | C7: =VLOOKUP(A7,'data 1'!$A$2:$C$1430,3,FALSE) -> Eabhan McNicholas | D7: 16 | G7: 10 | J7: =SUM(D7:I7) -> 26
A8: 2113 | B8: =VLOOKUP(A8,'data 1'!$A$2:$C$1430,2,FALSE) -> Templeogue | C8: =VLOOKUP(A8,'data 1'!$A$2:$C$1430,3,FALSE) -> Rodrigo Legas | D8: 15 | G8: 10 | J8: =SUM(D8:I8) -> 25
A9: 4101 | B9: =VLOOKUP(A9,'data 1'!$A$2:$C$1430,2,FALSE) -> Cabinteely | C9: =VLOOKUP(A9,'data 1'!$A$2:$C$1430,3,FALSE) -> Cillian Kelly | D9: 14 | G9: 10 | J9: =SUM(D9:I9) -> 24
A10: 680 | B10: =VLOOKUP(A10,'data 1'!$A$2:$C$1430,2,FALSE) -> Clonliffe | C10: =VLOOKUP(A10,'data 1'!$A$2:$C$1430,3,FALSE) -> Shane Mc Dermott | D10: 13 | G10: 10 | J10: =SUM(D10:I10) -> 23
A11: 398 | B11: =VLOOKUP(A11,'data 1'!$A$2:$C$1430,2,FALSE) -> Bros Pearse | C11: =VLOOKUP(A11,'data 1'!$A$2:$C$1430,3,FALSE) -> Oscar Mc Mahon | D11: 12 | G11: 10 | J11: =SUM(D11:I11) -> 22
A12: 802 | B12: =VLOOKUP(A12,'data 1'!$A$2:$C$1430,2,FALSE) -> DSD | C12: =VLOOKUP(A12,'data 1'!$A$2:$C$1430,3,FALSE) -> Conor Pimlott | D12: 11 | G12: 10 | J12: =SUM(D12:I12) -> 21
A13: 1873 | B13: =VLOOKUP(A13,'data 1'!$A$2:$C$1430,2,FALSE) -> Rathfarnham | C13: =VLOOKUP(A13,'data 1'!$A$2:$C$1430,3,FALSE) -> Sean Cantwell | D13: 10 | G13: 10 | J13: =SUM(D13:I13) -> 20
A14: 1499/4 | B14: =VLOOKUP(A14,'data 1'!$A$2:$C$1430,2,FALSE) -> MSB | C14: =VLOOKUP(A14,'data 1'!$A$2:$C$1430,3,FALSE) -> Louis Hanbury | D14: 9 | G14: 10 | J14: =SUM(D14:I14) -> 19
A15: 2911 | B15: Clongriffin | C15: Keane Wosser | D15: 8 | G15: 10 | J15: =SUM(D15:I15) -> 18
A16: 821 | B16: =VLOOKUP(A16,'data 1'!$A$2:$C$1430,2,FALSE) -> DSD | C16: =VLOOKUP(A16,'data 1'!$A$2:$C$1430,3,FALSE) -> Conn McCluskey | D16: 7 | G16: 10 | J16: =SUM(D16:I16) -> 17
A17: 1516 | B17: =VLOOKUP(A17,'data 1'!$A$2:$C$1430,2,FALSE) -> Mid Sutton | C17: =VLOOKUP(A17,'data 1'!$A$2:$C$1430,3,FALSE) -> Tim Lavin | D17: 6 | G17: 10 | J17: =SUM(D17:I17) -> 16
A18: 1530 | B18: =VLOOKUP(A18,'data 1'!$A$2:$C$1430,2,FALSE) -> Mid Sutton | C18: =VLOOKUP(A18,'data 1'!$A$2:$C$1430,3,FALSE) -> Cole Dillon | D18: 5 | G18: 10 | J18: =SUM(D18:I18) -> 15
A19: 1517 | B19: =VLOOKUP(A19,'data 1'!$A$2:$C$1430,2,FALSE) -> Mid Sutton | C19: =VLOOKUP(A19,'data 1'!$A$2:$C$1430,3,FALSE) -> Airt Doonan | D19: 4 | G19: 10 | J19: =SUM(D19:I19) -> 14
A20: 695 | B20: =VLOOKUP(A20,'data 1'!$A$2:$C$1430,2,FALSE) -> Clonliffe | C20: =VLOOKUP(A20,'data 1'!$A$2:$C$1430,3,FALSE) -> Ryan Fagan | D20: 3 | G20: 10 | J20: =SUM(D20:I20) -> 13
A21: 2314 | B21: =VLOOKUP(A21,'data 1'!$A$2:$C$1430,2,FALSE) -> Crusaders | C21: =VLOOKUP(A21,'data 1'!$A$2:$C$1430,3,FALSE) -> Hassan Hegazy | D21: 2 | G21: 10 | J21: =SUM(D21:I21) -> 12
A22: 1338 | B22: =VLOOKUP(A22,'data 1'!$A$2:$C$1430,2,FALSE) -> Lusk | C22: =VLOOKUP(A22,'data 1'!$A$2:$C$1430,3,FALSE) -> Seanan Brookfield | D22: 1 | G22: 10 | J22: =SUM(D22:I22) -> 11
A23: 665 | B23: =VLOOKUP(A23,'data 1'!$A$2:$C$1430,2,FALSE) -> Clonliffe | C23: =VLOOKUP(A23,'data 1'!$A$2:$C$1430,3,FALSE) -> Cormac Tynan | G23: 10 | J23: =SUM(D23:I23) -> 10
A24: 1801 | B24: =VLOOKUP(A24,'data 1'!$A$2:$C$1430,2,FALSE) -> Rathfarnham | C24: =VLOOKUP(A24,'data 1'!$A$2:$C$1430,3,FALSE) -> Oisin O'Connor | G24: 10 | J24: =SUM(D24:I24) -> 10
A25: 840 | B25: =VLOOKUP(A25,'data 1'!$A$2:$C$1430,2,FALSE) -> DSD | C25: =VLOOKUP(A25,'data 1'!$A$2:$C$1430,3,FALSE) -> Matthew Hickey | G25: 10 | J25: =SUM(D25:I25) -> 10
A26: 2319 | B26: =VLOOKUP(A26,'data 1'!$A$2:$C$1430,2,FALSE) -> Crusaders | C26: =VLOOKUP(A26,'data 1'!$A$2:$C$1430,3,FALSE) -> Marcus Carter | G26: 10 | J26: =SUM(D26:I26) -> 10
A27: 2009 | B27: =VLOOKUP(A27,'data 1'!$A$2:$C$1430,2,FALSE) -> Tallaght | C27: =VLOOKUP(A27,'data 1'!$A$2:$C$1430,3,FALSE) -> Eoghan Byrne | G27: 10 | J27: =SUM(D27:I27) -> 10
A28: 542 | B28: =VLOOKUP(A28,'data 1'!$A$2:$C$1430,2,FALSE) -> Celtic | C28: =VLOOKUP(A28,'data 1'!$A$2:$C$1430,3,FALSE) -> Daire McGeown | G28: 10 | J28: =SUM(D28:I28) -> 10
A29: 1944 | B29: =VLOOKUP(A29,'data 1'!$A$2:$C$1430,2,FALSE) -> Skerries | C29: =VLOOKUP(A29,'data 1'!$A$2:$C$1430,3,FALSE) -> Danny McQuillan | G29: 10 | J29: =SUM(D29:I29) -> 10
A30: 2315 | B30: =VLOOKUP(A30,'data 1'!$A$2:$C$1430,2,FALSE) -> Crusaders | C30: =VLOOKUP(A30,'data 1'!$A$2:$C$1430,3,FALSE) -> John O’Connor | G30: 10 | J30: =SUM(D30:I30) -> 10
A31: 2001 | B31: =VLOOKUP(A31,'data 1'!$A$2:$C$1430,2,FALSE) -> Tallaght | C31: =VLOOKUP(A31,'data 1'!$A$2:$C$1430,3,FALSE) -> Craig Whelehan | G31: 10 | J31: =SUM(D31:I31) -> 10
A32: 1293 | B32: =VLOOKUP(A32,'data 1'!$A$2:$C$1430,2,FALSE) -> Lucan | C32: =VLOOKUP(A32,'data 1'!$A$2:$C$1430,3,FALSE) -> Smyth Graham Corey | G32: 10 | J32: =SUM(D32:I32) -> 10
A33: 546 | B33: =VLOOKUP(A33,'data 1'!$A$2:$C$1430,2,FALSE) -> Celtic | C33: =VLOOKUP(A33,'data 1'!$A$2:$C$1430,3,FALSE) -> Tom Casey | G33: 10 | J33: =SUM(D33:I33) -> 10
A34: 1499/2 | B34: =VLOOKUP(A34,'data 1'!$A$2:$C$1430,2,FALSE) -> MSB | C34: =VLOOKUP(A34,'data 1'!$A$2:$C$1430,3,FALSE) -> James O’Grady | G34: 10 | J34: =SUM(D34:I34) -> 10
A35: 300/12 | B35: =VLOOKUP(A35,'data 1'!$A$2:$C$1430,2,FALSE) -> Bros Pearse | C35: =VLOOKUP(A35,'data 1'!$A$2:$C$1430,3,FALSE) -> Cai Prys Cummins | G35: 10 | J35: =SUM(D35:I35) -> 10
A36: 1983 | B36: =VLOOKUP(A36,'data 1'!$A$2:$C$1430,2,FALSE) -> Skerries | C36: =VLOOKUP(A36,'data 1'!$A$2:$C$1430,3,FALSE) -> Jack Power | G36: 10 | J36: =SUM(D36:I36) -> 10
A37: 2910 | B37: Clongriffin | C37: Ben Lyons | G37: 10 | J37: =SUM(D37:I37) -> 10
A38: 1724 | B38: =VLOOKUP(A38,'data 1'!$A$2:$C$1430,2,FALSE) -> Raheny | C38: =VLOOKUP(A38,'data 1'!$A$2:$C$1430,3,FALSE) -> Leo Synott | G38: 10 | J38: =SUM(D38:I38) -> 10
A39: 1999/52 | B39: =VLOOKUP(A39,'data 1'!$A$2:$C$1430,2,FALSE) -> Skerries | C39: =VLOOKUP(A39,'data 1'!$A$2:$C$1430,3,FALSE) -> Ruaidhri Silke | G39: 10 | J39: =SUM(D39:I39) -> 10
A40: 664 | B40: =VLOOKUP(A40,'data 1'!$A$2:$C$1430,2,FALSE) -> Clonliffe | C40: =VLOOKUP(A40,'data 1'!$A$2:$C$1430,3,FALSE) -> Conall Farrell | G40: 10 | J40: =SUM(D40:I40) -> 10
...

Sheet Boys U12
D1: League 1 | E1: League 2 | F1: League 3 | G1: Bonus | H1: Bonus | I1: Bonus | J1: Total
A2: No | B2: Club | C2: Name | G2: Points 1 | H2: Points 2 | I2: Points 2 | J2: Points
A3: 2310 | B3: =VLOOKUP(A3,'data 1'!$A$2:$C$1430,2,FALSE) -> Crusaders | C3: =VLOOKUP(A3,'data 1'!$A$2:$C$1430,3,FALSE) -> Oisin Healy | D3: 21 | G3: 10 | J3: =SUM(D3:I3) -> 31
A4: 1276 | B4: =VLOOKUP(A4,'data 1'!$A$2:$C$1430,2,FALSE) -> Lucan | C4: =VLOOKUP(A4,'data 1'!$A$2:$C$1430,3,FALSE) -> Fitzgerald Conal | D4: 19 | G4: 10 | J4: =SUM(D4:I4) -> 29
A5: 825 | B5: =VLOOKUP(A5,'data 1'!$A$2:$C$1430,2,FALSE) -> DSD | C5: =VLOOKUP(A5,'data 1'!$A$2:$C$1430,3,FALSE) -> Cionnadh Murphy | D5: 18 | G5: 10 | J5: =SUM(D5:I5) -> 28
A6: 642 | B6: =VLOOKUP(A6,'data 1'!$A$2:$C$1430,2,FALSE) -> Clonliffe | C6: =VLOOKUP(A6,'data 1'!$A$2:$C$1430,3,FALSE) -> Braxton O Shea | D6: 17 | G6: 10 | J6: =SUM(D6:I6) -> 27
A7: 4098 | B7: =VLOOKUP(A7,'data 1'!$A$2:$C$1430,2,FALSE) -> Cabinteely | C7: =VLOOKUP(A7,'data 1'!$A$2:$C$1430,3,FALSE) -> Lennox Kelley | D7: 16 | G7: 10 | J7: =SUM(D7:I7) -> 26
A8: 1134 | B8: =VLOOKUP(A8,'data 1'!$A$2:$C$1430,2,FALSE) -> LSA | C8: =VLOOKUP(A8,'data 1'!$A$2:$C$1430,3,FALSE) -> Mark Kelly | D8: 15 | G8: 10 | J8: =SUM(D8:I8) -> 25
A9: 2306 | B9: =VLOOKUP(A9,'data 1'!$A$2:$C$1430,2,FALSE) -> Crusaders | C9: =VLOOKUP(A9,'data 1'!$A$2:$C$1430,3,FALSE) -> Oisin Crehan | D9: 14 | G9: 10 | J9: =SUM(D9:I9) -> 24
A10: 1509 | B10: =VLOOKUP(A10,'data 1'!$A$2:$C$1430,2,FALSE) -> Mid Sutton | C10: =VLOOKUP(A10,'data 1'!$A$2:$C$1430,3,FALSE) -> Harry ONeill | D10: 13 | G10: 10 | J10: =SUM(D10:I10) -> 23
A11: 1270 | B11: =VLOOKUP(A11,'data 1'!$A$2:$C$1430,2,FALSE) -> Lucan | C11: =VLOOKUP(A11,'data 1'!$A$2:$C$1430,3,FALSE) -> Abbott Daniel | D11: 12 | G11: 10 | J11: =SUM(D11:I11) -> 22
A12: 262 | B12: =VLOOKUP(A12,'data 1'!$A$2:$C$1430,2,FALSE) -> Blackrock | C12: =VLOOKUP(A12,'data 1'!$A$2:$C$1430,3,FALSE) -> Ethan Farrell | D12: 11 | G12: 10 | J12: =SUM(D12:I12) -> 21
A13: 1810 | B13: =VLOOKUP(A13,'data 1'!$A$2:$C$1430,2,FALSE) -> Rathfarnham | C13: =VLOOKUP(A13,'data 1'!$A$2:$C$1430,3,FALSE) -> Fionan O' Keefe | D13: 10 | G13: 10 | J13: =SUM(D13:I13) -> 20
A14: 2604 | B14: =VLOOKUP(A14,'data 1'!$A$2:$C$1430,2,FALSE) -> Rathcoole | C14: =VLOOKUP(A14,'data 1'!$A$2:$C$1430,3,FALSE) -> Nicholas Sayers | D14: 9 | G14: 10 | J14: =SUM(D14:I14) -> 19
... A22: 647 | B22: =VLOOKUP(A22,'data 1'!$A$2:$C$1430,2,FALSE) -> Clonliffe | C22: =VLOOKUP(A22,'data 1'!$A$2:$C$1430,3,FALSE) -> Tim Scanlan | D22: 1 | G22: 10 | J22: =SUM(D22:I22) -> 11
A23: 369 | B23: =VLOOKUP(A23,'data 1'!$A$2:$C$1430,2,FALSE) -> Bros Pearse | C23: =VLOOKUP(A23,'data 1'!$A$2:$C$1430,3,FALSE) -> Rian Gallagher | G23: 10 | J23: =SUM(D23:I23) -> 10
A24: 1277 | B24: =VLOOKUP(A24,'data 1'!$A$2:$C$1430,2,FALSE) -> Lucan | C24: =VLOOKUP(A24,'data 1'!$A$2:$C$1430,3,FALSE) -> King Elliot | G24: 10 | J24: =SUM(D24:I24) -> 10
A25: 1273 | B25: =VLOOKUP(A25,'data 1'!$A$2:$C$1430,2,FALSE) -> Lucan | C25: =VLOOKUP(A25,'data 1'!$A$2:$C$1430,3,FALSE) -> Collis Liam | G25: 10 | J25: =SUM(D25:I25) -> 10
A26: 641 | B26: =VLOOKUP(A26,'data 1'!$A$2:$C$1430,2,FALSE) -> Clonliffe | C26: =VLOOKUP(A26,'data 1'!$A$2:$C$1430,3,FALSE) -> Benjamin Grimes | G26: 10 | J26: =SUM(D26:I26) -> 10
A27: 814 | B27: =VLOOKUP(A27,'data 1'!$A$2:$C$1430,2,FALSE) -> DSD | C27: =VLOOKUP(A27,'data 1'!$A$2:$C$1430,3,FALSE) -> Flavio Fortune | G27: 10 | J27: =SUM(D27:I27) -> 10
A28: 1272 | B28: =VLOOKUP(A28,'data 1'!$A$2:$C$1430,2,FALSE) -> Lucan | C28: =VLOOKUP(A28,'data 1'!$A$2:$C$1430,3,FALSE) -> Butcher Sean | G28: 10 | J28: =SUM(D28:I28) -> 10
A29: 387 | B29: =VLOOKUP(A29,'data 1'!$A$2:$C$1430,2,FALSE) -> Bros Pearse | C29: =VLOOKUP(A29,'data 1'!$A$2:$C$1430,3,FALSE) -> Ben Donohue | G29: 10 | J29: =SUM(D29:I29) -> 10
A30: 813 | B30: =VLOOKUP(A30,'data 1'!$A$2:$C$1430,2,FALSE) -> DSD | C30: =VLOOKUP(A30,'data 1'!$A$2:$C$1430,3,FALSE) -> Bodhie Blighe | G30: 10 | J30: =SUM(D30:I30) -> 10
A31: 712 | B31: Donore | C31: Max Henley-Willis | G31: 10 | J31: =SUM(D31:I31) -> 10
A32: 1271 | B32: =VLOOKUP(A32,'data 1'!$A$2:$C$1430,2,FALSE) -> Lucan | C32: =VLOOKUP(A32,'data 1'!$A$2:$C$1430,3,FALSE) -> Bermingham Charlie | G32: 10 | J32: =SUM(D32:I32) -> 10
A33: 1938 | B33: =VLOOKUP(A33,'data 1'!$A$2:$C$1430,2,FALSE) -> Skerries | C33: =VLOOKUP(A33,'data 1'!$A$2:$C$1430,3,FALSE) -> Connor Davis | G33: 10 | J33: =SUM(D33:I33) -> 10
A34: 1311 | B34: =VLOOKUP(A34,'data 1'!$A$2:$C$1430,2,FALSE) -> Lusk | C34: =VLOOKUP(A34,'data 1'!$A$2:$C$1430,3,FALSE) -> Daniel Moore | G34: 10 | J34: =SUM(D34:I34) -> 10
A35: 2912 | B35: Clongriffin | C35: Charlie O'Brien | G35: 10 | J35: =SUM(D35:I35) -> 10
A36: 2606 | B36: =VLOOKUP(A36,'data 1'!$A$2:$C$1430,2,FALSE) -> Rathcoole | C36: =VLOOKUP(A36,'data 1'!$A$2:$C$1430,3,FALSE) -> Luke Moran | G36: 10 | J36: =SUM(D36:I36) -> 10
A37: 1337 | B37: =VLOOKUP(A37,'data 1'!$A$2:$C$1430,2,FALSE) -> Lusk | C37: =VLOOKUP(A37,'data 1'!$A$2:$C$1430,3,FALSE) -> Oscar Nolan | G37: 10 | J37: =SUM(D37:I37) -> 10
A38: 1477 | B38: =VLOOKUP(A38,'data 1'!$A$2:$C$1430,2,FALSE) -> MSB | C38: =VLOOKUP(A38,'data 1'!$A$2:$C$1430,3,FALSE) -> Adrian Leoca | G38: 10 | J38: =SUM(D38:I38) -> 10
A39: 1274 | B39: =VLOOKUP(A39,'data 1'!$A$2:$C$1430,2,FALSE) -> Lucan | C39: =VLOOKUP(A39,'data 1'!$A$2:$C$1430,3,FALSE) -> Dardis Austin | G39: 10 | J39: =SUM(D39:I39) -> 10
A40: 264 | B40: =VLOOKUP(A40,'data 1'!$A$2:$C$1430,2,FALSE) -> Blackrock | C40: =VLOOKUP(A40,'data 1'!$A$2:$C$1430,3,FALSE) -> Tadhg O Mir | G40: 10 | J40: =SUM(D40:I40) -> 10
A41: 529 | B41: =VLOOKUP(A41,'data 1'!$A$2:$C$1430,2,FALSE) -> Celtic | C41: =VLOOKUP(A41,'data 1'!$A$2:$C$1430,3,FALSE) -> Eoin Marron | G41: 10 | J41: =SUM(D41:I41) -> 10
A42: 832 | B42: =VLOOKUP(A42,'data 1'!$A$2:$C$1430,2,FALSE) -> DSD | C42: =VLOOKUP(A42,'data 1'!$A$2:$C$1430,3,FALSE) -> Oisin Colonan | G42: 10 | J42: =SUM(D42:I42) -> 10
A43: 800 | B43: =VLOOKUP(A43,'data 1'!$A$2:$C$1430,2,FALSE) -> DSD | C43: =VLOOKUP(A43,'data 1'!$A$2:$C$1430,3,FALSE) -> Evan Meredith | G43: 10 | J43: =SUM(D43:I43) -> 10
A44: 1278 | B44: =VLOOKUP(A44,'data 1'!$A$2:$C$1430,2,FALSE) -> Lucan | C44: =VLOOKUP(A44,'data 1'!$A$2:$C$1430,3,FALSE) -> Madappa Leon | G44: 10 | J44: =SUM(D44:I44) -> 10
A45: 638 | B45: =VLOOKUP(A45,'data 1'!$A$2:$C$1430,2,FALSE) -> Clonliffe | C45: =VLOOKUP(A45,'data 1'!$A$2:$C$1430,3,FALSE) -> Aaron Mulcahy | G45: 10 | J45: =SUM(D45:I45) -> 10
A46: 644 | B46: =VLOOKUP(A46,'data 1'!$A$2:$C$1430,2,FALSE) -> Clonliffe | C46: =VLOOKUP(A46,'data 1'!$A$2:$C$1430,3,FALSE) -> Joshua King | G46: 10 | J46: =SUM(D46:I46) -> 10
A47: 263 | B47: =VLOOKUP(A47,'data 1'!$A$2:$C$1430,2,FALSE) -> Blackrock | C47: =VLOOKUP(A47,'data 1'!$A$2:$C$1430,3,FALSE) -> Johnny Grehan | G47: 10 | J47: =SUM(D47:I47) -> 10
...

Sheet Boys U11
D1: League 1 | E1: League 2 | F1: League 3 | G1: Bonus | H1: Bonus | I1: Bonus | J1: Total
A2: No | B2: Club | C2: Name | G2: Points 1 | H2: Points 2 | I2: Points 2 | J2: Points
A3: 240 | B3: =VLOOKUP(A3,'data 1'!$A$2:$C$1430,2,FALSE) -> Blackrock | C3: =VLOOKUP(A3,'data 1'!$A$2:$C$1430,3,FALSE) -> Josh Hunt | D3: 21 | G3: 10 | J3: =SUM(D3:I3) -> 31
A4: 1409 | B4: =VLOOKUP(A4,'data 1'!$A$2:$C$1430,2,FALSE) -> MSB | C4: =VLOOKUP(A4,'data 1'!$A$2:$C$1430,3,FALSE) -> Senan Kelly | D4: 19 | G4: 10 | J4: =SUM(D4:I4) -> 29
A5: 1001 | B5: =VLOOKUP(A5,'data 1'!$A$2:$C$1430,2,FALSE) -> Fingallions | C5: =VLOOKUP(A5,'data 1'!$A$2:$C$1430,3,FALSE) -> Luke Tracey | D5: 18 | G5: 10 | J5: =SUM(D5:I5) -> 28
A6: 2316 | B6: =VLOOKUP(A6,'data 1'!$A$2:$C$1430,2,FALSE) -> Crusaders | C6: =VLOOKUP(A6,'data 1'!$A$2:$C$1430,3,FALSE) -> Connor Foy-Smyth | D6: 17 | G6: 10 | J6: =SUM(D6:I6) -> 27
A7: 1943 | B7: =VLOOKUP(A7,'data 1'!$A$2:$C$1430,2,FALSE) -> Skerries | C7: =VLOOKUP(A7,'data 1'!$A$2:$C$1430,3,FALSE) -> Daire Power | D7: 16 | G7: 10 | J7: =SUM(D7:I7) -> 26
A8: 353 | B8: =VLOOKUP(A8,'data 1'!$A$2:$C$1430,2,FALSE) -> Bros Pearse | C8: =VLOOKUP(A8,'data 1'!$A$2:$C$1430,3,FALSE) -> Luke Redmond | D8: 15 | G8: 10 | J8: =SUM(D8:I8) -> 25
A9: 1408 | B9: =VLOOKUP(A9,'data 1'!$A$2:$C$1430,2,FALSE) -> MSB | C9: =VLOOKUP(A9,'data 1'!$A$2:$C$1430,3,FALSE) -> Tadhg Doran | D9: 14 | G9: 10 | J9: =SUM(D9:I9) -> 24
A10: 1999/39 | B10: =VLOOKUP(A10,'data 1'!$A$2:$C$1430,2,FALSE) -> Skerries | C10: =VLOOKUP(A10,'data 1'!$A$2:$C$1430,3,FALSE) -> Oscar Mullins | D10: 13 | G10: 10 | J10: =SUM(D10:I10) -> 23
A11: 809 | B11: =VLOOKUP(A11,'data 1'!$A$2:$C$1430,2,FALSE) -> DSD | C11: =VLOOKUP(A11,'data 1'!$A$2:$C$1430,3,FALSE) -> Fionn Hassett | D11: 12 | G11: 10 | J11: =SUM(D11:I11) -> 22
A12: 1309 | B12: =VLOOKUP(A12,'data 1'!$A$2:$C$1430,2,FALSE) -> Lusk | C12: =VLOOKUP(A12,'data 1'!$A$2:$C$1430,3,FALSE) -> Luke Power | D12: 11 | G12: 10 | J12: =SUM(D12:I12) -> 21
A13: 234 | B13: =VLOOKUP(A13,'data 1'!$A$2:$C$1430,2,FALSE) -> Blackrock | C13: =VLOOKUP(A13,'data 1'!$A$2:$C$1430,3,FALSE) -> Des White | D13: 10 | G13: 10 | J13: =SUM(D13:I13) -> 20
A14: 521 | B14: =VLOOKUP(A14,'data 1'!$A$2:$C$1430,2,FALSE) -> Celtic | C14: =VLOOKUP(A14,'data 1'!$A$2:$C$1430,3,FALSE) -> Matthew Raftery | D14: 9 | G14: 10 | J14: =SUM(D14:I14) -> 19
A15: 241 | B15: =VLOOKUP(A15,'data 1'!$A$2:$C$1430,2,FALSE) -> Blackrock | C15: =VLOOKUP(A15,'data 1'!$A$2:$C$1430,3,FALSE) -> Max McDonald | D15: 8 | G15: 10 | J15: =SUM(D15:I15) -> 18
A16: 242 | B16: =VLOOKUP(A16,'data 1'!$A$2:$C$1430,2,FALSE) -> Blackrock | C16: =VLOOKUP(A16,'data 1'!$A$2:$C$1430,3,FALSE) -> Oisin O’Hare | D16: 7 | G16: 10 | J16: =SUM(D16:I16) -> 17
A17: 2104 | B17: =VLOOKUP(A17,'data 1'!$A$2:$C$1430,2,FALSE) -> Templeogue | C17: =VLOOKUP(A17,'data 1'!$A$2:$C$1430,3,FALSE) -> Jason Deegan | D17: 6 | G17: 10 | J17: =SUM(D17:I17) -> 16
A18: 238 | B18: =VLOOKUP(A18,'data 1'!$A$2:$C$1430,2,FALSE) -> Blackrock | C18: =VLOOKUP(A18,'data 1'!$A$2:$C$1430,3,FALSE) -> Jamie Walsh | D18: 5 | G18: 10 | J18: =SUM(D18:I18) -> 15
A19: 600/76 | B19: Clonliffe | C19: Adam Phelan | D19: 4 | G19: 10 | J19: =SUM(D19:I19) -> 14
A20: 1322 | B20: =VLOOKUP(A20,'data 1'!$A$2:$C$1430,2,FALSE) -> Lusk | C20: =VLOOKUP(A20,'data 1'!$A$2:$C$1430,3,FALSE) -> Peter Lambe | D20: 3 | G20: 10 | J20: =SUM(D20:I20) -> 13
A21: 1258 | B21: =VLOOKUP(A21,'data 1'!$A$2:$C$1430,2,FALSE) -> Lucan | C21: =VLOOKUP(A21,'data 1'!$A$2:$C$1430,3,FALSE) -> Trieu Khai | D21: 2 | G21: 10 | J21: =SUM(D21:I21) -> 12
A22: 1413 | B22: =VLOOKUP(A22,'data 1'!$A$2:$C$1430,2,FALSE) -> MSB | C22: =VLOOKUP(A22,'data 1'!$A$2:$C$1430,3,FALSE) -> Matthew O’Leary | D22: 1 | G22: 10 | J22: =SUM(D22:I22) -> 11
A23: 2915 | B23: Clongriffin | C23: Evan Doyle | G23: 10 | J23: =SUM(D23:I23) -> 10
A24: 1252 | B24: =VLOOKUP(A24,'data 1'!$A$2:$C$1430,2,FALSE) -> Lucan | C24: =VLOOKUP(A24,'data 1'!$A$2:$C$1430,3,FALSE) -> Cibiras Mykolas | G24: 10 | J24: =SUM(D24:I24) -> 10
A25: 236 | B25: =VLOOKUP(A25,'data 1'!$A$2:$C$1430,2,FALSE) -> Blackrock | C25: =VLOOKUP(A25,'data 1'!$A$2:$C$1430,3,FALSE) -> Flynn Farrell | G25: 10 | J25: =SUM(D25:I25) -> 10
A26: 1411 | B26: =VLOOKUP(A26,'data 1'!$A$2:$C$1430,2,FALSE) -> MSB | C26: =VLOOKUP(A26,'data 1'!$A$2:$C$1430,3,FALSE) -> Jake Byrne | G26: 10 | J26: =SUM(D26:I26) -> 10
A27: 600/87 | B27: Clonliffe | C27: Andrew Low | G27: 10 | J27: =SUM(D27:I27) -> 10
A28: 1711 | B28: =VLOOKUP(A28,'data 1'!$A$2:$C$1430,2,FALSE) -> Raheny | C28: =VLOOKUP(A28,'data 1'!$A$2:$C$1430,3,FALSE) -> Conor Hanly | G28: 10 | J28: =SUM(D28:I28) -> 10
A29: 1253 | B29: =VLOOKUP(A29,'data 1'!$A$2:$C$1430,2,FALSE) -> Lucan | C29: =VLOOKUP(A29,'data 1'!$A$2:$C$1430,3,FALSE) -> Doyle Adam | G29: 10 | J29: =SUM(D29:I29) -> 10
A30: 817 | B30: =VLOOKUP(A30,'data 1'!$A$2:$C$1430,2,FALSE) -> DSD | C30: =VLOOKUP(A30,'data 1'!$A$2:$C$1430,3,FALSE) -> John Moore | G30: 10 | J30: =SUM(D30:I30) -> 10
A31: 2917 | B31: Clongriffin | C31: Max Lyons | G31: 10 | J31: =SUM(D31:I31) -> 10
A32: 244 | B32: =VLOOKUP(A32,'data 1'!$A$2:$C$1430,2,FALSE) -> Blackrock | C32: =VLOOKUP(A32,'data 1'!$A$2:$C$1430,3,FALSE) -> Sebastian Conway | G32: 10 | J32: =SUM(D32:I32) -> 10
A33: 4073 | B33: =VLOOKUP(A33,'data 1'!$A$2:$C$1430,2,FALSE) -> Cabinteely | C33: =VLOOKUP(A33,'data 1'!$A$2:$C$1430,3,FALSE) -> Hugo Healy | G33: 10 | J33: =SUM(D33:I33) -> 10
A34: 1251 | B34: =VLOOKUP(A34,'data 1'!$A$2:$C$1430,2,FALSE) -> Lucan | C34: =VLOOKUP(A34,'data 1'!$A$2:$C$1430,3,FALSE) -> Burke Fionn | G34: 10 | J34: =SUM(D34:I34) -> 10
A35: 628 | B35: =VLOOKUP(A35,'data 1'!$A$2:$C$1430,2,FALSE) -> Clonliffe | C35: =VLOOKUP(A35,'data 1'!$A$2:$C$1430,3,FALSE) -> Seamus Phelan | G35: 10 | J35: =SUM(D35:I35) -> 10
A36: 709 | B36: Donore Harriers | C36: Alan Maddox | G36: 10 | J36: =SUM(D36:I36) -> 10
A37: 623 | B37: =VLOOKUP(A37,'data 1'!$A$2:$C$1430,2,FALSE) -> Clonliffe | C37: =VLOOKUP(A37,'data 1'!$A$2:$C$1430,3,FALSE) -> Darragh Kidd | G37: 10 | J37: =SUM(D37:I37) -> 10
A38: 1256 | B38: =VLOOKUP(A38,'data 1'!$A$2:$C$1430,2,FALSE) -> Lucan | C38: =VLOOKUP(A38,'data 1'!$A$2:$C$1430,3,FALSE) -> Mueller Anton | G38: 10 | J38: =SUM(D38:I38) -> 10
A39: 816 | B39: =VLOOKUP(A39,'data 1'!$A$2:$C$1430,2,FALSE) -> DSD | C39: =VLOOKUP(A39,'data 1'!$A$2:$C$1430,3,FALSE) -> Adam O'Mahony | G39: 10 | J39: =SUM(D39:I39) -> 10
A40: 2914 | B40: Clongriffin | C40: Oran Dolan | G40: 10 | J40: =SUM(D40:I40) -> 10
...

Sheet Boys U10
D1: League 1 | E1: League 2 | F1: League 3 | G1: Bonus | H1: Bonus | I1: Bonus | J1: Total
A2: No | B2: Club | C2: Name | G2: Points 1 | H2: Points 2 | I2: Points 2 | J2: Points
A3: 1414 | B3: =VLOOKUP(A3,'data 1'!$A$2:$C$1430,2,FALSE) -> MSB | C3: =VLOOKUP(A3,'data 1'!$A$2:$C$1430,3,FALSE) -> Isla McKeown | D3: 21 | G3: 10 | J3: =SUM(D3:I3) -> 31
A4: 602 | B4: =VLOOKUP(A4,'data 1'!$A$2:$C$1430,2,FALSE) -> Clonliffe | C4: =VLOOKUP(A4,'data 1'!$A$2:$C$1430,3,FALSE) -> Isaac O Neill | D4: 19 | G4: 10 | J4: =SUM(D4:I4) -> 29
A5: 1235 | B5: =VLOOKUP(A5,'data 1'!$A$2:$C$1430,2,FALSE) -> Lucan | C5: =VLOOKUP(A5,'data 1'!$A$2:$C$1430,3,FALSE) -> Anglim Séimí | D5: 18 | G5: 10 | J5: =SUM(D5:I5) -> 28
A6: 1325 | B6: =VLOOKUP(A6,'data 1'!$A$2:$C$1430,2,FALSE) -> Lusk | C6: =VLOOKUP(A6,'data 1'!$A$2:$C$1430,3,FALSE) -> Kai Henshaw | D6: 17 | G6: 10 | J6: =SUM(D6:I6) -> 27
A7: 4135 | B7: =VLOOKUP(A7,'data 1'!$A$2:$C$1430,2,FALSE) -> Cabinteely | C7: =VLOOKUP(A7,'data 1'!$A$2:$C$1430,3,FALSE) -> Jan Mc Hugh | D7: 16 | G7: 10 | J7: =SUM(D7:I7) -> 26
A8: 4134 | B8: =VLOOKUP(A8,'data 1'!$A$2:$C$1430,2,FALSE) -> Cabinteely | C8: =VLOOKUP(A8,'data 1'!$A$2:$C$1430,3,FALSE) -> Ollie Mc Hugh | D8: 15 | G8: 10 | J8: =SUM(D8:I8) -> 25
A9: 1315 | B9: =VLOOKUP(A9,'data 1'!$A$2:$C$1430,2,FALSE) -> Lusk | C9: =VLOOKUP(A9,'data 1'!$A$2:$C$1430,3,FALSE) -> Nicolas Doyle | D9: 14 | G9: 10 | J9: =SUM(D9:I9) -> 24
A10: 1427 | B10: =VLOOKUP(A10,'data 1'!$A$2:$C$1430,2,FALSE) -> MSB | C10: =VLOOKUP(A10,'data 1'!$A$2:$C$1430,3,FALSE) -> Odhran O’Sullivan | D10: 13 | G10: 10 | J10: =SUM(D10:I10) -> 23
A11: 504 | B11: =VLOOKUP(A11,'data 1'!$A$2:$C$1430,2,FALSE) -> Celtic | C11: =VLOOKUP(A11,'data 1'!$A$2:$C$1430,3,FALSE) -> Senan Downes | D11: 12 | G11: 10 | J11: =SUM(D11:I11) -> 22
A12: 1234 | B12: =VLOOKUP(A12,'data 1'!$A$2:$C$1430,2,FALSE) -> Lucan | C12: =VLOOKUP(A12,'data 1'!$A$2:$C$1430,3,FALSE) -> Abbott Stephen | D12: 11 | G12: 10 | J12: =SUM(D12:I12) -> 21
A13: 4205 | B13: =VLOOKUP(A13,'data 1'!$A$2:$C$1430,2,FALSE) -> Cabinteely | C13: =VLOOKUP(A13,'data 1'!$A$2:$C$1430,3,FALSE) -> Tadhg Urell | D13: 10 | G13: 10 | J13: =SUM(D13:I13) -> 20
A14: 1999/24 | B14: =VLOOKUP(A14,'data 1'!$A$2:$C$1430,2,FALSE) -> Skerries | C14: =VLOOKUP(A14,'data 1'!$A$2:$C$1430,3,FALSE) -> Malachy Sexton | D14: 9 | G14: 10 | J14: =SUM(D14:I14) -> 19
A15: 1425 | B15: =VLOOKUP(A15,'data 1'!$A$2:$C$1430,2,FALSE) -> MSB | C15: =VLOOKUP(A15,'data 1'!$A$2:$C$1430,3,FALSE) -> Cian Sherlock | D15: 8 | G15: 10 | J15: =SUM(D15:I15) -> 18
A16: 219 | B16: =VLOOKUP(A16,'data 1'!$A$2:$C$1430,2,FALSE) -> Blackrock | C16: =VLOOKUP(A16,'data 1'!$A$2:$C$1430,3,FALSE) -> Senan Griffith | D16: 7 | G16: 10 | J16: =SUM(D16:I16) -> 17
A17: 2312 | B17: =VLOOKUP(A17,'data 1'!$A$2:$C$1430,2,FALSE) -> Crusaders | C17: =VLOOKUP(A17,'data 1'!$A$2:$C$1430,3,FALSE) -> Zach Monahan | D17: 6 | G17: 10 | J17: =SUM(D17:I17) -> 16
A18: 1433 | B18: =VLOOKUP(A18,'data 1'!$A$2:$C$1430,2,FALSE) -> MSB | C18: =VLOOKUP(A18,'data 1'!$A$2:$C$1430,3,FALSE) -> Jack Larkin | D18: 5 | G18: 10 | J18: =SUM(D18:I18) -> 15
A19: 600 | B19: =VLOOKUP(A19,'data 1'!$A$2:$C$1430,2,FALSE) -> Clonliffe | C19: =VLOOKUP(A19,'data 1'!$A$2:$C$1430,3,FALSE) -> Eric Scanlan | D19: 4 | G19: 10 | J19: =SUM(D19:I19) -> 14
A20: 1241 | B20: =VLOOKUP(A20,'data 1'!$A$2:$C$1430,2,FALSE) -> Lucan | C20: =VLOOKUP(A20,'data 1'!$A$2:$C$1430,3,FALSE) -> Scallan Senan | D20: 3 | G20: 10 | J20: =SUM(D20:I20) -> 13
A21: 2918 | B21: Clongriffin | C21: Ruben Casey | D21: 2 | G21: 10 | J21: =SUM(D21:I21) -> 12
A22: 1301 | B22: =VLOOKUP(A22,'data 1'!$A$2:$C$1430,2,FALSE) -> Lusk | C22: =VLOOKUP(A22,'data 1'!$A$2:$C$1430,3,FALSE) -> Luke Rigney | D22: 1 | G22: 10 | J22: =SUM(D22:I22) -> 11
A23: 705 | B23: Donore | C23: Bobby Farrell | G23: 10 | J23: =SUM(D23:I23) -> 10
A24: 1318 | B24: =VLOOKUP(A24,'data 1'!$A$2:$C$1430,2,FALSE) -> Lusk | C24: =VLOOKUP(A24,'data 1'!$A$2:$C$1430,3,FALSE) -> Peter Ryan | G24: 10 | J24: =SUM(D24:I24) -> 10
A25: 1703 | B25: =VLOOKUP(A25,'data 1'!$A$2:$C$1430,2,FALSE) -> Raheny | C25: =VLOOKUP(A25,'data 1'!$A$2:$C$1430,3,FALSE) -> Cian Cooney | G25: 10 | J25: =SUM(D25:I25) -> 10
A26: 601 | B26: =VLOOKUP(A26,'data 1'!$A$2:$C$1430,2,FALSE) -> Clonliffe | C26: =VLOOKUP(A26,'data 1'!$A$2:$C$1430,3,FALSE) -> Finn Mc Gurren | G26: 10 | J26: =SUM(D26:I26) -> 10
A27: 706 | B27: Donore | C27: Micahel McCarthy | G27: 10 | J27: =SUM(D27:I27) -> 10
A28: 1602 | B28: =VLOOKUP(A28,'data 1'!$A$2:$C$1430,2,FALSE) -> Portmarnock | C28: =VLOOKUP(A28,'data 1'!$A$2:$C$1430,3,FALSE) -> Myles Duffy | G28: 10 | J28: =SUM(D28:I28) -> 10
A29: 213 | B29: =VLOOKUP(A29,'data 1'!$A$2:$C$1430,2,FALSE) -> Blackrock | C29: =VLOOKUP(A29,'data 1'!$A$2:$C$1430,3,FALSE) -> James Buckley | G29: 10 | J29: =SUM(D29:I29) -> 10
A30: 342 | B30: =VLOOKUP(A30,'data 1'!$A$2:$C$1430,2,FALSE) -> Bros Pearse | C30: =VLOOKUP(A30,'data 1'!$A$2:$C$1430,3,FALSE) -> James Kelly | G30: 10 | J30: =SUM(D30:I30) -> 10
A31: 604 | B31: =VLOOKUP(A31,'data 1'!$A$2:$C$1430,2,FALSE) -> Clonliffe | C31: =VLOOKUP(A31,'data 1'!$A$2:$C$1430,3,FALSE) -> Oisin Behan Daly | G31: 10 | J31: =SUM(D31:I31) -> 10
A32: 1429 | B32: =VLOOKUP(A32,'data 1'!$A$2:$C$1430,2,FALSE) -> MSB | C32: =VLOOKUP(A32,'data 1'!$A$2:$C$1430,3,FALSE) -> Eoghan McCoy | G32: 10 | J32: =SUM(D32:I32) -> 10
A33: 2602 | B33: =VLOOKUP(A33,'data 1'!$A$2:$C$1430,2,FALSE) -> Rathcoole | C33: =VLOOKUP(A33,'data 1'!$A$2:$C$1430,3,FALSE) -> Patrick Towey | G33: 10 | J33: =SUM(D33:I33) -> 10
A34: 1827 | B34: =VLOOKUP(A34,'data 1'!$A$2:$C$1430,2,FALSE) -> Rathfarnham | C34: =VLOOKUP(A34,'data 1'!$A$2:$C$1430,3,FALSE) -> Rebecca Connolly | G34: 10 | J34: =SUM(D34:I34) -> 10
A35: 1706 | B35: =VLOOKUP(A35,'data 1'!$A$2:$C$1430,2,FALSE) -> Raheny | C35: =VLOOKUP(A35,'data 1'!$A$2:$C$1430,3,FALSE) -> Joshua Carroll | G35: 10 | J35: =SUM(D35:I35) -> 10
A36: 606 | B36: =VLOOKUP(A36,'data 1'!$A$2:$C$1430,2,FALSE) -> Clonliffe | C36: =VLOOKUP(A36,'data 1'!$A$2:$C$1430,3,FALSE) -> Sebastian Pierce | G36: 10 | J36: =SUM(D36:I36) -> 10
A37: 605 | B37: =VLOOKUP(A37,'data 1'!$A$2:$C$1430,2,FALSE) -> Clonliffe | C37: =VLOOKUP(A37,'data 1'!$A$2:$C$1430,3,FALSE) -> Rhys Daly | G37: 10 | J37: =SUM(D37:I37) -> 10
A38: 1326 | B38: =VLOOKUP(A38,'data 1'!$A$2:$C$1430,2,FALSE) -> Lusk | C38: =VLOOKUP(A38,'data 1'!$A$2:$C$1430,3,FALSE) -> Eoin Reinhardt | G38: 10 | J38: =SUM(D38:I38) -> 10
A39: 1240 | B39: =VLOOKUP(A39,'data 1'!$A$2:$C$1430,2,FALSE) -> Lucan | C39: =VLOOKUP(A39,'data 1'!$A$2:$C$1430,3,FALSE) -> Power Milo | G39: 10 | J39: =SUM(D39:I39) -> 10
... A45: 1238 | B45: =VLOOKUP(A45,'data 1'!$A$2:$C$1430,2,FALSE) -> Lucan | C45: =VLOOKUP(A45,'data 1'!$A$2:$C$1430,3,FALSE) -> Finlay Michael | G45: 10 | J45: =SUM(D45:I45) -> 10
...

Sheet Boys U9
D1: League 1 | E1: League 2 | F1: League 3 | G1: Bonus | H1: Bonus | I1: Bonus | J1: Total
A2: No | B2: Name | C2: Club | G2: Points 1 | H2: Points 2 | I2: Points 2 | J2: Points
A3: 1999/28 | B3: =VLOOKUP(A3,'data 1'!$A$2:$C$1430,2,FALSE) -> Skerries | C3: =VLOOKUP(A3,'data 1'!$A$2:$C$1430,3,FALSE) -> Max Quinn | D3: 21 | G3: 10 | J3: =SUM(D3:I3) -> 31
A4: 1436 | B4: =VLOOKUP(A4,'data 1'!$A$2:$C$1430,2,FALSE) -> MSB | C4: =VLOOKUP(A4,'data 1'!$A$2:$C$1430,3,FALSE) -> Aidan Ryan | D4: 19 | G4: 10 | J4: =SUM(D4:I4) -> 29
A5: 1439 | B5: =VLOOKUP(A5,'data 1'!$A$2:$C$1430,2,FALSE) -> MSB | C5: =VLOOKUP(A5,'data 1'!$A$2:$C$1430,3,FALSE) -> Rían McCarthy | D5: 18 | G5: 10 | J5: =SUM(D5:I5) -> 28
A6: 1212 | B6: =VLOOKUP(A6,'data 1'!$A$2:$C$1430,2,FALSE) -> Lucan | C6: =VLOOKUP(A6,'data 1'!$A$2:$C$1430,3,FALSE) -> Abbott David | D6: 17 | G6: 10 | J6: =SUM(D6:I6) -> 27
A7: 1701 | B7: =VLOOKUP(A7,'data 1'!$A$2:$C$1430,2,FALSE) -> Raheny | C7: =VLOOKUP(A7,'data 1'!$A$2:$C$1430,3,FALSE) -> Ben Synott | D7: 16 | G7: 10 | J7: =SUM(D7:I7) -> 26
A8: 2304 | B8: =VLOOKUP(A8,'data 1'!$A$2:$C$1430,2,FALSE) -> Crusaders | C8: =VLOOKUP(A8,'data 1'!$A$2:$C$1430,3,FALSE) -> Rian Healy | D8: 15 | G8: 10 | J8: =SUM(D8:I8) -> 25
A9: 1219 | B9: =VLOOKUP(A9,'data 1'!$A$2:$C$1430,2,FALSE) -> Lucan | C9: =VLOOKUP(A9,'data 1'!$A$2:$C$1430,3,FALSE) -> Smith Charlie | D9: 14 | G9: 10 | J9: =SUM(D9:I9) -> 24
A10: 1214 | B10: =VLOOKUP(A10,'data 1'!$A$2:$C$1430,2,FALSE) -> Lucan | C10: =VLOOKUP(A10,'data 1'!$A$2:$C$1430,3,FALSE) -> Coleman Daire | D10: 13 | G10: 10 | J10: =SUM(D10:I10) -> 23
A11: 1446 | B11: =VLOOKUP(A11,'data 1'!$A$2:$C$1430,2,FALSE) -> MSB | C11: =VLOOKUP(A11,'data 1'!$A$2:$C$1430,3,FALSE) -> Louis O’Flynn | D11: 12 | G11: 10 | J11: =SUM(D11:I11) -> 22
A12: 201 | B12: =VLOOKUP(A12,'data 1'!$A$2:$C$1430,2,FALSE) -> Blackrock | C12: =VLOOKUP(A12,'data 1'!$A$2:$C$1430,3,FALSE) -> Darragh Greenan | D12: 11 | G12: 10 | J12: =SUM(D12:I12) -> 21
A13: 1437 | B13: =VLOOKUP(A13,'data 1'!$A$2:$C$1430,2,FALSE) -> MSB | C13: =VLOOKUP(A13,'data 1'!$A$2:$C$1430,3,FALSE) -> Zach Birmingham | D13: 10 | G13: 10 | J13: =SUM(D13:I13) -> 20
A14: 1213 | B14: =VLOOKUP(A14,'data 1'!$A$2:$C$1430,2,FALSE) -> Lucan | C14: =VLOOKUP(A14,'data 1'!$A$2:$C$1430,3,FALSE) -> Bastable Paul | D14: 9 | G14: 10 | J14: =SUM(D14:I14) -> 19
A15: 1447 | B15: =VLOOKUP(A15,'data 1'!$A$2:$C$1430,2,FALSE) -> MSB | C15: =VLOOKUP(A15,'data 1'!$A$2:$C$1430,3,FALSE) -> Fionn Kelly | D15: 8 | G15: 10 | J15: =SUM(D15:I15) -> 18
... A18: 1445 | B18: =VLOOKUP(A18,'data 1'!$A$2:$C$1430,2,FALSE) -> MSB | C18: =VLOOKUP(A18,'data 1'!$A$2:$C$1430,3,FALSE) -> Eoin White | D18: 5 | G18: 10 | J18: =SUM(D18:I18) -> 15
A19: 600/71 | B19: =VLOOKUP(A19,'data 1'!$A$2:$C$1430,2,FALSE) -> Clonliffe | C19: =VLOOKUP(A19,'data 1'!$A$2:$C$1430,3,FALSE) -> Xavier Moss | D19: 4 | G19: 10 | J19: =SUM(D19:I19) -> 14
A20: 1441 | B20: =VLOOKUP(A20,'data 1'!$A$2:$C$1430,2,FALSE) -> MSB | C20: =VLOOKUP(A20,'data 1'!$A$2:$C$1430,3,FALSE) -> Daniel Kelly | D20: 3 | G20: 10 | J20: =SUM(D20:I20) -> 13
A21: 2920 | B21: Clongriffin | C21: Quinn O'Dwyer | D21: 2 | G21: 10 | J21: =SUM(D21:I21) -> 12
A22: 1438 | B22: =VLOOKUP(A22,'data 1'!$A$2:$C$1430,2,FALSE) -> MSB | C22: =VLOOKUP(A22,'data 1'!$A$2:$C$1430,3,FALSE) -> Tom Cooper | D22: 1 | G22: 10 | J22: =SUM(D22:I22) -> 11
A23: 704 | B23: Donore | C23: Ruari Quinn | G23: 10 | J23: =SUM(D23:I23) -> 10
A24: 703 | B24: Donore | C24: Eli Henley-Willis | G24: 10 | J24: =SUM(D24:I24) -> 10
A25: 1999/48 | B25: =VLOOKUP(A25,'data 1'!$A$2:$C$1430,2,FALSE) -> Skerries | C25: =VLOOKUP(A25,'data 1'!$A$2:$C$1430,3,FALSE) -> Rory Daly | G25: 10 | J25: =SUM(D25:I25) -> 10
A26: 202 | B26: =VLOOKUP(A26,'data 1'!$A$2:$C$1430,2,FALSE) -> Blackrock | C26: =VLOOKUP(A26,'data 1'!$A$2:$C$1430,3,FALSE) -> Evan O’Farrell | G26: 10 | J26: =SUM(D26:I26) -> 10
A27: 1310 | B27: =VLOOKUP(A27,'data 1'!$A$2:$C$1430,2,FALSE) -> Lusk | C27: =VLOOKUP(A27,'data 1'!$A$2:$C$1430,3,FALSE) -> James Moore | G27: 10 | J27: =SUM(D27:I27) -> 10
A28: 1308 | B28: =VLOOKUP(A28,'data 1'!$A$2:$C$1430,2,FALSE) -> Lusk | C28: =VLOOKUP(A28,'data 1'!$A$2:$C$1430,3,FALSE) -> Ethan Lakoma | G28: 10 | J28: =SUM(D28:I28) -> 10
A29: 1302 | B29: =VLOOKUP(A29,'data 1'!$A$2:$C$1430,2,FALSE) -> Lusk | C29: =VLOOKUP(A29,'data 1'!$A$2:$C$1430,3,FALSE) -> Nathan Krysiak | G29: 10 | J29: =SUM(D29:I29) -> 10
A30: 205 | B30: =VLOOKUP(A30,'data 1'!$A$2:$C$1430,2,FALSE) -> Blackrock | C30: =VLOOKUP(A30,'data 1'!$A$2:$C$1430,3,FALSE) -> Matthew murphy | G30: 10 | J30: =SUM(D30:I30) -> 10
A31: 1306 | B31: =VLOOKUP(A31,'data 1'!$A$2:$C$1430,2,FALSE) -> Lusk | C31: =VLOOKUP(A31,'data 1'!$A$2:$C$1430,3,FALSE) -> Sam Keegan Blair | G31: 10 | J31: =SUM(D31:I31) -> 10
A32: 1440 | B32: =VLOOKUP(A32,'data 1'!$A$2:$C$1430,2,FALSE) -> MSB | C32: =VLOOKUP(A32,'data 1'!$A$2:$C$1430,3,FALSE) -> Rowan Larkin | G32: 10 | J32: =SUM(D32:I32) -> 10
A33: 1101 | B33: =VLOOKUP(A33,'data 1'!$A$2:$C$1430,2,FALSE) -> LSA | C33: =VLOOKUP(A33,'data 1'!$A$2:$C$1430,3,FALSE) -> Daniel Cashin | G33: 10 | J33: =SUM(D33:I33) -> 10
A34: 1218 | B34: =VLOOKUP(A34,'data 1'!$A$2:$C$1430,2,FALSE) -> Lucan | C34: =VLOOKUP(A34,'data 1'!$A$2:$C$1430,3,FALSE) -> Ryan Evan | G34: 10 | J34: =SUM(D34:I34) -> 10
A35: 203 | B35: =VLOOKUP(A35,'data 1'!$A$2:$C$1430,2,FALSE) -> Blackrock | C35: =VLOOKUP(A35,'data 1'!$A$2:$C$1430,3,FALSE) -> Jeremy Conway | G35: 10 | J35: =SUM(D35:I35) -> 10
A36: 600/69 | B36: =VLOOKUP(A36,'data 1'!$A$2:$C$1430,2,FALSE) -> Clonliffe | C36: =VLOOKUP(A36,'data 1'!$A$2:$C$1430,3,FALSE) -> Joshua Daly | G36: 10 | J36: =SUM(D36:I36) -> 10
A37: 1443 | B37: =VLOOKUP(A37,'data 1'!$A$2:$C$1430,2,FALSE) -> MSB | C37: =VLOOKUP(A37,'data 1'!$A$2:$C$1430,3,FALSE) -> Cian Doran | G37: 10 | J37: =SUM(D37:I37) -> 10
A38: 305 | B38: =VLOOKUP(A38,'data 1'!$A$2:$C$1430,2,FALSE) -> Bros Pearse | C38: =VLOOKUP(A38,'data 1'!$A$2:$C$1430,3,FALSE) -> Maitiú Ó Murchú | G38: 10 | J38: =SUM(D38:I38) -> 10
A39: 600/68 | B39: =VLOOKUP(A39,'data 1'!$A$2:$C$1430,2,FALSE) -> Clonliffe | C39: =VLOOKUP(A39,'data 1'!$A$2:$C$1430,3,FALSE) -> Daniel Mc Donald | G39: 10 | J39: =SUM(D39:I39) -> 10
A40: 1999/46 | B40: =VLOOKUP(A40,'data 1'!$A$2:$C$1430,2,FALSE) -> Skerries | C40: =VLOOKUP(A40,'data 1'!$A$2:$C$1430,3,FALSE) -> Robert Murphy | G40: 10 | J40: =SUM(D40:I40) -> 10
A41: 207 | B41: =VLOOKUP(A41,'data 1'!$A$2:$C$1430,2,FALSE) -> Blackrock | C41: =VLOOKUP(A41,'data 1'!$A$2:$C$1430,3,FALSE) -> Sean Hanniffy | G41: 10 | J41: =SUM(D41:I41) -> 10
A42: 1442 | B42: =VLOOKUP(A42,'data 1'!$A$2:$C$1430,2,FALSE) -> MSB | C42: =VLOOKUP(A42,'data 1'!$A$2:$C$1430,3,FALSE) -> Tom Mullins | G42: 10 | J42: =SUM(D42:I42) -> 10
...

Sheet Girls U19
D1: League 1 | E1: League 2 | F1: League 3 | G1: Bonus | H1: Bonus | I1: Bonus | J1: Total
A2: No | B2: Club | C2: Name | G2: Points 1 | H2: Points 2 | I2: Points 2 | J2: Points
A3: 579 | B3: =VLOOKUP(A3,'data 1'!$A$2:$C$1430,2,FALSE) -> Celtic | C3: =VLOOKUP(A3,'data 1'!$A$2:$C$1430,3,FALSE) -> Clare O connor | D3: 21 | G3: 10 | J3: =SUM(D3:I3) -> 31
A4: 2700 | B4: =VLOOKUP(A4,'data 1'!$A$2:$C$1430,2,FALSE) -> Marino | C4: =VLOOKUP(A4,'data 1'!$A$2:$C$1430,3,FALSE) -> Sofia Fox | D4: 19 | G4: 10 | J4: =SUM(D4:I4) -> 29
J5: =SUM(D5:I5) -> 0
J6: =SUM(D6:I6) -> 0
J7: =SUM(D7:I7) -> 0
J8: =SUM(D8:I8) -> 0
J9: =SUM(D9:I9) -> 0
J10: =SUM(D10:I10) -> 0
J11: =SUM(D11:I11) -> 0
J12: =SUM(D12:I12) -> 0
J13: =SUM(D13:I13) -> 0
J14: =SUM(D14:I14) -> 0
J15: =SUM(D15:I15) -> 0
J16: =SUM(D16:I16) -> 0
... J86: =SUM(D86:I86) -> 0

Sheet Girls U18
D1: League 1 | E1: League 2 | F1: League 3 | G1: Bonus | H1: Bonus | I1: Bonus | J1: Total
A2: No | B2: Club | C2: Name | G2: Points 1 | H2: Points 2 | I2: Points 2 | J2: Points
A3: 1299/32 | B3: =VLOOKUP(A3,'data 1'!$A$2:$C$1430,2,FALSE) -> Lucan | C3: =VLOOKUP(A3,'data 1'!$A$2:$C$1430,3,FALSE) -> Noctor Eve Marie | D3: 21 | G3: 10 | J3: =SUM(D3:I3) -> 31
A4: 575 | B4: =VLOOKUP(A4,'data 1'!$A$2:$C$1430,2,FALSE) -> Celtic | C4: =VLOOKUP(A4,'data 1'!$A$2:$C$1430,3,FALSE) -> Cliodhna Ryan | D4: 19 | G4: 10 | J4: =SUM(D4:I4) -> 29
A5: 1851 | B5: =VLOOKUP(A5,'data 1'!$A$2:$C$1430,2,FALSE) -> Rathfarnham | C5: =VLOOKUP(A5,'data 1'!$A$2:$C$1430,3,FALSE) -> Edel McCreery | D5: 18 | G5: 10 | J5: =SUM(D5:I5) -> 28
A6: 299 | B6: Blackrock | C6: Eva McCann | D6: 17 | G6: 10 | J6: =SUM(D6:I6) -> 27
A7: 837 | B7: =VLOOKUP(A7,'data 1'!$A$2:$C$1430,2,FALSE) -> DSD | C7: =VLOOKUP(A7,'data 1'!$A$2:$C$1430,3,FALSE) -> Ciara Wilson Bowan | D7: 16 | G7: 10 | J7: =SUM(D7:I7) -> 26
J8: =SUM(D8:I8) -> 0
J9: =SUM(D9:I9) -> 0
J10: =SUM(D10:I10) -> 0
J11: =SUM(D11:I11) -> 0
J12: =SUM(D12:I12) -> 0
J13: =SUM(D13:I13) -> 0
J14: =SUM(D14:I14) -> 0
J15: =SUM(D15:I15) -> 0
J16: =SUM(D16:I16) -> 0
J17: =SUM(D17:I17) -> 0
J18: =SUM(D18:I18) -> 0
J19: =SUM(D19:I19) -> 0
... J86: =SUM(D86:I86) -> 0

Sheet Girls U17
D1: League 1 | E1: League 2 | F1: League 3 | G1: Bonus | H1: Bonus | I1: Bonus | J1: Total
A2: No | B2: Club | C2: Name | G2: Points 1 | H2: Points 2 | I2: Points 2 | J2: Points
A3: 1299/27 | B3: =VLOOKUP(A3,'data 1'!$A$2:$C$1430,2,FALSE) -> Lucan | C3: =VLOOKUP(A3,'data 1'!$A$2:$C$1430,3,FALSE) -> Fitzpatrick Aisling | D3: 21 | G3: 10 | J3: =SUM(D3:I3) -> 31
A4: 1331 | B4: =VLOOKUP(A4,'data 1'!$A$2:$C$1430,2,FALSE) -> Lusk | C4: =VLOOKUP(A4,'data 1'!$A$2:$C$1430,3,FALSE) -> Maria Ferguson | D4: 19 | G4: 10 | J4: =SUM(D4:I4) -> 29
A5: 1807 | B5: =VLOOKUP(A5,'data 1'!$A$2:$C$1430,2,FALSE) -> Rathfarnham | C5: =VLOOKUP(A5,'data 1'!$A$2:$C$1430,3,FALSE) -> Ciara Murphy | D5: 18 | G5: 10 | J5: =SUM(D5:I5) -> 28
A6: 2007 | B6: =VLOOKUP(A6,'data 1'!$A$2:$C$1430,2,FALSE) -> Tallaght | C6: =VLOOKUP(A6,'data 1'!$A$2:$C$1430,3,FALSE) -> Matthew McHugh | D6: 17 | G6: 10 | J6: =SUM(D6:I6) -> 27
J7: =SUM(D7:I7) -> 0
J8: =SUM(D8:I8) -> 0
J9: =SUM(D9:I9) -> 0
J10: =SUM(D10:I10) -> 0
J11: =SUM(D11:I11) -> 0
J12: =SUM(D12:I12) -> 0
J13: =SUM(D13:I13) -> 0
J14: =SUM(D14:I14) -> 0
J15: =SUM(D15:I15) -> 0
J16: =SUM(D16:I16) -> 0
J17: =SUM(D17:I17) -> 0
J18: =SUM(D18:I18) -> 0
... J86: =SUM(D86:I86) -> 0

Sheet Girls U16
D1: League 1 | E1: League 2 | F1: League 3 | G1: Bonus | H1: Bonus | I1: Bonus | J1: Total
A2: No | B2: Club | C2: Name | G2: Points 1 | H2: Points 2 | I2: Points 2 | J2: Points
A3: 736 | B3: Donore | C3: Lorraine O'Connor | D3: 21 | G3: 10 | J3: =SUM(D3:I3) -> 31
A4: 1299/21 | B4: =VLOOKUP(A4,'data 1'!$A$2:$C$1430,2,FALSE) -> Lucan | C4: =VLOOKUP(A4,'data 1'!$A$2:$C$1430,3,FALSE) -> Fitzgerald Saoirse | D4: 19 | G4: 10 | J4: =SUM(D4:I4) -> 29
A5: 1299/20 | B5: =VLOOKUP(A5,'data 1'!$A$2:$C$1430,2,FALSE) -> Lucan | C5: =VLOOKUP(A5,'data 1'!$A$2:$C$1430,3,FALSE) -> Cuffe Isabel | D5: 18 | G5: 10 | J5: =SUM(D5:I5) -> 28
A6: 735 | B6: Donore | C6: Julie Cleary | D6: 17 | G6: 10 | J6: =SUM(D6:I6) -> 27
A7: 737 | B7: Donore | C7: Eva Crowe | D7: 16 | G7: 10 | J7: =SUM(D7:I7) -> 26
A8: 600/62 | B8: =VLOOKUP(A8,'data 1'!$A$2:$C$1430,2,FALSE) -> Clonliffe | C8: =VLOOKUP(A8,'data 1'!$A$2:$C$1430,3,FALSE) -> Ciara Sheedy | D8: 15 | G8: 10 | J8: =SUM(D8:I8) -> 25
A9: 734 | B9: Donore | C9: Eden Brangan Walsh | D9: 14 | G9: 10 | J9: =SUM(D9:I9) -> 24
A10: 1299/23 | B10: =VLOOKUP(A10,'data 1'!$A$2:$C$1430,2,FALSE) -> Lucan | C10: =VLOOKUP(A10,'data 1'!$A$2:$C$1430,3,FALSE) -> Ní Bhuachalla Sadhbh | D10: 13 | G10: 10 | J10: =SUM(D10:I10) -> 23
A11: 1874 | B11: =VLOOKUP(A11,'data 1'!$A$2:$C$1430,2,FALSE) -> Rathfarnham | C11: =VLOOKUP(A11,'data 1'!$A$2:$C$1430,3,FALSE) -> Jodie Richie | D11: 12 | G11: 10 | J11: =SUM(D11:I11) -> 22
A12: 600/65 | B12: =VLOOKUP(A12,'data 1'!$A$2:$C$1430,2,FALSE) -> Clonliffe | C12: =VLOOKUP(A12,'data 1'!$A$2:$C$1430,3,FALSE) -> Mya O Reilly | D12: 11 | G12: 10 | J12: =SUM(D12:I12) -> 21
A13: 1990 | B13: =VLOOKUP(A13,'data 1'!$A$2:$C$1430,2,FALSE) -> Skerries | C13: =VLOOKUP(A13,'data 1'!$A$2:$C$1430,3,FALSE) -> Joely Kennedy | D13: 10 | G13: 10 | J13: =SUM(D13:I13) -> 20
A14: 600/66 | B14: =VLOOKUP(A14,'data 1'!$A$2:$C$1430,2,FALSE) -> Clonliffe | C14: =VLOOKUP(A14,'data 1'!$A$2:$C$1430,3,FALSE) -> Rebecca Walsh | D14: 9 | G14: 10 | J14: =SUM(D14:I14) -> 19
A15: 1494 | B15: =VLOOKUP(A15,'data 1'!$A$2:$C$1430,2,FALSE) -> MSB | C15: =VLOOKUP(A15,'data 1'!$A$2:$C$1430,3,FALSE) -> Leah O'Dwyer | D15: 8 | G15: 10 | J15: =SUM(D15:I15) -> 18
A16: 1299/22 | B16: =VLOOKUP(A16,'data 1'!$A$2:$C$1430,2,FALSE) -> Lucan | C16: =VLOOKUP(A16,'data 1'!$A$2:$C$1430,3,FALSE) -> Kilcullen Katherine | D16: 7 | G16: 10 | J16: =SUM(D16:I16) -> 17
A17: 1982 | B17: =VLOOKUP(A17,'data 1'!$A$2:$C$1430,2,FALSE) -> Skerries | C17: =VLOOKUP(A17,'data 1'!$A$2:$C$1430,3,FALSE) -> Isobel Davis | D17: 6 | G17: 10 | J17: =SUM(D17:I17) -> 16
A18: 298 | B18: Blackrock | C18: Olivia Gaughran | D18: 5 | G18: 10 | J18: =SUM(D18:I18) -> 15
A19: 1808 | B19: =VLOOKUP(A19,'data 1'!$A$2:$C$1430,2,FALSE) -> Rathfarnham | C19: =VLOOKUP(A19,'data 1'!$A$2:$C$1430,3,FALSE) -> Sarah Murphy | D19: 4 | G19: 10 | J19: =SUM(D19:I19) -> 14
A20: 297 | B20: =VLOOKUP(A20,'data 1'!$A$2:$C$1430,2,FALSE) -> Blackrock | C20: =VLOOKUP(A20,'data 1'!$A$2:$C$1430,3,FALSE) -> Charlotte Croke | D20: 3 | G20: 10 | J20: =SUM(D20:I20) -> 13
A21: 567 | B21: =VLOOKUP(A21,'data 1'!$A$2:$C$1430,2,FALSE) -> Celtic | D21: 2 | G21: 10 | J21: =SUM(D21:I21) -> 12
A22: 1299/24 | B22: =VLOOKUP(A22,'data 1'!$A$2:$C$1430,2,FALSE) -> Lucan | C22: =VLOOKUP(A22,'data 1'!$A$2:$C$1430,3,FALSE) -> Tomney Eilis | D22: 1 | G22: 10 | J22: =SUM(D22:I22) -> 11
A23: 842 | B23: =VLOOKUP(A23,'data 1'!$A$2:$C$1430,2,FALSE) -> DSD | C23: =VLOOKUP(A23,'data 1'!$A$2:$C$1430,3,FALSE) -> Olivia O'Carolan | G23: 10 | J23: =SUM(D23:I23) -> 10
A24: 600/58 | B24: =VLOOKUP(A24,'data 1'!$A$2:$C$1430,2,FALSE) -> Clonliffe | C24: =VLOOKUP(A24,'data 1'!$A$2:$C$1430,3,FALSE) -> Alexandra Rose Kelly | G24: 10 | J24: =SUM(D24:I24) -> 10
A25: 10 | B25: =VLOOKUP(A25,'data 1'!$A$2:$C$1430,2,FALSE) -> Balbriggan | C25: =VLOOKUP(A25,'data 1'!$A$2:$C$1430,3,FALSE) -> Jasmine Hughes | G25: 10 | J25: =SUM(D25:I25) -> 10
J26: =SUM(D26:I26) -> 0
J27: =SUM(D27:I27) -> 0
J28: =SUM(D28:I28) -> 0
J29: =SUM(D29:I29) -> 0
J30: =SUM(D30:I30) -> 0
J31: =SUM(D31:I31) -> 0
J32: =SUM(D32:I32) -> 0
J33: =SUM(D33:I33) -> 0
J34: =SUM(D34:I34) -> 0
J35: =SUM(D35:I35) -> 0
J36: =SUM(D36:I36) -> 0
J37: =SUM(D37:I37) -> 0
... J86: =SUM(D86:I86) -> 0

Sheet Girls U15
D1: League 1 | E1: League 2 | F1: League 3 | G1: Bonus | H1: Bonus | I1: Bonus | J1: Total
A2: No | B2: Club | C2: Name | G2: Points 1 | H2: Points 2 | I2: Points 2 | J2: Points
A3: 724 | B3: Donore | C3: Emily Bolton | D3: 21 | G3: 10 | J3: =SUM(D3:I3) -> 31
A4: 560 | B4: =VLOOKUP(A4,'data 1'!$A$2:$C$1430,2,FALSE) -> Celtic | C4: =VLOOKUP(A4,'data 1'!$A$2:$C$1430,3,FALSE) -> Goda Buivydyte | D4: 19 | G4: 10 | J4: =SUM(D4:I4) -> 29
A5: 1400/18 | B5: =VLOOKUP(A5,'data 1'!$A$2:$C$1430,2,FALSE) -> MSB | C5: =VLOOKUP(A5,'data 1'!$A$2:$C$1430,3,FALSE) -> Leia Ryan | D5: 18 | G5: 10 | J5: =SUM(D5:I5) -> 28
A6: 1739 | B6: =VLOOKUP(A6,'data 1'!$A$2:$C$1430,2,FALSE) -> Raheny | C6: =VLOOKUP(A6,'data 1'!$A$2:$C$1430,3,FALSE) -> Chloe Griffin | D6: 17 | G6: 10 | J6: =SUM(D6:I6) -> 27
A7: 300/33 | B7: =VLOOKUP(A7,'data 1'!$A$2:$C$1430,2,FALSE) -> Bros Pearse | C7: =VLOOKUP(A7,'data 1'!$A$2:$C$1430,3,FALSE) -> Leila Halpin | D7: 16 | G7: 10 | J7: =SUM(D7:I7) -> 26
A8: 1339 | B8: =VLOOKUP(A8,'data 1'!$A$2:$C$1430,2,FALSE) -> Lusk | C8: =VLOOKUP(A8,'data 1'!$A$2:$C$1430,3,FALSE) -> Sarah Burke | D8: 15 | G8: 10 | J8: =SUM(D8:I8) -> 25
A9: 1738 | B9: =VLOOKUP(A9,'data 1'!$A$2:$C$1430,2,FALSE) -> Raheny | C9: =VLOOKUP(A9,'data 1'!$A$2:$C$1430,3,FALSE) -> Cara Griffin | D9: 14 | G9: 10 | J9: =SUM(D9:I9) -> 24
A10: 843 | B10: =VLOOKUP(A10,'data 1'!$A$2:$C$1430,2,FALSE) -> DSD | C10: =VLOOKUP(A10,'data 1'!$A$2:$C$1430,3,FALSE) -> Alannah Giles | D10: 13 | G10: 10 | J10: =SUM(D10:I10) -> 23
